Workbook

Sheet Einleitung
C1: Rechner für die Emissionsfaktoren des zukünftigen Strommixes der Schweiz
B3: Einleitung | C3: Dieser Excelrechner dient dazu die Klima- und Umweltbelastung des Schweizer Strommix für die Jahre 2030, 2035, 2040 und 2050 zu berechnen. Dabei können die Menge, Szenarien und das Spannungslevel frei ausgewählt werden. Die Resultate dieses Rechners können anschliessend zur Planung und Kontrolle des Absenkspfades von Firmen innerhalb der Schweiz genutzt werden, wie sie beispielsweise im Rahmen des Bundesgesetz über die Ziele im Klimaschutz, die Innovation und die Stärkung der Energiesicherheit (KlG) gefordert werden.
C4: Zellen in grün können bearbeitet werden. Alle anderen Zellen sind für die Bearbeitung gesperrt.
B6: Auswahl Szenarien | C6: Im Rechner kann zwischen drei verschiedenen Szenarien ausgewählt werden. Alle stützen sich auf die Berechnungen im Rahmen der Energieperspektiven 2050+ des BFE: - Weiter wie bisher (WWB): Diese Szenario modelliert die Entwicklung, wie sie mit den bestehenden Massnahmen (Stand 2019) voraussichtlich umgesetzt wird. Ein gewisser technischer Fortschritt wird berücksichtigt. - Basisvariante (ZERO Basis): Grundlage ist die Zielsetzung des Bundesrates bis 2050 netto null Emissionen zu erreichen. Entsprechend geht dieses Szenario von einer möglichst frühen Elektrifizierung und Steigerung der Energieeffizienz aus. -> Das ZERO-Basis-Szenario ist das Referenzszenario für die Berechnung zukünftiger Emissionen. - Variante A (ZERO A): Geht im Unterschied zur Basisvariante von einer umfassenderen Elektrifizierung des Energiesystems aus. - Variante C (ZERO C): Geht im Unterschied zur Basisvariante nur von einer moderaten Elektrifizierung des Energiesystems aus.
B7: Auswahl Spannungslevel | C7: Es kann zwischen Niederspannung und Mittelspannung ausgewählt werden.
B8: Eingabe Strommenge | C8: Die Strommenge in kWh kann frei eingegeben. Sämtliche Berechnugen werden anschliessend mit diesem Wert durchgeführt. Standardmässig sind 1kWh eingestellt.
B9: Resultate | C9: Die Resultate werden sowohl tabellarisch als auch graphisch ausgegeben für die Jahre 2030, 2035, 2040 und 2050. Die Ergebnisse umfassen sowohl den Klimafussabdruck nach IPCC 2021 GWP 100 als auch den Umweltfussabdruck nach der Methode der ökologischen Knappheit 2021 in UPB. Neben dem Gesamtfussabdruck wird jeweils ausgewiesen, welcher Anteil aus der Produktion in der Schweiz stammt, welcher auf die Importe zurückzuführen ist und welcher Anteil aus Umwandlungsverlusten und der Übertragung stammt. Eine weitere Unterscheidung ist die Aufteilung in direkte Emissionen (Scope 2) und indirekte Emissionen (Scope 3) gemäss GHG Protocol.
B11: Methodik | C11: Eine ausführliche Beschreibung der Methodik findet sich im Hintergrundbericht «Emissionsfaktoren des zukünftigen Strommixes der Schweiz».
B12: Strommix | C12: Die Aufteilung der Stromproduktion auf die einzelnen Kraftwerksarten wurde aus den Modellrechnungen zu den Energieperspektiven 2050+ übernommen. Dabei wurde jeweils die Variante mit einer Laufzeit der Kernkraftwerke von 60 Jahren übernommen (KKW60). Für die Schweiz sowie die umliegenden Länder (Frankreich, Deutschland, Österreich und Italien) werden die Strommixe einzeln berechnet. Ein Durchschnittswert für Europa wurde aus den Modellrechnungen der EU (EU Reference Scenario) übernommen. Die Importe der Schweiz wurden basierend auf der stündlichen Modellierung aufgezählt. Die Aufteilung auf die umliegenden Länder wurde aus den Modellierungen von TYNDP übernommen.
B13: Hintergrunddaten | C13: Die Emissionsfaktoren für die einzelnen Kraftwerke wurden aus der BAFU-Datenbank 2025 übernommen. Für die Berechnung der Pumpspeicherwerke wurde berücksichtigt, dass jeweils nur der aktuelle Strommix verwendet wird.
B14: Bewertungsmethoden | C14: Der Klimafussabdruck wird in Gram CO2-Äquivalenten (CO2e) ausgewisen und nach den Faktoren in IPCC 2021 GWP 100a berechnet. Der Umweltfussabdruck wird in Umweltbelastungspunkten (UBP) angegeben und wurde nach der Methode der ökologischen Knappheit 2021 berechnet.
B15: Unsicherheiten | C15: Es muss betont werden, dass es sich bei den Berechnungen im Rahmen der Energieperspektiven 2050+ um mögliche Entwicklungspfade für die Zukunft handelt. Diese sind inhärent mit einer grossen Unsicherheit behaftet, da die tatsächliche Entwicklung der Zusammensetzung des Schweizer Strommixes in der Zukunft von einer Vielzahl an Faktoren abhängig ist, allen voran von den politischen Zielsetzungen, dem Umfang der Elektrifizierung und dem technischen Fortschritt. Entsprechend sind die hier dargestellten Resulate als bestmögliche Abschätzung der zukünftigen Umweltauswirkungen zu verstehen.
B16: Abkürzungen | C16: AT: Österreich CH: Schweiz DE: Deutschland FR: Frankreich IT: Italien MöK 2021: Methode der ökologischen Knappheit 2021 RER: Europa (Region of Europe) UBP: Umweltbelastungspunkte
B18: Kontakt | C18: lca@bafu.admin.ch
B20: Autoren | C20: Mischa Zschokke & Gavin Roberts, Carbotech AG
C21: Quellen
C22: Bundesamt für Energie BFE (2022). Energieperspektiven 2050+.
C23: TYNDP. ENTSO-E & ENTSOG TYNDP 2024 Scenarios

Sheet Rechner
B2: Auswahl Szenario | C2: Weiter wie bisher (WWB) | D2: → Das ZERO-Basis-Szenario ist das Referenzszenario für die Berechnung zukünftiger Emissionen.
B3: Spannung | C3: Niederspannung
B4: Eingabe Strommenge | C4: 1 | D4: kWh
B7: Menge | C7: Emissionsfaktoren | D7: 2030 | E7: 2035 | F7: 2040 | G7: 2050 | H7: Einheit
B8: =CONCATENATE(C$4," kWh = ") -> 1 kWh = | C8: Total Klimabelastung | D8: =SUM(D10:D12) -> 67.112015 | E8: =SUM(E10:E12) -> 70.806985 | F8: =SUM(F10:F12) -> 74.232067 | G8: =SUM(G10:G12) -> 78.773726 | H8: g CO2e
C9: Nach Herkunft:
C10: Produktion Schweiz | D10: =$C$4*1000*(HLOOKUP($C$2&D$7&"CH",Strommix!$D$7:$CS$200,45,0)+HLOOKUP($C$2&D$7&"CH",Strommix!$D$7:$CS$200,67,0))-D11 -> 23.661023 | E10: =$C$4*1000*(HLOOKUP($C$2&E$7&"CH",Strommix!$D$7:$CS$200,45,0)+HLOOKUP($C$2&E$7&"CH",Strommix!$D$7:$CS$200,67,0))-E11 -> 23.867876 | F10: =$C$4*1000*(HLOOKUP($C$2&F$7&"CH",Strommix!$D$7:$CS$200,45,0)+HLOOKUP($C$2&F$7&"CH",Strommix!$D$7:$CS$200,67,0))-F11 -> 25.862838 | G10: =$C$4*1000*(HLOOKUP($C$2&G$7&"CH",Strommix!$D$7:$CS$200,45,0)+HLOOKUP($C$2&G$7&"CH",Strommix!$D$7:$CS$200,67,0))-G11 -> 30.841466 | H10: g CO2e
C11: Importe | D11: =$C$4*1000*(HLOOKUP($C$2&D$7&"CH",Strommix!$D$7:$CS$200,44,0)+HLOOKUP($C$2&D$7&"CH",Strommix!$D$7:$CS$200,66,0)) -> 31.284085 | E11: =$C$4*1000*(HLOOKUP($C$2&E$7&"CH",Strommix!$D$7:$CS$200,44,0)+HLOOKUP($C$2&E$7&"CH",Strommix!$D$7:$CS$200,66,0)) -> 34.458477 | F11: =$C$4*1000*(HLOOKUP($C$2&F$7&"CH",Strommix!$D$7:$CS$200,44,0)+HLOOKUP($C$2&F$7&"CH",Strommix!$D$7:$CS$200,66,0)) -> 35.626476 | G11: =$C$4*1000*(HLOOKUP($C$2&G$7&"CH",Strommix!$D$7:$CS$200,44,0)+HLOOKUP($C$2&G$7&"CH",Strommix!$D$7:$CS$200,66,0)) -> 34.898485 | H11: g CO2e
C12: Übertragung und Verluste | D12: =IF($C$3="Mittelspannung",$C$4*1000*HLOOKUP($C$2&D$7&"CH",Strommix!$D$7:$CS$200,68,0),$C$4*1000*HLOOKUP($C$2&D$7&"CH",Strommix!$D$7:$CS$200,69,0)) -> 12.166907 | E12: =IF($C$3="Mittelspannung",$C$4*1000*HLOOKUP($C$2&E$7&"CH",Strommix!$D$7:$CS$200,68,0),$C$4*1000*HLOOKUP($C$2&E$7&"CH",Strommix!$D$7:$CS$200,69,0)) -> 12.480632 | F12: =IF($C$3="Mittelspannung",$C$4*1000*HLOOKUP($C$2&F$7&"CH",Strommix!$D$7:$CS$200,68,0),$C$4*1000*HLOOKUP($C$2&F$7&"CH",Strommix!$D$7:$CS$200,69,0)) -> 12.742752 | G12: =IF($C$3="Mittelspannung",$C$4*1000*HLOOKUP($C$2&G$7&"CH",Strommix!$D$7:$CS$200,68,0),$C$4*1000*HLOOKUP($C$2&G$7&"CH",Strommix!$D$7:$CS$200,69,0)) -> 13.033775 | H12: g CO2e
C13: Nach Scope:
C14: Direkte Emissionen | D14: =$C$4*1000*(HLOOKUP($C$2&D$7&"CH",Strommix!$D$7:$CS$200,45,0)) -> 36.448108 | E14: =$C$4*1000*(HLOOKUP($C$2&E$7&"CH",Strommix!$D$7:$CS$200,45,0)) -> 45.41632 | F14: =$C$4*1000*(HLOOKUP($C$2&F$7&"CH",Strommix!$D$7:$CS$200,45,0)) -> 48.11213 | G14: =$C$4*1000*(HLOOKUP($C$2&G$7&"CH",Strommix!$D$7:$CS$200,45,0)) -> 50.892597 | H14: g CO2e
C15: Indirekte Emissionen | D15: =$C$4*1000*(HLOOKUP($C$2&D$7&"CH",Strommix!$D$7:$CS$200,67,0))+D12 -> 30.663907 | E15: =$C$4*1000*(HLOOKUP($C$2&E$7&"CH",Strommix!$D$7:$CS$200,67,0))+E12 -> 25.390665 | F15: =$C$4*1000*(HLOOKUP($C$2&F$7&"CH",Strommix!$D$7:$CS$200,67,0))+F12 -> 26.119937 | G15: =$C$4*1000*(HLOOKUP($C$2&G$7&"CH",Strommix!$D$7:$CS$200,67,0))+G12 -> 27.881129 | H15: g CO2e
C17: Total Umweltbelastung | D17: =SUM(D19:D21) -> 326.59401 | E17: =SUM(E19:E21) -> 304.95234 | F17: =SUM(F19:F21) -> 238.51324 | G17: =SUM(G19:G21) -> 156.90891 | H17: UBP
C18: Nach Herkunft:
C19: Produktion Schweiz | D19: =$C$4*(HLOOKUP($C$2&D$7&"CH",Strommix!$D$7:$CS$200,91,0)+HLOOKUP($C$2&D$7&"CH",Strommix!$D$7:$CS$200,113,0))-D20 -> 171.07119 | E19: =$C$4*(HLOOKUP($C$2&E$7&"CH",Strommix!$D$7:$CS$200,91,0)+HLOOKUP($C$2&E$7&"CH",Strommix!$D$7:$CS$200,113,0))-E20 -> 148.37897 | F19: =$C$4*(HLOOKUP($C$2&F$7&"CH",Strommix!$D$7:$CS$200,91,0)+HLOOKUP($C$2&F$7&"CH",Strommix!$D$7:$CS$200,113,0))-F20 -> 106.14676 | G19: =$C$4*(HLOOKUP($C$2&G$7&"CH",Strommix!$D$7:$CS$200,91,0)+HLOOKUP($C$2&G$7&"CH",Strommix!$D$7:$CS$200,113,0))-G20 -> 53.44709 | H19: UBP
C20: Importe | D20: =$C$4*(HLOOKUP($C$2&D$7&"CH",Strommix!$D$7:$CS$200,90,0)+HLOOKUP($C$2&D$7&"CH",Strommix!$D$7:$CS$200,112,0)) -> 106.26237 | E20: =$C$4*(HLOOKUP($C$2&E$7&"CH",Strommix!$D$7:$CS$200,90,0)+HLOOKUP($C$2&E$7&"CH",Strommix!$D$7:$CS$200,112,0)) -> 109.25007 | F20: =$C$4*(HLOOKUP($C$2&F$7&"CH",Strommix!$D$7:$CS$200,90,0)+HLOOKUP($C$2&F$7&"CH",Strommix!$D$7:$CS$200,112,0)) -> 90.998723 | G20: =$C$4*(HLOOKUP($C$2&G$7&"CH",Strommix!$D$7:$CS$200,90,0)+HLOOKUP($C$2&G$7&"CH",Strommix!$D$7:$CS$200,112,0)) -> 69.563946 | H20: UBP
C21: Übertragung und Verluste | D21: =IF($C$3="Mittelspannung",$C$4*HLOOKUP($C$2&D$7&"CH",Strommix!$D$7:$CS$200,114,0),$C$4*HLOOKUP($C$2&D$7&"CH",Strommix!$D$7:$CS$200,115,0)) -> 49.260456 | E21: =IF($C$3="Mittelspannung",$C$4*HLOOKUP($C$2&E$7&"CH",Strommix!$D$7:$CS$200,114,0),$C$4*HLOOKUP($C$2&E$7&"CH",Strommix!$D$7:$CS$200,115,0)) -> 47.323296 | F21: =IF($C$3="Mittelspannung",$C$4*HLOOKUP($C$2&F$7&"CH",Strommix!$D$7:$CS$200,114,0),$C$4*HLOOKUP($C$2&F$7&"CH",Strommix!$D$7:$CS$200,115,0)) -> 41.367753 | G21: =IF($C$3="Mittelspannung",$C$4*HLOOKUP($C$2&G$7&"CH",Strommix!$D$7:$CS$200,114,0),$C$4*HLOOKUP($C$2&G$7&"CH",Strommix!$D$7:$CS$200,115,0)) -> 33.897875 | H21: UBP
C22: Nach Scope:
C23: Direkte Emissionen | D23: =$C$4*(HLOOKUP($C$2&D$7&"CH",Strommix!$D$7:$CS$200,91,0)) -> 44.401709 | E23: =$C$4*(HLOOKUP($C$2&E$7&"CH",Strommix!$D$7:$CS$200,91,0)) -> 53.638302 | F23: =$C$4*(HLOOKUP($C$2&F$7&"CH",Strommix!$D$7:$CS$200,91,0)) -> 56.619584 | G23: =$C$4*(HLOOKUP($C$2&G$7&"CH",Strommix!$D$7:$CS$200,91,0)) -> 60.006514 | H23: UBP
C24: Indirekte Emissionen | D24: =$C$4*(HLOOKUP($C$2&D$7&"CH",Strommix!$D$7:$CS$200,113,0))+D21 -> 282.1923 | E24: =$C$4*(HLOOKUP($C$2&E$7&"CH",Strommix!$D$7:$CS$200,113,0))+E21 -> 251.31404 | F24: =$C$4*(HLOOKUP($C$2&F$7&"CH",Strommix!$D$7:$CS$200,113,0))+F21 -> 181.89366 | G24: =$C$4*(HLOOKUP($C$2&G$7&"CH",Strommix!$D$7:$CS$200,113,0))+G21 -> 96.902396 | H24: UBP

Sheet Strommix
B4: Anteile Strommixe: | C4: Szenario | D4: Weiter wie bisher (WWB) | E4: Weiter wie bisher (WWB) | F4: Weiter wie bisher (WWB) | G4: Weiter wie bisher (WWB) | H4: Weiter wie bisher (WWB) | I4: Weiter wie bisher (WWB) | J4: Weiter wie bisher (WWB) | K4: Weiter wie bisher (WWB) | L4: Weiter wie bisher (WWB) | M4: Weiter wie bisher (WWB) | N4: Weiter wie bisher (WWB) | O4: Weiter wie bisher (WWB) | P4: Weiter wie bisher (WWB) | Q4: Weiter wie bisher (WWB) | R4: Weiter wie bisher (WWB) | S4: Weiter wie bisher (WWB) | T4: Weiter wie bisher (WWB) | U4: Weiter wie bisher (WWB) | V4: Weiter wie bisher (WWB) | W4: Weiter wie bisher (WWB) | X4: Weiter wie bisher (WWB) | Y4: Weiter wie bisher (WWB) | Z4: Weiter wie bisher (WWB) | AA4: Weiter wie bisher (WWB) | AB4: Basisvariante (ZERO Basis) | AC4: Basisvariante (ZERO Basis) | AD4: Basisvariante (ZERO Basis) | AE4: Basisvariante (ZERO Basis) | AF4: Basisvariante (ZERO Basis) | AG4: Basisvariante (ZERO Basis) | AH4: Basisvariante (ZERO Basis) | AI4: Basisvariante (ZERO Basis) | AJ4: Basisvariante (ZERO Basis) | AK4: Basisvariante (ZERO Basis) | AL4: Basisvariante (ZERO Basis) | AM4: Basisvariante (ZERO Basis) | AN4: Basisvariante (ZERO Basis) | AO4: Basisvariante (ZERO Basis) | AP4: Basisvariante (ZERO Basis) | AQ4: Basisvariante (ZERO Basis) | AR4: Basisvariante (ZERO Basis) | AS4: Basisvariante (ZERO Basis) | AT4: Basisvariante (ZERO Basis) | AU4: Basisvariante (ZERO Basis) | AV4: Basisvariante (ZERO Basis) | AW4: Basisvariante (ZERO Basis) | AX4: Basisvariante (ZERO Basis) | AY4: Basisvariante (ZERO Basis) | AZ4: Variante A (ZERO A) | BA4: Variante A (ZERO A) | BB4: Variante A (ZERO A) | BC4: Variante A (ZERO A) | BD4: Variante A (ZERO A) | BE4: Variante A (ZERO A) | BF4: Variante A (ZERO A) | BG4: Variante A (ZERO A) | BH4: Variante A (ZERO A) | BI4: Variante A (ZERO A) | BJ4: Variante A (ZERO A) | BK4: Variante A (ZERO A) | BL4: Variante A (ZERO A) | BM4: Variante A (ZERO A) | BN4: Variante A (ZERO A) | BO4: Variante A (ZERO A) | BP4: Variante A (ZERO A) | BQ4: Variante A (ZERO A) | BR4: Variante A (ZERO A) | BS4: Variante A (ZERO A) | BT4: Variante A (ZERO A) | BU4: Variante A (ZERO A) | BV4: Variante A (ZERO A) | BW4: Variante A (ZERO A) | BX4: Variante C (ZERO C) | BY4: Variante C (ZERO C) | BZ4: Variante C (ZERO C) | CA4: Variante C (ZERO C) | CB4: Variante C (ZERO C) | CC4: Variante C (ZERO C) | CD4: Variante C (ZERO C) | CE4: Variante C (ZERO C) | CF4: Variante C (ZERO C) | CG4: Variante C (ZERO C) | CH4: Variante C (ZERO C) | CI4: Variante C (ZERO C) | CJ4: Variante C (ZERO C) | CK4: Variante C (ZERO C) | CL4: Variante C (ZERO C) | CM4: Variante C (ZERO C) | CN4: Variante C (ZERO C) | CO4: Variante C (ZERO C) | CP4: Variante C (ZERO C) | CQ4: Variante C (ZERO C) | CR4: Variante C (ZERO C) | CS4: Variante C (ZERO C) | CT4: Variante C (ZERO C) | CU4: Variante C (ZERO C)
C5: Jahr | D5: 2030 | E5: 2030 | F5: 2030 | G5: 2030 | H5: 2030 | I5: 2030 | J5: 2035 | K5: 2035 | L5: 2035 | M5: 2035 | N5: 2035 | O5: 2035 | P5: 2040 | Q5: 2040 | R5: 2040 | S5: 2040 | T5: 2040 | U5: 2040 | V5: 2050 | W5: 2050 | X5: 2050 | Y5: 2050 | Z5: 2050 | AA5: 2050 | AB5: 2030 | AC5: 2030 | AD5: 2030 | AE5: 2030 | AF5: 2030 | AG5: 2030 | AH5: 2035 | AI5: 2035 | AJ5: 2035 | AK5: 2035 | AL5: 2035 | AM5: 2035 | AN5: 2040 | AO5: 2040 | AP5: 2040 | AQ5: 2040 | AR5: 2040 | AS5: 2040 | AT5: 2050 | AU5: 2050 | AV5: 2050 | AW5: 2050 | AX5: 2050 | AY5: 2050 | AZ5: 2030 | BA5: 2030 | BB5: 2030 | BC5: 2030 | BD5: 2030 | BE5: 2030 | BF5: 2035 | BG5: 2035 | BH5: 2035 | BI5: 2035 | BJ5: 2035 | BK5: 2035 | BL5: 2040 | BM5: 2040 | BN5: 2040 | BO5: 2040 | BP5: 2040 | BQ5: 2040 | BR5: 2050 | BS5: 2050 | BT5: 2050 | BU5: 2050 | BV5: 2050 | BW5: 2050 | BX5: 2030 | BY5: 2030 | BZ5: 2030 | CA5: 2030 | CB5: 2030 | CC5: 2030 | CD5: 2035 | CE5: 2035 | CF5: 2035 | CG5: 2035 | CH5: 2035 | CI5: 2035 | CJ5: 2040 | CK5: 2040 | CL5: 2040 | CM5: 2040 | CN5: 2040 | CO5: 2040 | CP5: 2050 | CQ5: 2050 | CR5: 2050 | CS5: 2050 | CT5: 2050 | CU5: 2050
C6: Land | D6: CH | E6: AT | F6: DE | G6: FR | H6: IT | I6: EU | J6: CH | K6: AT | L6: DE | M6: FR | N6: IT | O6: EU | P6: CH | Q6: AT | R6: DE | S6: FR | T6: IT | U6: EU | V6: CH | W6: AT | X6: DE | Y6: FR | Z6: IT | AA6: EU | AB6: CH | AC6: AT | AD6: DE | AE6: FR | AF6: IT | AG6: EU | AH6: CH | AI6: AT | AJ6: DE | AK6: FR | AL6: IT | AM6: EU | AN6: CH | AO6: AT | AP6: DE | AQ6: FR | AR6: IT | AS6: EU | AT6: CH | AU6: AT | AV6: DE | AW6: FR | AX6: IT | AY6: EU | AZ6: CH | BA6: AT | BB6: DE | BC6: FR | BD6: IT | BE6: EU | BF6: CH | BG6: AT | BH6: DE | BI6: FR | BJ6: IT | BK6: EU | BL6: CH | BM6: AT | BN6: DE | BO6: FR | BP6: IT | BQ6: EU | BR6: CH | BS6: AT | BT6: DE | BU6: FR | BV6: IT | BW6: EU | BX6: CH | BY6: AT | BZ6: DE | CA6: FR | CB6: IT | CC6: EU | CD6: CH | CE6: AT | CF6: DE | CG6: FR | CH6: IT | CI6: EU | CJ6: CH | CK6: AT | CL6: DE | CM6: FR | CN6: IT | CO6: EU | CP6: CH | CQ6: AT | CR6: DE | CS6: FR | CT6: IT | CU6: EU
A7: 1 | C7: Code | D7: =D4&D5&D6 -> Weiter wie bisher (WWB)2030CH | E7: =E4&E5&E6 -> Weiter wie bisher (WWB)2030AT | F7: =F4&F5&F6 -> Weiter wie bisher (WWB)2030DE | G7: =G4&G5&G6 -> Weiter wie bisher (WWB)2030FR | H7: =H4&H5&H6 -> Weiter wie bisher (WWB)2030IT | I7: =I4&I5&I6 -> Weiter wie bisher (WWB)2030EU | J7: =J4&J5&J6 -> Weiter wie bisher (WWB)2035CH | K7: =K4&K5&K6 -> Weiter wie bisher (WWB)2035AT | ... CU7: =CU4&CU5&CU6 -> Variante C (ZERO C)2050EU
A8: 2 | B8: Anteile | C8: Kleinwasserkraft | D8: 0.0043418342 | E8: 0 | F8: 0 | G8: 0 | H8: 0 | I8: 0 | J8: 0.0047506385 | K8: 0 | L8: 0 | M8: 0 | N8: 0 | O8: 0 | P8: 0.0027068064 | Q8: 0 | R8: 0 | S8: 0 | T8: 0 | U8: 0 | V8: 0.0042590793 | W8: 0 | X8: 0 | Y8: 0 | Z8: 0 | AA8: 0 | AB8: 0.0080039523 | AC8: 0 | AD8: 0 | AE8: 0 | AF8: 0 | AG8: 0 | AH8: 0.0091703517 | AI8: 0 | AJ8: 0 | AK8: 0 | AL8: 0 | AM8: 0 | AN8: 0.0093918059 | AO8: 0 | AP8: 0 | AQ8: 0 | AR8: 0 | AS8: 0 | AT8: 0.012587803 | AU8: 0 | AV8: 0 | AW8: 0 | AX8: 0 | AY8: 0 | AZ8: 0.0080194152 | BA8: 0 | BB8: 0 | BC8: 0 | BD8: 0 | BE8: 0 | BF8: 0.0091821707 | BG8: 0 | BH8: 0 | BI8: 0 | BJ8: 0 | BK8: 0 | BL8: 0.009401415 | BM8: 0 | BN8: 0 | BO8: 0 | BP8: 0 | BQ8: 0 | BR8: 0.01203353 | BS8: 0 | BT8: 0 | BU8: 0 | BV8: 0 | BW8: 0 | BX8: 0.0080149159 | BY8: 0 | BZ8: 0 | CA8: 0 | CB8: 0 | CC8: 0 | CD8: 0.0091693786 | CE8: 0 | CF8: 0 | CG8: 0 | CH8: 0 | CI8: 0 | CJ8: 0.0094026231 | CK8: 0 | CL8: 0 | CM8: 0 | CN8: 0 | CO8: 0 | CP8: 0.013028099 | CQ8: 0 | CR8: 0 | CS8: 0 | CT8: 0 | CU8: 0
A9: 3 | C9: Speicherkraftwerke | D9: 0.19633784 | E9: 0 | F9: 0 | G9: 0 | H9: 0 | I9: 0 | J9: 0.18944144 | K9: 0 | L9: 0 | M9: 0 | N9: 0 | O9: 0 | P9: 0.20792151 | Q9: 0 | R9: 0 | S9: 0 | T9: 0 | U9: 0 | V9: 0.21768352 | W9: 0 | X9: 0 | Y9: 0 | Z9: 0 | AA9: 0 | AB9: 0.19863485 | AC9: 0 | AD9: 0 | AE9: 0 | AF9: 0 | AG9: 0 | AH9: 0.1839038 | AI9: 0 | AJ9: 0 | AK9: 0 | AL9: 0 | AM9: 0 | AN9: 0.18597539 | AO9: 0 | AP9: 0 | AQ9: 0 | AR9: 0 | AS9: 0 | AT9: 0.18314182 | AU9: 0 | AV9: 0 | AW9: 0 | AX9: 0 | AY9: 0 | AZ9: 0.19876666 | BA9: 0 | BB9: 0 | BC9: 0 | BD9: 0 | BE9: 0 | BF9: 0.18379312 | BG9: 0 | BH9: 0 | BI9: 0 | BJ9: 0 | BK9: 0 | BL9: 0.18501959 | BM9: 0 | BN9: 0 | BO9: 0 | BP9: 0 | BQ9: 0 | BR9: 0.17413433 | BS9: 0 | BT9: 0 | BU9: 0 | BV9: 0 | BW9: 0 | BX9: 0.19882079 | BY9: 0 | BZ9: 0 | CA9: 0 | CB9: 0 | CC9: 0 | CD9: 0.18359443 | CE9: 0 | CF9: 0 | CG9: 0 | CH9: 0 | CI9: 0 | CJ9: 0.18557975 | CK9: 0 | CL9: 0 | CM9: 0 | CN9: 0 | CO9: 0 | CP9: 0.18807016 | CQ9: 0 | CR9: 0 | CS9: 0 | CT9: 0 | CU9: 0
A10: 4 | C10: Laufwasserkraft | D10: 0.19535247 | E10: 0 | F10: 0 | G10: 0 | H10: 0 | I10: 0 | J10: 0.18659434 | K10: 0 | L10: 0 | M10: 0 | N10: 0 | O10: 0 | P10: 0.20069342 | Q10: 0 | R10: 0 | S10: 0 | T10: 0 | U10: 0 | V10: 0.20730719 | W10: 0 | X10: 0 | Y10: 0 | Z10: 0 | AA10: 0 | AB10: 0.19415365 | AC10: 0 | AD10: 0 | AE10: 0 | AF10: 0 | AG10: 0 | AH10: 0.17669158 | AI10: 0 | AJ10: 0 | AK10: 0 | AL10: 0 | AM10: 0 | AN10: 0.17634339 | AO10: 0 | AP10: 0 | AQ10: 0 | AR10: 0 | AS10: 0 | AT10: 0.16597154 | AU10: 0 | AV10: 0 | AW10: 0 | AX10: 0 | AY10: 0 | AZ10: 0.19452874 | BA10: 0 | BB10: 0 | BC10: 0 | BD10: 0 | BE10: 0 | BF10: 0.17691931 | BG10: 0 | BH10: 0 | BI10: 0 | BJ10: 0 | BK10: 0 | BL10: 0.17652381 | BM10: 0 | BN10: 0 | BO10: 0 | BP10: 0 | BQ10: 0 | BR10: 0.1586634 | BS10: 0 | BT10: 0 | BU10: 0 | BV10: 0 | BW10: 0 | BX10: 0.1944196 | BY10: 0 | BZ10: 0 | CA10: 0 | CB10: 0 | CC10: 0 | CD10: 0.17667283 | CE10: 0 | CF10: 0 | CG10: 0 | CH10: 0 | CI10: 0 | CJ10: 0.17654649 | CK10: 0 | CL10: 0 | CM10: 0 | CN10: 0 | CO10: 0 | CP10: 0.17177689 | CQ10: 0 | CR10: 0 | CS10: 0 | CT10: 0 | CU10: 0
A11: 5 | C11: Pumpspeicher | D11: 0.058526705 | E11: 0 | F11: 0 | G11: 0 | H11: 0 | I11: 0 | J11: 0.055401884 | K11: 0 | L11: 0 | M11: 0 | N11: 0 | O11: 0 | P11: 0.055053635 | Q11: 0 | R11: 0 | S11: 0 | T11: 0 | U11: 0 | V11: 0.052916584 | W11: 0 | X11: 0 | Y11: 0 | Z11: 0 | AA11: 0 | AB11: 0.063697875 | AC11: 0 | AD11: 0 | AE11: 0 | AF11: 0 | AG11: 0 | AH11: 0.071420398 | AI11: 0 | AJ11: 0 | AK11: 0 | AL11: 0 | AM11: 0 | AN11: 0.083288106 | AO11: 0 | AP11: 0 | AQ11: 0 | AR11: 0 | AS11: 0 | AT11: 0.068482036 | AU11: 0 | AV11: 0 | AW11: 0 | AX11: 0 | AY11: 0 | AZ11: 0.062501597 | BA11: 0 | BB11: 0 | BC11: 0 | BD11: 0 | BE11: 0 | BF11: 0.071013565 | BG11: 0 | BH11: 0 | BI11: 0 | BJ11: 0 | BK11: 0 | BL11: 0.083255594 | BM11: 0 | BN11: 0 | BO11: 0 | BP11: 0 | BQ11: 0 | BR11: 0.066422781 | BS11: 0 | BT11: 0 | BU11: 0 | BV11: 0 | BW11: 0 | BX11: 0.064480868 | BY11: 0 | BZ11: 0 | CA11: 0 | CB11: 0 | CC11: 0 | CD11: 0.072001586 | CE11: 0 | CF11: 0 | CG11: 0 | CH11: 0 | CI11: 0 | CJ11: 0.083493727 | CK11: 0 | CL11: 0 | CM11: 0 | CN11: 0 | CO11: 0 | CP11: 0.072797367 | CQ11: 0 | CR11: 0 | CS11: 0 | CT11: 0 | CU11: 0
A12: 6 | C12: Wasserkraft (unspezifisch) | D12: 0 | E12: 0.60950677 | F12: 0.04170621 | G12: 0.11121581 | H12: 0.13481688 | I12: 0.087742266 | J12: 0 | K12: 0.54211705 | L12: 0.038482152 | M12: 0.12800727 | N12: 0.12689307 | O12: 0.071776608 | P12: 0 | Q12: 0.49644307 | R12: 0.037163766 | S12: 0.13489238 | T12: 0.12802096 | U12: 0.060721675 | V12: 0 | W12: 0.49506881 | X12: 0.03789305 | Y12: 0.13277982 | Z12: 0.13291727 | AA12: 0.04641312 | AB12: 0 | AC12: 0.60473143 | AD12: 0.048659826 | AE12: 0.11100775 | AF12: 0.13474833 | AG12: 0.087742266 | AH12: 0 | AI12: 0.49808125 | AJ12: 0.038683894 | AK12: 0.10991822 | AL12: 0.11857347 | AM12: 0.069892108 | AN12: 0 | AO12: 0.50027187 | AP12: 0.032451917 | AQ12: 0.10879036 | AR12: 0.12019556 | AS12: 0.058067245 | AT12: 0 | AU12: 0.47183689 | AV12: 0.023101452 | AW12: 0.092099239 | AX12: 0.1080709 | AY12: 0.046139338 | AZ12: 0 | BA12: 0.60473143 | BB12: 0.048659826 | BC12: 0.11100775 | BD12: 0.13474833 | BE12: 0.087742266 | BF12: 0 | BG12: 0.49808125 | BH12: 0.038683894 | BI12: 0.10991822 | BJ12: 0.11857347 | BK12: 0.070597657 | BL12: 0 | BM12: 0.50027187 | BN12: 0.032451917 | BO12: 0.10879036 | BP12: 0.12019556 | BQ12: 0.059044696 | BR12: 0 | BS12: 0.47183689 | BT12: 0.023101452 | BU12: 0.092099239 | BV12: 0.1080709 | BW12: 0.046447882 | BX12: 0 | BY12: 0.60473143 | BZ12: 0.048659826 | CA12: 0.11100775 | CB12: 0.13474833 | CC12: 0.087742266 | CD12: 0 | CE12: 0.49808125 | CF12: 0.038683894 | CG12: 0.10991822 | CH12: 0.11857347 | CI12: 0.070597657 | CJ12: 0 | CK12: 0.50027187 | CL12: 0.032451917 | CM12: 0.10879036 | CN12: 0.12019556 | CO12: 0.059044696 | CP12: 0 | CQ12: 0.47183689 | CR12: 0.023101452 | CS12: 0.092099239 | CT12: 0.1080709 | CU12: 0.046447882
A13: 7 | C13: Kernkraft | D13: 0.21550282 | E13: 0 | F13: 0 | G13: 0.55318581 | H13: 0 | I13: 0.15826154 | J13: 0.17776115 | K13: 0 | L13: 0 | M13: 0.3666677 | N13: 0 | O13: 0.12425527 | P13: 0.10177313 | Q13: 0 | R13: 0 | S13: 0.17033786 | T13: 0 | U13: 0.10070867 | V13: 0 | W13: 0 | X13: 0 | Y13: 0.017575966 | Z13: 0 | AA13: 0.070231979 | AB13: 0.20643304 | AC13: 0 | AD13: 0 | AE13: 0.50057031 | AF13: 0 | AG13: 0.15826154 | AH13: 0.15751622 | AI13: 0 | AJ13: 0 | AK13: 0.26163178 | AL13: 0 | AM13: 0.10769707 | AN13: 0.078214908 | AO13: 0 | AP13: 0 | AQ13: 0.097558717 | AR13: 0 | AS13: 0.07420056 | AT13: 0 | AU13: 0 | AV13: 0 | AW13: 0.0072895835 | AX13: 0 | AY13: 0.036369425 | AZ13: 0.20662522 | BA13: 0 | BB13: 0 | BC13: 0.50057031 | BD13: 0 | BE13: 0.15826154 | BF13: 0.15848217 | BG13: 0 | BH13: 0 | BI13: 0.26163178 | BJ13: 0 | BK13: 0.12574213 | BL13: 0.079351463 | BM13: 0 | BN13: 0 | BO13: 0.097558717 | BP13: 0 | BQ13: 0.10382881 | BR13: 0 | BS13: 0 | BT13: 0 | BU13: 0.0072895835 | BV13: 0 | BW13: 0.074979096 | BX13: 0.20374399 | BY13: 0 | BZ13: 0 | CA13: 0.50057031 | CB13: 0 | CC13: 0.15826154 | CD13: 0.15736263 | CE13: 0 | CF13: 0 | CG13: 0.26163178 | CH13: 0 | CI13: 0.12574213 | CJ13: 0.078006108 | CK13: 0 | CL13: 0 | CM13: 0.097558717 | CN13: 0 | CO13: 0.10382881 | CP13: 0 | CQ13: 0 | CR13: 0 | CS13: 0.0072895835 | CT13: 0 | CU13: 0.074979096
A14: 8 | C14: Kohle | D14: 0 | E14: 0 | F14: 0.17773205 | G14: 0 | H14: 0 | I14: 0.0010927848 | J14: 0 | K14: 0 | L14: 0.097897448 | M14: 0 | N14: 0 | O14: 0.0012450606 | P14: 0 | Q14: 0 | R14: 0 | S14: 0 | T14: 0 | U14: 0.0013504994 | V14: 0 | W14: 0 | X14: 0 | Y14: 0 | Z14: 0 | AA14: 0.0014869703 | AB14: 0 | AC14: 0 | AD14: 0.12534338 | AE14: 0 | AF14: 0 | AG14: 0.0010927848 | AH14: 0 | AI14: 0 | AJ14: 0.016830206 | AK14: 0 | AL14: 0 | AM14: 0.00051239378 | AN14: 0 | AO14: 0 | AP14: 0 | AQ14: 0 | AR14: 0 | AS14: 0.00012791291 | AT14: 0 | AU14: 0 | AV14: 0 | AW14: 0 | AX14: 0 | AY14: 0 | AZ14: 0 | BA14: 0 | BB14: 0.12534338 | BC14: 0 | BD14: 0 | BE14: 0.0010927848 | BF14: 0 | BG14: 0 | BH14: 0.016830206 | BI14: 0 | BJ14: 0 | BK14: 0.00043992921 | BL14: 0 | BM14: 0 | BN14: 0 | BO14: 0 | BP14: 0 | BQ14: 0 | BR14: 0 | BS14: 0 | BT14: 0 | BU14: 0 | BV14: 0 | BW14: 0 | BX14: 0 | BY14: 0 | BZ14: 0.12534338 | CA14: 0 | CB14: 0 | CC14: 0.0010927848 | CD14: 0 | CE14: 0 | CF14: 0.016830206 | CG14: 0 | CH14: 0 | CI14: 0.00043992921 | CJ14: 0 | CK14: 0 | CL14: 0 | CM14: 0 | CN14: 0 | CO14: 0 | CP14: 0 | CQ14: 0 | CR14: 0 | CS14: 0 | CT14: 0 | CU14: 0
A15: 9 | C15: Gas | D15: 0 | E15: 0.11842852 | F15: 0.19327348 | G15: 0.038787145 | H15: 0.37135032 | I15: 0.11765911 | J15: 0 | K15: 0.16884481 | L15: 0.23117863 | M15: 0.097798767 | N15: 0.43879077 | O15: 0.078666306 | P15: 0 | Q15: 0.21737139 | R15: 0.27386581 | S15: 0.17490946 | T15: 0.44282788 | U15: 0.051666926 | V15: 0 | W15: 0.19036827 | X15: 0.18488105 | Y15: 0.16930319 | Z15: 0.26979384 | AA15: 0.016721253 | AB15: 0 | AC15: 0.067921512 | AD15: 0.13922418 | AE15: 0.023794676 | AF15: 0.27956849 | AG15: 0.11765911 | AH15: 0 | AI15: 0.09888495 | AJ15: 0.1393133 | AK15: 0.047949481 | AL15: 0.30812094 | AM15: 0.05368825 | AN15: 0 | AO15: 0.082221935 | AP15: 0.088474175 | AQ15: 0.04955678 | AR15: 0.25744813 | AS15: 0.011310659 | AT15: 0 | AU15: 0.066432409 | AV15: 0.048161545 | AW15: 0.038024644 | AX15: 0.13180468 | AY15: 0.0043638121 | AZ15: 0 | BA15: 0.067921512 | BB15: 0.13922418 | BC15: 0.023794676 | BD15: 0.27956849 | BE15: 0.11765911 | BF15: 0 | BG15: 0.09888495 | BH15: 0.1393133 | BI15: 0.047949481 | BJ15: 0.30812094 | BK15: 0.049720254 | BL15: 0 | BM15: 0.082221935 | BN15: 0.088474175 | BO15: 0.04955678 | BP15: 0.25744813 | BQ15: 0.0039393964 | BR15: 0 | BS15: 0.066432409 | BT15: 0.048161545 | BU15: 0.038024644 | BV15: 0.13180468 | BW15: 0.0015580969 | BX15: 0 | BY15: 0.067921512 | BZ15: 0.13922418 | CA15: 0.023794676 | CB15: 0.27956849 | CC15: 0.11765911 | CD15: 0 | CE15: 0.09888495 | CF15: 0.1393133 | CG15: 0.047949481 | CH15: 0.30812094 | CI15: 0.049720254 | CJ15: 0 | CK15: 0.082221935 | CL15: 0.088474175 | CM15: 0.04955678 | CN15: 0.25744813 | CO15: 0.0039393964 | CP15: 0 | CQ15: 0.066432409 | CR15: 0.048161545 | CS15: 0.038024644 | CT15: 0.13180468 | CU15: 0.0015580969
A16: 10 | C16: Öl | D16: 0 | E16: 0 | F16: 0 | G16: 0 | H16: 0 | I16: 0.00048648705 | J16: 0 | K16: 0 | L16: 0 | M16: 0 | N16: 0 | O16: 0.00037937757 | P16: 0 | Q16: 0 | R16: 0 | S16: 0 | T16: 0 | U16: 0.00030521287 | V16: 0 | W16: 0 | X16: 0 | Y16: 0 | Z16: 0 | AA16: 0.00020922048 | AB16: 0 | AC16: 0 | AD16: 0 | AE16: 0 | AF16: 0 | AG16: 0.00048648705 | AH16: 0 | AI16: 0 | AJ16: 0 | AK16: 0 | AL16: 0 | AM16: 0.00019385472 | AN16: 0 | AO16: 0 | AP16: 0 | AQ16: 0 | AR16: 0 | AS16: 0 | AT16: 0 | AU16: 0 | AV16: 0 | AW16: 0 | AX16: 0 | AY16: 0 | AZ16: 0 | BA16: 0 | BB16: 0 | BC16: 0 | BD16: 0 | BE16: 0.00048648705 | BF16: 0 | BG16: 0 | BH16: 0 | BI16: 0 | BJ16: 0 | BK16: 0.00019584814 | BL16: 0 | BM16: 0 | BN16: 0 | BO16: 0 | BP16: 0 | BQ16: 0 | BR16: 0 | BS16: 0 | BT16: 0 | BU16: 0 | BV16: 0 | BW16: 0 | BX16: 0 | BY16: 0 | BZ16: 0 | CA16: 0 | CB16: 0 | CC16: 0.00048648705 | CD16: 0 | CE16: 0 | CF16: 0 | CG16: 0 | CH16: 0 | CI16: 0.00019584814 | CJ16: 0 | CK16: 0 | CL16: 0 | CM16: 0 | CN16: 0 | CO16: 0 | CP16: 0 | CQ16: 0 | CR16: 0 | CS16: 0 | CT16: 0 | CU16: 0
A17: 11 | C17: Fossile KW | D17: 0.017963067 | E17: 0.048534857 | F17: 0.045535312 | G17: 0.010468419 | H17: 0.066981265 | I17: 2.7862947e-05 | J17: 0.018714707 | K17: 0.043007433 | L17: 0.043475219 | M17: 0.023672388 | N17: 0.06846088 | O17: 2.7974587e-05 | P17: 0.022207532 | Q17: 0.03733839 | R17: 0.037616593 | S17: 0.022478408 | T17: 0.046548953 | U17: 2.8051889e-05 | V17: 0.029797213 | W17: 0.027209764 | X17: 0.029852409 | Y17: 0.030985275 | Z17: 0.063764013 | AA17: 2.8151942e-05 | AB17: 0.016983732 | AC17: 0.047877472 | AD17: 0.045066955 | AE17: 0.0090240251 | AF17: 0.05996943 | AG17: 2.7862947e-05 | AH17: 0.015976559 | AI17: 0.037521118 | AJ17: 0.029991006 | AK17: 0.02226708 | AL17: 0.048846115 | AM17: 2.2799886e-05 | AN17: 0.014165835 | AO17: 0.024630268 | AP17: 0.028482343 | AQ17: 0.026201669 | AR17: 0.051356528 | AS17: 1.9445853e-05 | AT17: 0.010100913 | AU17: 0.015100067 | AV17: 0.016117649 | AW17: 0.023456581 | AX17: 0.061079614 | AY17: 0.00016390998 | AZ17: 0.016821001 | BA17: 0.047877472 | BB17: 0.045066955 | BC17: 0.0090240251 | BD17: 0.05996943 | BE17: 2.7862947e-05 | BF17: 0.015151595 | BG17: 0.037521118 | BH17: 0.029991006 | BI17: 0.02226708 | BJ17: 0.048846115 | BK17: 1.2809205e-05 | BL17: 0.013540774 | BM17: 0.024630268 | BN17: 0.028482343 | BO17: 0.026201669 | BP17: 0.051356528 | BQ17: 2.6651837e-06 | BR17: 0.0096561449 | BS17: 0.015100067 | BT17: 0.016117649 | BU17: 0.023456581 | BV17: 0.061079614 | BW17: 4.4624362e-05 | BX17: 0.01775678 | BY17: 0.047877472 | BZ17: 0.045066955 | CA17: 0.0090240251 | CB17: 0.05996943 | CC17: 2.7862947e-05 | CD17: 0.015953967 | CE17: 0.037521118 | CF17: 0.029991006 | CG17: 0.02226708 | CH17: 0.048846115 | CI17: 1.2809205e-05 | CJ17: 0.014012778 | CK17: 0.024630268 | CL17: 0.028482343 | CM17: 0.026201669 | CN17: 0.051356528 | CO17: 2.6651837e-06 | CP17: 0.010454223 | CQ17: 0.015100067 | CR17: 0.016117649 | CS17: 0.023456581 | CT17: 0.061079614 | CU17: 4.4624362e-05
A18: 12 | C18: Photovoltaik | D18: 0.075859668 | E18: 0.056095133 | F18: 0.11300349 | G18: 0.078698827 | H18: 0.13291347 | I18: 0.21510195 | J18: 0.08041664 | K18: 0.077911443 | L18: 0.1161515 | M18: 0.10164875 | N18: 0.19219331 | O18: 0.24127182 | P18: 0.095688553 | Q18: 0.087156387 | R18: 0.12641866 | S18: 0.153479 | T18: 0.23377818 | U18: 0.25939236 | V18: 0.13771511 | W18: 0.112664 | X18: 0.17839172 | Y18: 0.16030558 | Z18: 0.33119259 | AA18: 0.28284602 | AB18: 0.095702553 | AC18: 0.13712144 | AD18: 0.23042324 | AE18: 0.1102544 | AF18: 0.19743925 | AG18: 0.21510195 | AH18: 0.14511136 | AI18: 0.14956471 | AJ18: 0.24892443 | AK18: 0.15696432 | AL18: 0.28415857 | AM18: 0.2614757 | AN18: 0.21585915 | AO18: 0.17874655 | AP18: 0.28236047 | AQ18: 0.20829733 | AR18: 0.3637291 | AS18: 0.29219606 | AT18: 0.32358284 | AU18: 0.24038582 | AV18: 0.33407751 | AW18: 0.26215439 | AX18: 0.48956164 | AY18: 0.33073555 | AZ18: 0.095887441 | BA18: 0.13712144 | BB18: 0.23042324 | BC18: 0.1102544 | BD18: 0.19743925 | BE18: 0.21510195 | BF18: 0.14529839 | BG18: 0.14956471 | BH18: 0.24892443 | BI18: 0.15696432 | BJ18: 0.28415857 | BK18: 0.24854017 | BL18: 0.21654473 | BM18: 0.17874655 | BN18: 0.28236047 | BO18: 0.20829733 | BP18: 0.3637291 | BQ18: 0.27107264 | BR18: 0.35748869 | BS18: 0.24038582 | BT18: 0.33407751 | BU18: 0.26215439 | BV18: 0.48956164 | BW18: 0.28154902 | BX18: 0.095833644 | BY18: 0.13712144 | BZ18: 0.23042324 | CA18: 0.1102544 | CB18: 0.19743925 | CC18: 0.21510195 | CD18: 0.14509597 | CE18: 0.14956471 | CF18: 0.24892443 | CG18: 0.15696432 | CH18: 0.28415857 | CI18: 0.24854017 | CJ18: 0.21610777 | CK18: 0.17874655 | CL18: 0.28236047 | CM18: 0.20829733 | CN18: 0.3637291 | CO18: 0.27107264 | CP18: 0.29756128 | CQ18: 0.24038582 | CR18: 0.33407751 | CS18: 0.26215439 | CT18: 0.48956164 | CU18: 0.28154902
A19: 13 | C19: Wind (onshore) | D19: 0.0036504653 | E19: 0.13415615 | F19: 0.19485055 | G19: 0.14990226 | H19: 0.10356653 | I19: 0.2436336 | J19: 0.0035862171 | K19: 0.12722047 | L19: 0.20609182 | M19: 0.18395904 | N19: 0.10556137 | O19: 0.25324137 | P19: 0.0039526832 | Q19: 0.12446302 | R19: 0.21487178 | S19: 0.22498998 | T19: 0.1073565 | U19: 0.25989397 | V19: 0.0043853826 | W19: 0.13491026 | X19: 0.30595787 | Y19: 0.24761484 | Z19: 0.15663001 | AA19: 0.26850453 | AB19: 0.00637405 | AC19: 0.20123423 | AD19: 0.27166 | AE19: 0.1647809 | AF19: 0.10405151 | AG19: 0.2436336 | AH19: 0.012218917 | AI19: 0.16904913 | AJ19: 0.26844109 | AK19: 0.21110754 | AL19: 0.12963017 | AM19: 0.2807316 | AN19: 0.022395713 | AO19: 0.17505709 | AP19: 0.28702318 | AQ19: 0.265231 | AR19: 0.14815899 | AS19: 0.30530722 | AT19: 0.041628811 | AU19: 0.17295962 | AV19: 0.27545414 | AW19: 0.29226975 | AX19: 0.16457906 | AY19: 0.31653764 | AZ19: 0.006386364 | BA19: 0.20123423 | BB19: 0.27166 | BC19: 0.1647809 | BD19: 0.10405151 | BE19: 0.2436336 | BF19: 0.012234665 | BG19: 0.16904913 | BH19: 0.26844109 | BI19: 0.21110754 | BJ19: 0.12963017 | BK19: 0.28058998 | BL19: 0.022418627 | BM19: 0.17505709 | BN19: 0.28702318 | BO19: 0.265231 | BP19: 0.14815899 | BQ19: 0.30549318 | BR19: 0.039795791 | BS19: 0.17295962 | BT19: 0.27545414 | BU19: 0.29226975 | BV19: 0.16457906 | BW19: 0.31716626 | BX19: 0.006382781 | BY19: 0.20123423 | BZ19: 0.27166 | CA19: 0.1647809 | CB19: 0.10405151 | CC19: 0.2436336 | CD19: 0.012217621 | CE19: 0.16904913 | CF19: 0.26844109 | CG19: 0.21110754 | CH19: 0.12963017 | CI19: 0.28058998 | CJ19: 0.022421508 | CK19: 0.17505709 | CL19: 0.28702318 | CM19: 0.265231 | CN19: 0.14815899 | CO19: 0.30549318 | CP19: 0.043084903 | CQ19: 0.17295962 | CR19: 0.27545414 | CS19: 0.29226975 | CT19: 0.16457906 | CU19: 0.31716626
A20: 14 | C20: Wind (offshore) | D20: 0 | E20: 0 | F20: 0.099004701 | G20: 0.038589744 | H20: 0.0073234106 | I20: 0.11465602 | J20: 0 | K20: 0 | L20: 0.1125718 | M20: 0.07101522 | N20: 0.012346439 | O20: 0.17383199 | P20: 0 | Q20: 0 | R20: 0.097407461 | S20: 0.090248662 | T20: 0.016087128 | U20: 0.21480658 | V20: 0 | W20: 0 | X20: 0.10879896 | Y20: 0.22164129 | Z20: 0.021685627 | AA20: 0.26784057 | AB20: 0 | AC20: 0 | AD20: 0.17678523 | AE20: 0.11226107 | AF20: 0.0095612748 | AG20: 0.11465602 | AH20: 0 | AI20: 0 | AJ20: 0.21002104 | AK20: 0.16815079 | AL20: 0.011549174 | AM20: 0.18463921 | AN20: 0 | AO20: 0 | AP20: 0.25242972 | AQ20: 0.22533013 | AR20: 0.02706531 | AS20: 0.23099967 | AT20: 0 | AU20: 0 | AV20: 0.29071416 | AW20: 0.27593667 | AX20: 0.029288586 | AY20: 0.2451055 | AZ20: 0 | BA20: 0 | BB20: 0.17678523 | BC20: 0.11226107 | BD20: 0.0095612748 | BE20: 0.11465602 | BF20: 0 | BG20: 0 | BH20: 0.21002104 | BI20: 0.16815079 | BJ20: 0.011549174 | BK20: 0.18282593 | BL20: 0 | BM20: 0 | BN20: 0.25242972 | BO20: 0.22533013 | BP20: 0.02706531 | BQ20: 0.22876249 | BR20: 0 | BS20: 0 | BT20: 0.29071416 | BU20: 0.27593667 | BV20: 0.029288586 | BW20: 0.25783928 | BX20: 0 | BY20: 0 | BZ20: 0.17678523 | CA20: 0.11226107 | CB20: 0.0095612748 | CC20: 0.11465602 | CD20: 0 | CE20: 0 | CF20: 0.21002104 | CG20: 0.16815079 | CH20: 0.011549174 | CI20: 0.18282593 | CJ20: 0 | CK20: 0 | CL20: 0.25242972 | CM20: 0.22533013 | CN20: 0.02706531 | CO20: 0.22876249 | CP20: 0 | CQ20: 0 | CR20: 0.29071416 | CS20: 0.27593667 | CT20: 0.029288586 | CU20: 0.25783928
... A29: 23 | C29: Export to Switzerland | D29: 0 | E29: 0 | F29: 0.33253963 | G29: 0.66746037 | H29: 0 | I29: 0 | J29: 0 | K29: 0 | L29: 0.35544843 | M29: 0.64455157 | N29: 0 | O29: 0 | P29: 0 | Q29: 0 | R29: 0.37683685 | S29: 0.62316315 | T29: 0 | U29: 0 | V29: 0 | W29: 0 | X29: 0.41562027 | Y29: 0.58437973 | Z29: 0 | AA29: 0 | AB29: 0 | AC29: 0 | AD29: 0.33253963 | AE29: 0.66746037 | AF29: 0 | AG29: 0 | AH29: 0 | AI29: 0.059982691 | AJ29: 0.28318948 | AK29: 0.65682783 | AL29: 0 | AM29: 0 | AN29: 0 | AO29: 0.036280589 | AP29: 0.25980945 | AQ29: 0.70390996 | AR29: 0 | AS29: 0 | AT29: 0 | AU29: 0.061073129 | AV29: 0.22898823 | AW29: 0.70993864 | AX29: 0 | AY29: 0 | AZ29: 0 | BA29: 0 | BB29: 0.33253963 | BC29: 0.66746037 | BD29: 0 | BE29: 0 | BF29: 0 | BG29: 0.091301446 | BH29: 0.341813 | BI29: 0.56688555 | BJ29: 0 | BK29: 0 | BL29: 0 | BM29: 0.097588214 | BN29: 0.34978792 | BO29: 0.55262386 | BP29: 0 | BQ29: 0 | BR29: 0 | BS29: 0.093039022 | BT29: 0.22132208 | BU29: 0.6856389 | BV29: 0 | BW29: 0 | BX29: 0 | BY29: 0 | BZ29: 0.33253963 | CA29: 0.66746037 | CB29: 0 | CC29: 0 | CD29: 0 | CE29: 0.091301446 | CF29: 0.341813 | CG29: 0.56688555 | CH29: 0 | CI29: 0 | CJ29: 0 | CK29: 0.097588214 | CL29: 0.34978792 | CM29: 0.55262386 | CN29: 0 | CO29: 0 | CP29: 0 | CQ29: 0.093039022 | CR29: 0.22132208 | CS29: 0.6856389 | CT29: 0 | CU29: 0
A30: 24 | B30: EF IPCC 2021 Direkt (kg CO2e) | C30: Kleinwasserkraft | D30: =D$8*LCI!$D$4 -> 0 | E30: =E$8*LCI!$K$4 -> 0 | F30: =F$8*LCI!$R$4 -> 0 | G30: =G$8*LCI!$Y$4 -> 0 | H30: =H$8*LCI!$AF$4 -> 0 | I30: =I$8*LCI!$AM$4 -> 0 | J30: =J$8*LCI!$D$4 -> 0 | K30: =K$8*LCI!$K$4 -> 0 | L30: =L$8*LCI!$R$4 -> 0 | M30: =M$8*LCI!$Y$4 -> 0 | N30: =N$8*LCI!$AF$4 -> 0 | O30: =O$8*LCI!$AM$4 -> 0 | P30: =P$8*LCI!$D$4 -> 0 | Q30: =Q$8*LCI!$K$4 -> 0 | R30: =R$8*LCI!$R$4 -> 0 | S30: =S$8*LCI!$Y$4 -> 0 | T30: =T$8*LCI!$AF$4 -> 0 | U30: =U$8*LCI!$AM$4 -> 0 | V30: =V$8*LCI!$D$4 -> 0 | W30: =W$8*LCI!$K$4 -> 0 | X30: =X$8*LCI!$R$4 -> 0 | Y30: =Y$8*LCI!$Y$4 -> 0 | Z30: =Z$8*LCI!$AF$4 -> 0 | AA30: =AA$8*LCI!$AM$4 -> 0 | AB30: =AB$8*LCI!$D$4 -> 0 | AC30: =AC$8*LCI!$K$4 -> 0 | AD30: =AD$8*LCI!$R$4 -> 0 | AE30: =AE$8*LCI!$Y$4 -> 0 | AF30: =AF$8*LCI!$AF$4 -> 0 | AG30: =AG$8*LCI!$AM$4 -> 0 | AH30: =AH$8*LCI!$D$4 -> 0 | AI30: =AI$8*LCI!$K$4 -> 0 | AJ30: =AJ$8*LCI!$R$4 -> 0 | AK30: =AK$8*LCI!$Y$4 -> 0 | AL30: =AL$8*LCI!$AF$4 -> 0 | AM30: =AM$8*LCI!$AM$4 -> 0 | AN30: =AN$8*LCI!$D$4 -> 0 | AO30: =AO$8*LCI!$K$4 -> 0 | AP30: =AP$8*LCI!$R$4 -> 0 | AQ30: =AQ$8*LCI!$Y$4 -> 0 | AR30: =AR$8*LCI!$AF$4 -> 0 | AS30: =AS$8*LCI!$AM$4 -> 0 | AT30: =AT$8*LCI!$D$4 -> 0 | AU30: =AU$8*LCI!$K$4 -> 0 | AV30: =AV$8*LCI!$R$4 -> 0 | AW30: =AW$8*LCI!$Y$4 -> 0 | AX30: =AX$8*LCI!$AF$4 -> 0 | AY30: =AY$8*LCI!$AM$4 -> 0 | AZ30: =AZ$8*LCI!$D$4 -> 0 | BA30: =BA$8*LCI!$K$4 -> 0 | BB30: =BB$8*LCI!$R$4 -> 0 | BC30: =BC$8*LCI!$Y$4 -> 0 | BD30: =BD$8*LCI!$AF$4 -> 0 | BE30: =BE$8*LCI!$AM$4 -> 0 | BF30: =BF$8*LCI!$D$4 -> 0 | BG30: =BG$8*LCI!$K$4 -> 0 | BH30: =BH$8*LCI!$R$4 -> 0 | BI30: =BI$8*LCI!$Y$4 -> 0 | BJ30: =BJ$8*LCI!$AF$4 -> 0 | BK30: =BK$8*LCI!$AM$4 -> 0 | BL30: =BL$8*LCI!$D$4 -> 0 | BM30: =BM$8*LCI!$K$4 -> 0 | BN30: =BN$8*LCI!$R$4 -> 0 | BO30: =BO$8*LCI!$Y$4 -> 0 | BP30: =BP$8*LCI!$AF$4 -> 0 | BQ30: =BQ$8*LCI!$AM$4 -> 0 | BR30: =BR$8*LCI!$D$4 -> 0 | BS30: =BS$8*LCI!$K$4 -> 0 | BT30: =BT$8*LCI!$R$4 -> 0 | BU30: =BU$8*LCI!$Y$4 -> 0 | BV30: =BV$8*LCI!$AF$4 -> 0 | BW30: =BW$8*LCI!$AM$4 -> 0 | BX30: =BX$8*LCI!$D$4 -> 0 | BY30: =BY$8*LCI!$K$4 -> 0 | BZ30: =BZ$8*LCI!$R$4 -> 0 | CA30: =CA$8*LCI!$Y$4 -> 0 | CB30: =CB$8*LCI!$AF$4 -> 0 | CC30: =CC$8*LCI!$AM$4 -> 0 | CD30: =CD$8*LCI!$D$4 -> 0 | CE30: =CE$8*LCI!$K$4 -> 0 | CF30: =CF$8*LCI!$R$4 -> 0 | CG30: =CG$8*LCI!$Y$4 -> 0 | CH30: =CH$8*LCI!$AF$4 -> 0 | CI30: =CI$8*LCI!$AM$4 -> 0 | CJ30: =CJ$8*LCI!$D$4 -> 0 | CK30: =CK$8*LCI!$K$4 -> 0 | CL30: =CL$8*LCI!$R$4 -> 0 | CM30: =CM$8*LCI!$Y$4 -> 0 | CN30: =CN$8*LCI!$AF$4 -> 0 | CO30: =CO$8*LCI!$AM$4 -> 0 | CP30: =CP$8*LCI!$D$4 -> 0 | CQ30: =CQ$8*LCI!$K$4 -> 0 | CR30: =CR$8*LCI!$R$4 -> 0 | CS30: =CS$8*LCI!$Y$4 -> 0 | CT30: =CT$8*LCI!$AF$4 -> 0 | CU30: =CU$8*LCI!$AM$4 -> 0
A31: 25 | C31: Speicherkraftwerke | D31: =D$9*LCI!$D$5 -> 0.0002715828 | E31: =E$9*LCI!$K$5 -> 0 | F31: =F$9*LCI!$R$5 -> 0 | G31: =G$9*LCI!$Y$5 -> 0 | H31: =H$9*LCI!$AF$5 -> 0 | I31: =I$9*LCI!$AM$5 -> 0 | J31: =J$9*LCI!$D$5 -> 0.00026204341 | K31: =K$9*LCI!$K$5 -> 0 | L31: =L$9*LCI!$R$5 -> 0 | M31: =M$9*LCI!$Y$5 -> 0 | N31: =N$9*LCI!$AF$5 -> 0 | O31: =O$9*LCI!$AM$5 -> 0 | P31: =P$9*LCI!$D$5 -> 0.00028760582 | Q31: =Q$9*LCI!$K$5 -> 0 | R31: =R$9*LCI!$R$5 -> 0 | S31: =S$9*LCI!$Y$5 -> 0 | T31: =T$9*LCI!$AF$5 -> 0 | U31: =U$9*LCI!$AM$5 -> 0 | V31: =V$9*LCI!$D$5 -> 0.00030110905 | W31: =W$9*LCI!$K$5 -> 0 | X31: =X$9*LCI!$R$5 -> 0 | Y31: =Y$9*LCI!$Y$5 -> 0 | Z31: =Z$9*LCI!$AF$5 -> 0 | AA31: =AA$9*LCI!$AM$5 -> 0 | AB31: =AB$9*LCI!$D$5 -> 0.00027476012 | AC31: =AC$9*LCI!$K$5 -> 0 | AD31: =AD$9*LCI!$R$5 -> 0 | AE31: =AE$9*LCI!$Y$5 -> 0 | AF31: =AF$9*LCI!$AF$5 -> 0 | AG31: =AG$9*LCI!$AM$5 -> 0 | AH31: =AH$9*LCI!$D$5 -> 0.00025438351 | AI31: =AI$9*LCI!$K$5 -> 0 | AJ31: =AJ$9*LCI!$R$5 -> 0 | AK31: =AK$9*LCI!$Y$5 -> 0 | AL31: =AL$9*LCI!$AF$5 -> 0 | AM31: =AM$9*LCI!$AM$5 -> 0 | AN31: =AN$9*LCI!$D$5 -> 0.00025724902 | AO31: =AO$9*LCI!$K$5 -> 0 | AP31: =AP$9*LCI!$R$5 -> 0 | AQ31: =AQ$9*LCI!$Y$5 -> 0 | AR31: =AR$9*LCI!$AF$5 -> 0 | AS31: =AS$9*LCI!$AM$5 -> 0 | AT31: =AT$9*LCI!$D$5 -> 0.0002533295 | AU31: =AU$9*LCI!$K$5 -> 0 | AV31: =AV$9*LCI!$R$5 -> 0 | AW31: =AW$9*LCI!$Y$5 -> 0 | AX31: =AX$9*LCI!$AF$5 -> 0 | AY31: =AY$9*LCI!$AM$5 -> 0 | AZ31: =AZ$9*LCI!$D$5 -> 0.00027494244 | BA31: =BA$9*LCI!$K$5 -> 0 | BB31: =BB$9*LCI!$R$5 -> 0 | BC31: =BC$9*LCI!$Y$5 -> 0 | BD31: =BD$9*LCI!$AF$5 -> 0 | BE31: =BE$9*LCI!$AM$5 -> 0 | BF31: =BF$9*LCI!$D$5 -> 0.00025423041 | BG31: =BG$9*LCI!$K$5 -> 0 | BH31: =BH$9*LCI!$R$5 -> 0 | BI31: =BI$9*LCI!$Y$5 -> 0 | BJ31: =BJ$9*LCI!$AF$5 -> 0 | BK31: =BK$9*LCI!$AM$5 -> 0 | BL31: =BL$9*LCI!$D$5 -> 0.00025592691 | BM31: =BM$9*LCI!$K$5 -> 0 | BN31: =BN$9*LCI!$R$5 -> 0 | BO31: =BO$9*LCI!$Y$5 -> 0 | BP31: =BP$9*LCI!$AF$5 -> 0 | BQ31: =BQ$9*LCI!$AM$5 -> 0 | BR31: =BR$9*LCI!$D$5 -> 0.00024086997 | BS31: =BS$9*LCI!$K$5 -> 0 | BT31: =BT$9*LCI!$R$5 -> 0 | BU31: =BU$9*LCI!$Y$5 -> 0 | BV31: =BV$9*LCI!$AF$5 -> 0 | BW31: =BW$9*LCI!$AM$5 -> 0 | BX31: =BX$9*LCI!$D$5 -> 0.00027501733 | BY31: =BY$9*LCI!$K$5 -> 0 | BZ31: =BZ$9*LCI!$R$5 -> 0 | CA31: =CA$9*LCI!$Y$5 -> 0 | CB31: =CB$9*LCI!$AF$5 -> 0 | CC31: =CC$9*LCI!$AM$5 -> 0 | CD31: =CD$9*LCI!$D$5 -> 0.00025395558 | CE31: =CE$9*LCI!$K$5 -> 0 | CF31: =CF$9*LCI!$R$5 -> 0 | CG31: =CG$9*LCI!$Y$5 -> 0 | CH31: =CH$9*LCI!$AF$5 -> 0 | CI31: =CI$9*LCI!$AM$5 -> 0 | CJ31: =CJ$9*LCI!$D$5 -> 0.00025670175 | CK31: =CK$9*LCI!$K$5 -> 0 | CL31: =CL$9*LCI!$R$5 -> 0 | CM31: =CM$9*LCI!$Y$5 -> 0 | CN31: =CN$9*LCI!$AF$5 -> 0 | CO31: =CO$9*LCI!$AM$5 -> 0 | CP31: =CP$9*LCI!$D$5 -> 0.0002601466 | CQ31: =CQ$9*LCI!$K$5 -> 0 | CR31: =CR$9*LCI!$R$5 -> 0 | CS31: =CS$9*LCI!$Y$5 -> 0 | CT31: =CT$9*LCI!$AF$5 -> 0 | CU31: =CU$9*LCI!$AM$5 -> 0
A32: 26 | C32: Laufwasserkraft | D32: =D$10*LCI!$D$6 -> 0.0002702198 | E32: =E$10*LCI!$K$6 -> 0 | F32: =F$10*LCI!$R$6 -> 0 | G32: =G$10*LCI!$Y$6 -> 0 | H32: =H$10*LCI!$AF$6 -> 0 | I32: =I$10*LCI!$AM$6 -> 0 | J32: =J$10*LCI!$D$6 -> 0.00025810517 | K32: =K$10*LCI!$K$6 -> 0 | L32: =L$10*LCI!$R$6 -> 0 | M32: =M$10*LCI!$Y$6 -> 0 | N32: =N$10*LCI!$AF$6 -> 0 | O32: =O$10*LCI!$AM$6 -> 0 | P32: =P$10*LCI!$D$6 -> 0.00027760762 | Q32: =Q$10*LCI!$K$6 -> 0 | R32: =R$10*LCI!$R$6 -> 0 | S32: =S$10*LCI!$Y$6 -> 0 | T32: =T$10*LCI!$AF$6 -> 0 | U32: =U$10*LCI!$AM$6 -> 0 | V32: =V$10*LCI!$D$6 -> 0.00028675607 | W32: =W$10*LCI!$K$6 -> 0 | X32: =X$10*LCI!$R$6 -> 0 | Y32: =Y$10*LCI!$Y$6 -> 0 | Z32: =Z$10*LCI!$AF$6 -> 0 | AA32: =AA$10*LCI!$AM$6 -> 0 | AB32: =AB$10*LCI!$D$6 -> 0.00026856154 | AC32: =AC$10*LCI!$K$6 -> 0 | AD32: =AD$10*LCI!$R$6 -> 0 | AE32: =AE$10*LCI!$Y$6 -> 0 | AF32: =AF$10*LCI!$AF$6 -> 0 | AG32: =AG$10*LCI!$AM$6 -> 0 | AH32: =AH$10*LCI!$D$6 -> 0.00024440726 | AI32: =AI$10*LCI!$K$6 -> 0 | AJ32: =AJ$10*LCI!$R$6 -> 0 | AK32: =AK$10*LCI!$Y$6 -> 0 | AL32: =AL$10*LCI!$AF$6 -> 0 | AM32: =AM$10*LCI!$AM$6 -> 0 | AN32: =AN$10*LCI!$D$6 -> 0.00024392563 | AO32: =AO$10*LCI!$K$6 -> 0 | AP32: =AP$10*LCI!$R$6 -> 0 | AQ32: =AQ$10*LCI!$Y$6 -> 0 | AR32: =AR$10*LCI!$AF$6 -> 0 | AS32: =AS$10*LCI!$AM$6 -> 0 | AT32: =AT$10*LCI!$D$6 -> 0.00022957885 | AU32: =AU$10*LCI!$K$6 -> 0 | AV32: =AV$10*LCI!$R$6 -> 0 | AW32: =AW$10*LCI!$Y$6 -> 0 | AX32: =AX$10*LCI!$AF$6 -> 0 | AY32: =AY$10*LCI!$AM$6 -> 0 | AZ32: =AZ$10*LCI!$D$6 -> 0.00026908038 | BA32: =BA$10*LCI!$K$6 -> 0 | BB32: =BB$10*LCI!$R$6 -> 0 | BC32: =BC$10*LCI!$Y$6 -> 0 | BD32: =BD$10*LCI!$AF$6 -> 0 | BE32: =BE$10*LCI!$AM$6 -> 0 | BF32: =BF$10*LCI!$D$6 -> 0.00024472226 | BG32: =BG$10*LCI!$K$6 -> 0 | BH32: =BH$10*LCI!$R$6 -> 0 | BI32: =BI$10*LCI!$Y$6 -> 0 | BJ32: =BJ$10*LCI!$AF$6 -> 0 | BK32: =BK$10*LCI!$AM$6 -> 0 | BL32: =BL$10*LCI!$D$6 -> 0.0002441752 | BM32: =BM$10*LCI!$K$6 -> 0 | BN32: =BN$10*LCI!$R$6 -> 0 | BO32: =BO$10*LCI!$Y$6 -> 0 | BP32: =BP$10*LCI!$AF$6 -> 0 | BQ32: =BQ$10*LCI!$AM$6 -> 0 | BR32: =BR$10*LCI!$D$6 -> 0.00021946992 | BS32: =BS$10*LCI!$K$6 -> 0 | BT32: =BT$10*LCI!$R$6 -> 0 | BU32: =BU$10*LCI!$Y$6 -> 0 | BV32: =BV$10*LCI!$AF$6 -> 0 | BW32: =BW$10*LCI!$AM$6 -> 0 | BX32: =BX$10*LCI!$D$6 -> 0.00026892941 | BY32: =BY$10*LCI!$K$6 -> 0 | BZ32: =BZ$10*LCI!$R$6 -> 0 | CA32: =CA$10*LCI!$Y$6 -> 0 | CB32: =CB$10*LCI!$AF$6 -> 0 | CC32: =CC$10*LCI!$AM$6 -> 0 | CD32: =CD$10*LCI!$D$6 -> 0.00024438133 | CE32: =CE$10*LCI!$K$6 -> 0 | CF32: =CF$10*LCI!$R$6 -> 0 | CG32: =CG$10*LCI!$Y$6 -> 0 | CH32: =CH$10*LCI!$AF$6 -> 0 | CI32: =CI$10*LCI!$AM$6 -> 0 | CJ32: =CJ$10*LCI!$D$6 -> 0.00024420657 | CK32: =CK$10*LCI!$K$6 -> 0 | CL32: =CL$10*LCI!$R$6 -> 0 | CM32: =CM$10*LCI!$Y$6 -> 0 | CN32: =CN$10*LCI!$AF$6 -> 0 | CO32: =CO$10*LCI!$AM$6 -> 0 | CP32: =CP$10*LCI!$D$6 -> 0.00023760905 | CQ32: =CQ$10*LCI!$K$6 -> 0 | CR32: =CR$10*LCI!$R$6 -> 0 | CS32: =CS$10*LCI!$Y$6 -> 0 | CT32: =CT$10*LCI!$AF$6 -> 0 | CU32: =CU$10*LCI!$AM$6 -> 0
A33: 27 | C33: Pumpspeicher | D33: =D$11*(LCI!$D$7+1.419*SUM(D30:D32,D34:D50)) -> 0.002869629 | E33: =E$11*(LCI!$K$7+1.447*SUM(E30:E32,E34:E50)) -> 0 | F33: =F$11*(LCI!$R$7+1.523*SUM(F30:F32,F34:F50)) -> 0 | G33: =G$11*(LCI!$Y$7+1.357*SUM(G30:G32,G34:G50)) -> 0 | H33: =H$11*(LCI!$AF$7+1.396*SUM(H30:H32,H34:H50)) -> 0 | I33: =I$11*(LCI!$AM$7+1.25*SUM(I30:I32,I34:I50)) -> 0 | J33: =J$11*(LCI!$D$7+1.419*SUM(J30:J32,J34:J50)) -> 0.003381234 | K33: =K$11*(LCI!$K$7+1.447*SUM(K30:K32,K34:K50)) -> 0 | L33: =L$11*(LCI!$R$7+1.523*SUM(L30:L32,L34:L50)) -> 0 | M33: =M$11*(LCI!$Y$7+1.357*SUM(M30:M32,M34:M50)) -> 0 | N33: =N$11*(LCI!$AF$7+1.396*SUM(N30:N32,N34:N50)) -> 0 | O33: =O$11*(LCI!$AM$7+1.25*SUM(O30:O32,O34:O50)) -> 0 | P33: =P$11*(LCI!$D$7+1.419*SUM(P30:P32,P34:P50)) -> 0.0035568596 | Q33: =Q$11*(LCI!$K$7+1.447*SUM(Q30:Q32,Q34:Q50)) -> 0 | R33: =R$11*(LCI!$R$7+1.523*SUM(R30:R32,R34:R50)) -> 0 | S33: =S$11*(LCI!$Y$7+1.357*SUM(S30:S32,S34:S50)) -> 0 | T33: =T$11*(LCI!$AF$7+1.396*SUM(T30:T32,T34:T50)) -> 0 | U33: =U$11*(LCI!$AM$7+1.25*SUM(U30:U32,U34:U50)) -> 0 | V33: =V$11*(LCI!$D$7+1.419*SUM(V30:V32,V34:V50)) -> 0.0036226334 | W33: =W$11*(LCI!$K$7+1.447*SUM(W30:W32,W34:W50)) -> 0 | X33: =X$11*(LCI!$R$7+1.523*SUM(X30:X32,X34:X50)) -> 0 | Y33: =Y$11*(LCI!$Y$7+1.357*SUM(Y30:Y32,Y34:Y50)) -> 0 | Z33: =Z$11*(LCI!$AF$7+1.396*SUM(Z30:Z32,Z34:Z50)) -> 0 | AA33: =AA$11*(LCI!$AM$7+1.25*SUM(AA30:AA32,AA34:AA50)) -> 0 | AB33: =AB$11*(LCI!$D$7+1.419*SUM(AB30:AB32,AB34:AB50)) -> 0.0023199489 | AC33: =AC$11*(LCI!$K$7+1.447*SUM(AC30:AC32,AC34:AC50)) -> 0 | AD33: =AD$11*(LCI!$R$7+1.523*SUM(AD30:AD32,AD34:AD50)) -> 0 | AE33: =AE$11*(LCI!$Y$7+1.357*SUM(AE30:AE32,AE34:AE50)) -> 0 | AF33: =AF$11*(LCI!$AF$7+1.396*SUM(AF30:AF32,AF34:AF50)) -> 0 | AG33: =AG$11*(LCI!$AM$7+1.25*SUM(AG30:AG32,AG34:AG50)) -> 0 | AH33: =AH$11*(LCI!$D$7+1.419*SUM(AH30:AH32,AH34:AH50)) -> 0.0021785399 | AI33: =AI$11*(LCI!$K$7+1.447*SUM(AI30:AI32,AI34:AI50)) -> 0 | AJ33: =AJ$11*(LCI!$R$7+1.523*SUM(AJ30:AJ32,AJ34:AJ50)) -> 0 | AK33: =AK$11*(LCI!$Y$7+1.357*SUM(AK30:AK32,AK34:AK50)) -> 0 | AL33: =AL$11*(LCI!$AF$7+1.396*SUM(AL30:AL32,AL34:AL50)) -> 0 | AM33: =AM$11*(LCI!$AM$7+1.25*SUM(AM30:AM32,AM34:AM50)) -> 0 | AN33: =AN$11*(LCI!$D$7+1.419*SUM(AN30:AN32,AN34:AN50)) -> 0.002075168 | AO33: =AO$11*(LCI!$K$7+1.447*SUM(AO30:AO32,AO34:AO50)) -> 0 | AP33: =AP$11*(LCI!$R$7+1.523*SUM(AP30:AP32,AP34:AP50)) -> 0 | AQ33: =AQ$11*(LCI!$Y$7+1.357*SUM(AQ30:AQ32,AQ34:AQ50)) -> 0 | AR33: =AR$11*(LCI!$AF$7+1.396*SUM(AR30:AR32,AR34:AR50)) -> 0 | AS33: =AS$11*(LCI!$AM$7+1.25*SUM(AS30:AS32,AS34:AS50)) -> 0 | AT33: =AT$11*(LCI!$D$7+1.419*SUM(AT30:AT32,AT34:AT50)) -> 0.0011642057 | AU33: =AU$11*(LCI!$K$7+1.447*SUM(AU30:AU32,AU34:AU50)) -> 0 | AV33: =AV$11*(LCI!$R$7+1.523*SUM(AV30:AV32,AV34:AV50)) -> 0 | AW33: =AW$11*(LCI!$Y$7+1.357*SUM(AW30:AW32,AW34:AW50)) -> 0 | AX33: =AX$11*(LCI!$AF$7+1.396*SUM(AX30:AX32,AX34:AX50)) -> 0 | AY33: =AY$11*(LCI!$AM$7+1.25*SUM(AY30:AY32,AY34:AY50)) -> 0 | AZ33: =AZ$11*(LCI!$D$7+1.419*SUM(AZ30:AZ32,AZ34:AZ50)) -> 0.0022734852 | BA33: =BA$11*(LCI!$K$7+1.447*SUM(BA30:BA32,BA34:BA50)) -> 0 | BB33: =BB$11*(LCI!$R$7+1.523*SUM(BB30:BB32,BB34:BB50)) -> 0 | BC33: =BC$11*(LCI!$Y$7+1.357*SUM(BC30:BC32,BC34:BC50)) -> 0 | BD33: =BD$11*(LCI!$AF$7+1.396*SUM(BD30:BD32,BD34:BD50)) -> 0 | BE33: =BE$11*(LCI!$AM$7+1.25*SUM(BE30:BE32,BE34:BE50)) -> 0 | BF33: =BF$11*(LCI!$D$7+1.419*SUM(BF30:BF32,BF34:BF50)) -> 0.0022333591 | BG33: =BG$11*(LCI!$K$7+1.447*SUM(BG30:BG32,BG34:BG50)) -> 0 | BH33: =BH$11*(LCI!$R$7+1.523*SUM(BH30:BH32,BH34:BH50)) -> 0 | BI33: =BI$11*(LCI!$Y$7+1.357*SUM(BI30:BI32,BI34:BI50)) -> 0 | BJ33: =BJ$11*(LCI!$AF$7+1.396*SUM(BJ30:BJ32,BJ34:BJ50)) -> 0 | BK33: =BK$11*(LCI!$AM$7+1.25*SUM(BK30:BK32,BK34:BK50)) -> 0 | BL33: =BL$11*(LCI!$D$7+1.419*SUM(BL30:BL32,BL34:BL50)) -> 0.0020971688 | BM33: =BM$11*(LCI!$K$7+1.447*SUM(BM30:BM32,BM34:BM50)) -> 0 | BN33: =BN$11*(LCI!$R$7+1.523*SUM(BN30:BN32,BN34:BN50)) -> 0 | BO33: =BO$11*(LCI!$Y$7+1.357*SUM(BO30:BO32,BO34:BO50)) -> 0 | BP33: =BP$11*(LCI!$AF$7+1.396*SUM(BP30:BP32,BP34:BP50)) -> 0 | BQ33: =BQ$11*(LCI!$AM$7+1.25*SUM(BQ30:BQ32,BQ34:BQ50)) -> 0 | BR33: =BR$11*(LCI!$D$7+1.419*SUM(BR30:BR32,BR34:BR50)) -> 0.0010753414 | BS33: =BS$11*(LCI!$K$7+1.447*SUM(BS30:BS32,BS34:BS50)) -> 0 | BT33: =BT$11*(LCI!$R$7+1.523*SUM(BT30:BT32,BT34:BT50)) -> 0 | BU33: =BU$11*(LCI!$Y$7+1.357*SUM(BU30:BU32,BU34:BU50)) -> 0 | BV33: =BV$11*(LCI!$AF$7+1.396*SUM(BV30:BV32,BV34:BV50)) -> 0 | BW33: =BW$11*(LCI!$AM$7+1.25*SUM(BW30:BW32,BW34:BW50)) -> 0 | BX33: =BX$11*(LCI!$D$7+1.419*SUM(BX30:BX32,BX34:BX50)) -> 0.00238189 | BY33: =BY$11*(LCI!$K$7+1.447*SUM(BY30:BY32,BY34:BY50)) -> 0 | BZ33: =BZ$11*(LCI!$R$7+1.523*SUM(BZ30:BZ32,BZ34:BZ50)) -> 0 | CA33: =CA$11*(LCI!$Y$7+1.357*SUM(CA30:CA32,CA34:CA50)) -> 0 | CB33: =CB$11*(LCI!$AF$7+1.396*SUM(CB30:CB32,CB34:CB50)) -> 0 | CC33: =CC$11*(LCI!$AM$7+1.25*SUM(CC30:CC32,CC34:CC50)) -> 0 | CD33: =CD$11*(LCI!$D$7+1.419*SUM(CD30:CD32,CD34:CD50)) -> 0.0022982901 | CE33: =CE$11*(LCI!$K$7+1.447*SUM(CE30:CE32,CE34:CE50)) -> 0 | CF33: =CF$11*(LCI!$R$7+1.523*SUM(CF30:CF32,CF34:CF50)) -> 0 | CG33: =CG$11*(LCI!$Y$7+1.357*SUM(CG30:CG32,CG34:CG50)) -> 0 | CH33: =CH$11*(LCI!$AF$7+1.396*SUM(CH30:CH32,CH34:CH50)) -> 0 | CI33: =CI$11*(LCI!$AM$7+1.25*SUM(CI30:CI32,CI34:CI50)) -> 0 | CJ33: =CJ$11*(LCI!$D$7+1.419*SUM(CJ30:CJ32,CJ34:CJ50)) -> 0.0021287238 | CK33: =CK$11*(LCI!$K$7+1.447*SUM(CK30:CK32,CK34:CK50)) -> 0 | CL33: =CL$11*(LCI!$R$7+1.523*SUM(CL30:CL32,CL34:CL50)) -> 0 | CM33: =CM$11*(LCI!$Y$7+1.357*SUM(CM30:CM32,CM34:CM50)) -> 0 | CN33: =CN$11*(LCI!$AF$7+1.396*SUM(CN30:CN32,CN34:CN50)) -> 0 | CO33: =CO$11*(LCI!$AM$7+1.25*SUM(CO30:CO32,CO34:CO50)) -> 0 | CP33: =CP$11*(LCI!$D$7+1.419*SUM(CP30:CP32,CP34:CP50)) -> 0.0012866272 | CQ33: =CQ$11*(LCI!$K$7+1.447*SUM(CQ30:CQ32,CQ34:CQ50)) -> 0 | CR33: =CR$11*(LCI!$R$7+1.523*SUM(CR30:CR32,CR34:CR50)) -> 0 | CS33: =CS$11*(LCI!$Y$7+1.357*SUM(CS30:CS32,CS34:CS50)) -> 0 | CT33: =CT$11*(LCI!$AF$7+1.396*SUM(CT30:CT32,CT34:CT50)) -> 0 | CU33: =CU$11*(LCI!$AM$7+1.25*SUM(CU30:CU32,CU34:CU50)) -> 0
A34: 28 | C34: Wasserkraft (unspezifisch) | D34: =D$12*LCI!$D$8 -> 0 | E34: =E$12*LCI!$K$8 -> 0.00036290558 | F34: =F$12*LCI!$R$8 -> 2.4832236e-05 | G34: =G$12*LCI!$Y$8 -> 6.6218853e-05 | H34: =H$12*LCI!$AF$8 -> 8.0271132e-05 | I34: =I$12*LCI!$AM$8 -> 5.2242501e-05 | J34: =J$12*LCI!$D$8 -> 0 | K34: =K$12*LCI!$K$8 -> 0.00032278116 | L34: =L$12*LCI!$R$8 -> 2.2912604e-05 | M34: =M$12*LCI!$Y$8 -> 7.6216634e-05 | N34: =N$12*LCI!$AF$8 -> 7.5553227e-05 | O34: =O$12*LCI!$AM$8 -> 4.2736411e-05 | P34: =P$12*LCI!$D$8 -> 0 | Q34: =Q$12*LCI!$K$8 -> 0.00029558648 | R34: =R$12*LCI!$R$8 -> 2.2127626e-05 | S34: =S$12*LCI!$Y$8 -> 8.0316087e-05 | T34: =T$12*LCI!$AF$8 -> 7.6224781e-05 | U34: =U$12*LCI!$AM$8 -> 3.6154208e-05 | V34: =V$12*LCI!$D$8 -> 0 | W34: =W$12*LCI!$K$8 -> 0.00029476823 | X34: =X$12*LCI!$R$8 -> 2.2561849e-05 | Y34: =Y$12*LCI!$Y$8 -> 7.9058251e-05 | Z34: =Z$12*LCI!$AF$8 -> 7.9140089e-05 | AA34: =AA$12*LCI!$AM$8 -> 2.7634771e-05 | AB34: =AB$12*LCI!$D$8 -> 0 | AC34: =AC$12*LCI!$K$8 -> 0.0003600623 | AD34: =AD$12*LCI!$R$8 -> 2.8972479e-05 | AE34: =AE$12*LCI!$Y$8 -> 6.6094971e-05 | AF34: =AF$12*LCI!$AF$8 -> 8.0230314e-05 | AG34: =AG$12*LCI!$AM$8 -> 5.2242501e-05 | AH34: =AH$12*LCI!$D$8 -> 0 | AI34: =AI$12*LCI!$K$8 -> 0.00029656186 | AJ34: =AJ$12*LCI!$R$8 -> 2.3032724e-05 | AK34: =AK$12*LCI!$Y$8 -> 6.5446253e-05 | AL34: =AL$12*LCI!$AF$8 -> 7.0599665e-05 | AM34: =AM$12*LCI!$AM$8 -> 4.1614363e-05 | AN34: =AN$12*LCI!$D$8 -> 0 | AO34: =AO$12*LCI!$K$8 -> 0.00029786618 | AP34: =AP$12*LCI!$R$8 -> 1.9322151e-05 | AQ34: =AQ$12*LCI!$Y$8 -> 6.4774715e-05 | AR34: =AR$12*LCI!$AF$8 -> 7.1565474e-05 | AS34: =AS$12*LCI!$AM$8 -> 3.4573738e-05 | AT34: =AT$12*LCI!$D$8 -> 0 | AU34: =AU$12*LCI!$K$8 -> 0.00028093575 | AV34: =AV$12*LCI!$R$8 -> 1.3754803e-05 | AW34: =AW$12*LCI!$Y$8 -> 5.483668e-05 | AX34: =AX$12*LCI!$AF$8 -> 6.4346342e-05 | AY34: =AY$12*LCI!$AM$8 -> 2.7471759e-05 | AZ34: =AZ$12*LCI!$D$8 -> 0 | BA34: =BA$12*LCI!$K$8 -> 0.0003600623 | BB34: =BB$12*LCI!$R$8 -> 2.8972479e-05 | BC34: =BC$12*LCI!$Y$8 -> 6.6094971e-05 | BD34: =BD$12*LCI!$AF$8 -> 8.0230314e-05 | BE34: =BE$12*LCI!$AM$8 -> 5.2242501e-05 | BF34: =BF$12*LCI!$D$8 -> 0 | BG34: =BG$12*LCI!$K$8 -> 0.00029656186 | BH34: =BH$12*LCI!$R$8 -> 2.3032724e-05 | BI34: =BI$12*LCI!$Y$8 -> 6.5446253e-05 | BJ34: =BJ$12*LCI!$AF$8 -> 7.0599665e-05 | BK34: =BK$12*LCI!$AM$8 -> 4.2034453e-05 | BL34: =BL$12*LCI!$D$8 -> 0 | BM34: =BM$12*LCI!$K$8 -> 0.00029786618 | BN34: =BN$12*LCI!$R$8 -> 1.9322151e-05 | BO34: =BO$12*LCI!$Y$8 -> 6.4774715e-05 | BP34: =BP$12*LCI!$AF$8 -> 7.1565474e-05 | BQ34: =BQ$12*LCI!$AM$8 -> 3.5155721e-05 | BR34: =BR$12*LCI!$D$8 -> 0 | BS34: =BS$12*LCI!$K$8 -> 0.00028093575 | BT34: =BT$12*LCI!$R$8 -> 1.3754803e-05 | BU34: =BU$12*LCI!$Y$8 -> 5.483668e-05 | BV34: =BV$12*LCI!$AF$8 -> 6.4346342e-05 | BW34: =BW$12*LCI!$AM$8 -> 2.7655469e-05 | BX34: =BX$12*LCI!$D$8 -> 0 | BY34: =BY$12*LCI!$K$8 -> 0.0003600623 | BZ34: =BZ$12*LCI!$R$8 -> 2.8972479e-05 | CA34: =CA$12*LCI!$Y$8 -> 6.6094971e-05 | CB34: =CB$12*LCI!$AF$8 -> 8.0230314e-05 | CC34: =CC$12*LCI!$AM$8 -> 5.2242501e-05 | CD34: =CD$12*LCI!$D$8 -> 0 | CE34: =CE$12*LCI!$K$8 -> 0.00029656186 | CF34: =CF$12*LCI!$R$8 -> 2.3032724e-05 | CG34: =CG$12*LCI!$Y$8 -> 6.5446253e-05 | CH34: =CH$12*LCI!$AF$8 -> 7.0599665e-05 | CI34: =CI$12*LCI!$AM$8 -> 4.2034453e-05 | CJ34: =CJ$12*LCI!$D$8 -> 0 | CK34: =CK$12*LCI!$K$8 -> 0.00029786618 | CL34: =CL$12*LCI!$R$8 -> 1.9322151e-05 | CM34: =CM$12*LCI!$Y$8 -> 6.4774715e-05 | CN34: =CN$12*LCI!$AF$8 -> 7.1565474e-05 | CO34: =CO$12*LCI!$AM$8 -> 3.5155721e-05 | CP34: =CP$12*LCI!$D$8 -> 0 | CQ34: =CQ$12*LCI!$K$8 -> 0.00028093575 | CR34: =CR$12*LCI!$R$8 -> 1.3754803e-05 | CS34: =CS$12*LCI!$Y$8 -> 5.483668e-05 | CT34: =CT$12*LCI!$AF$8 -> 6.4346342e-05 | CU34: =CU$12*LCI!$AM$8 -> 2.7655469e-05
A35: 29 | C35: Kernkraft | D35: =D$13*LCI!$D$9 -> 5.6699427e-06 | E35: =E$13*LCI!$K$9 -> 0 | F35: =F$13*LCI!$R$9 -> 0 | G35: =G$13*LCI!$Y$9 -> 1.8708848e-05 | H35: =H$13*LCI!$AF$9 -> 0 | I35: =I$13*LCI!$AM$9 -> 5.3524348e-06 | J35: =J$13*LCI!$D$9 -> 4.6769482e-06 | K35: =K$13*LCI!$K$9 -> 0 | L35: =L$13*LCI!$R$9 -> 0 | M35: =M$13*LCI!$Y$9 -> 1.240077e-05 | N35: =N$13*LCI!$AF$9 -> 0 | O35: =O$13*LCI!$AM$9 -> 4.2023367e-06 | P35: =P$13*LCI!$D$9 -> 2.677681e-06 | Q35: =Q$13*LCI!$K$9 -> 0 | R35: =R$13*LCI!$R$9 -> 0 | S35: =S$13*LCI!$Y$9 -> 5.7608584e-06 | T35: =T$13*LCI!$AF$9 -> 0 | U35: =U$13*LCI!$AM$9 -> 3.4059862e-06 | V35: =V$13*LCI!$D$9 -> 0 | W35: =W$13*LCI!$K$9 -> 0 | X35: =X$13*LCI!$R$9 -> 0 | Y35: =Y$13*LCI!$Y$9 -> 5.9442248e-07 | Z35: =Z$13*LCI!$AF$9 -> 0 | AA35: =AA$13*LCI!$AM$9 -> 2.3752587e-06 | AB35: =AB$13*LCI!$D$9 -> 5.4313141e-06 | AC35: =AC$13*LCI!$K$9 -> 0 | AD35: =AD$13*LCI!$R$9 -> 0 | AE35: =AE$13*LCI!$Y$9 -> 1.6929382e-05 | AF35: =AF$13*LCI!$AF$9 -> 0 | AG35: =AG$13*LCI!$AM$9 -> 5.3524348e-06 | AH35: =AH$13*LCI!$D$9 -> 4.1442982e-06 | AI35: =AI$13*LCI!$K$9 -> 0 | AJ35: =AJ$13*LCI!$R$9 -> 0 | AK35: =AK$13*LCI!$Y$9 -> 8.8484358e-06 | AL35: =AL$13*LCI!$AF$9 -> 0 | AM35: =AM$13*LCI!$AM$9 -> 3.642335e-06 | AN35: =AN$13*LCI!$D$9 -> 2.0578573e-06 | AO35: =AO$13*LCI!$K$9 -> 0 | AP35: =AP$13*LCI!$R$9 -> 0 | AQ35: =AQ$13*LCI!$Y$9 -> 3.2994541e-06 | AR35: =AR$13*LCI!$AF$9 -> 0 | AS35: =AS$13*LCI!$AM$9 -> 2.5094769e-06 | AT35: =AT$13*LCI!$D$9 -> 0 | AU35: =AU$13*LCI!$K$9 -> 0 | AV35: =AV$13*LCI!$R$9 -> 0 | AW35: =AW$13*LCI!$Y$9 -> 2.4653508e-07 | AX35: =AX$13*LCI!$AF$9 -> 0 | AY35: =AY$13*LCI!$AM$9 -> 1.2300208e-06 | AZ35: =AZ$13*LCI!$D$9 -> 5.4363704e-06 | BA35: =BA$13*LCI!$K$9 -> 0 | BB35: =BB$13*LCI!$R$9 -> 0 | BC35: =BC$13*LCI!$Y$9 -> 1.6929382e-05 | BD35: =BD$13*LCI!$AF$9 -> 0 | BE35: =BE$13*LCI!$AM$9 -> 5.3524348e-06 | BF35: =BF$13*LCI!$D$9 -> 4.1697126e-06 | BG35: =BG$13*LCI!$K$9 -> 0 | BH35: =BH$13*LCI!$R$9 -> 0 | BI35: =BI$13*LCI!$Y$9 -> 8.8484358e-06 | BJ35: =BJ$13*LCI!$AF$9 -> 0 | BK35: =BK$13*LCI!$AM$9 -> 4.2526225e-06 | BL35: =BL$13*LCI!$D$9 -> 2.0877604e-06 | BM35: =BM$13*LCI!$K$9 -> 0 | BN35: =BN$13*LCI!$R$9 -> 0 | BO35: =BO$13*LCI!$Y$9 -> 3.2994541e-06 | BP35: =BP$13*LCI!$AF$9 -> 0 | BQ35: =BQ$13*LCI!$AM$9 -> 3.5115098e-06 | BR35: =BR$13*LCI!$D$9 -> 0 | BS35: =BS$13*LCI!$K$9 -> 0 | BT35: =BT$13*LCI!$R$9 -> 0 | BU35: =BU$13*LCI!$Y$9 -> 2.4653508e-07 | BV35: =BV$13*LCI!$AF$9 -> 0 | BW35: =BW$13*LCI!$AM$9 -> 2.5358071e-06 | BX35: =BX$13*LCI!$D$9 -> 5.3605646e-06 | BY35: =BY$13*LCI!$K$9 -> 0 | BZ35: =BZ$13*LCI!$R$9 -> 0 | CA35: =CA$13*LCI!$Y$9 -> 1.6929382e-05 | CB35: =CB$13*LCI!$AF$9 -> 0 | CC35: =CC$13*LCI!$AM$9 -> 5.3524348e-06 | CD35: =CD$13*LCI!$D$9 -> 4.1402572e-06 | CE35: =CE$13*LCI!$K$9 -> 0 | CF35: =CF$13*LCI!$R$9 -> 0 | CG35: =CG$13*LCI!$Y$9 -> 8.8484358e-06 | CH35: =CH$13*LCI!$AF$9 -> 0 | CI35: =CI$13*LCI!$AM$9 -> 4.2526225e-06 | CJ35: =CJ$13*LCI!$D$9 -> 2.0523637e-06 | CK35: =CK$13*LCI!$K$9 -> 0 | CL35: =CL$13*LCI!$R$9 -> 0 | CM35: =CM$13*LCI!$Y$9 -> 3.2994541e-06 | CN35: =CN$13*LCI!$AF$9 -> 0 | CO35: =CO$13*LCI!$AM$9 -> 3.5115098e-06 | CP35: =CP$13*LCI!$D$9 -> 0 | CQ35: =CQ$13*LCI!$K$9 -> 0 | CR35: =CR$13*LCI!$R$9 -> 0 | CS35: =CS$13*LCI!$Y$9 -> 2.4653508e-07 | CT35: =CT$13*LCI!$AF$9 -> 0 | CU35: =CU$13*LCI!$AM$9 -> 2.5358071e-06
