Workbook

Sheet Einleitung
C1: Rechner für die Emissionsfaktoren des zukünftigen Strommixes der Schweiz
B3: Einleitung | C3: Dieser Excelrechner dient dazu die Klima- und Umweltbelastung des Schweizer Strommix für die Jahre 2030, 2035, 2040 und 2050 zu berechnen. Dabei können die Menge, Szenarien und das Spannungslevel frei ausgewählt werden. Die Resultate dieses Rechners können anschliessend zur Planung und Kontrolle des Absenkspfades von Firmen innerhalb der Schweiz genutzt werden, wie sie beispielsweise im Rahmen des Bundesgesetz über die Ziele im Klimaschutz, die Innovation und die Stärkung der Energiesicherheit (KlG) gefordert werden.
C4: Zellen in grün können bearbeitet werden. Alle anderen Zellen sind für die Bearbeitung gesperrt.
B6: Auswahl Szenarien | C6: Im Rechner kann zwischen drei verschiedenen Szenarien ausgewählt werden. Alle stützen sich auf die Berechnungen im Rahmen der Energieperspektiven 2050+ des BFE: - Weiter wie bisher (WWB): Diese Szenario modelliert die Entwicklung, wie sie mit den bestehenden Massnahmen (Stand 2019) voraussichtlich umgesetzt wird. Ein gewisser technischer Fortschritt wird berücksichtigt. - Basisvariante (ZERO Basis): Grundlage ist die Zielsetzung des Bundesrates bis 2050 netto null Emissionen zu erreichen. Entsprechend geht dieses Szenario von einer möglichst frühen Elektrifizierung und Steigerung der Energieeffizienz aus. -> Das ZERO-Basis-Szenario ist das Referenzszenario für die Berechnung zukünftiger Emissionen. - Variante A (ZERO A): Geht im Unterschied zur Basisvariante von einer umfassenderen Elektrifizierung des Energiesystems aus. - Variante C (ZERO C): Geht im Unterschied zur Basisvariante nur von einer moderaten Elektrifizierung des Energiesystems aus.
B7: Auswahl Spannungslevel | C7: Es kann zwischen Niederspannung und Mittelspannung ausgewählt werden.
B8: Eingabe Strommenge | C8: Die Strommenge in kWh kann frei eingegeben. Sämtliche Berechnugen werden anschliessend mit diesem Wert durchgeführt. Standardmässig sind 1kWh eingestellt.
B9: Resultate | C9: Die Resultate werden sowohl tabellarisch als auch graphisch ausgegeben für die Jahre 2030, 2035, 2040 und 2050. Die Ergebnisse umfassen sowohl den Klimafussabdruck nach IPCC 2021 GWP 100 als auch den Umweltfussabdruck nach der Methode der ökologischen Knappheit 2021 in UPB. Neben dem Gesamtfussabdruck wird jeweils ausgewiesen, welcher Anteil aus der Produktion in der Schweiz stammt, welcher auf die Importe zurückzuführen ist und welcher Anteil aus Umwandlungsverlusten und der Übertragung stammt. Eine weitere Unterscheidung ist die Aufteilung in direkte Emissionen (Scope 2) und indirekte Emissionen (Scope 3) gemäss GHG Protocol.
B11: Methodik | C11: Eine ausführliche Beschreibung der Methodik findet sich im Hintergrundbericht «Emissionsfaktoren des zukünftigen Strommixes der Schweiz».
B12: Strommix | C12: Die Aufteilung der Stromproduktion auf die einzelnen Kraftwerksarten wurde aus den Modellrechnungen zu den Energieperspektiven 2050+ übernommen. Dabei wurde jeweils die Variante mit einer Laufzeit der Kernkraftwerke von 60 Jahren übernommen (KKW60). Für die Schweiz sowie die umliegenden Länder (Frankreich, Deutschland, Österreich und Italien) werden die Strommixe einzeln berechnet. Ein Durchschnittswert für Europa wurde aus den Modellrechnungen der EU (EU Reference Scenario) übernommen. Die Importe der Schweiz wurden basierend auf der stündlichen Modellierung aufgezählt. Die Aufteilung auf die umliegenden Länder wurde aus den Modellierungen von TYNDP übernommen.
B13: Hintergrunddaten | C13: Die Emissionsfaktoren für die einzelnen Kraftwerke wurden aus der BAFU-Datenbank 2025 übernommen. Für die Berechnung der Pumpspeicherwerke wurde berücksichtigt, dass jeweils nur der aktuelle Strommix verwendet wird.
B14: Bewertungsmethoden | C14: Der Klimafussabdruck wird in Gram CO2-Äquivalenten (CO2e) ausgewisen und nach den Faktoren in IPCC 2021 GWP 100a berechnet. Der Umweltfussabdruck wird in Umweltbelastungspunkten (UBP) angegeben und wurde nach der Methode der ökologischen Knappheit 2021 berechnet.
B15: Unsicherheiten | C15: Es muss betont werden, dass es sich bei den Berechnungen im Rahmen der Energieperspektiven 2050+ um mögliche Entwicklungspfade für die Zukunft handelt. Diese sind inhärent mit einer grossen Unsicherheit behaftet, da die tatsächliche Entwicklung der Zusammensetzung des Schweizer Strommixes in der Zukunft von einer Vielzahl an Faktoren abhängig ist, allen voran von den politischen Zielsetzungen, dem Umfang der Elektrifizierung und dem technischen Fortschritt. Entsprechend sind die hier dargestellten Resulate als bestmögliche Abschätzung der zukünftigen Umweltauswirkungen zu verstehen.
B16: Abkürzungen | C16: AT: Österreich CH: Schweiz DE: Deutschland FR: Frankreich IT: Italien MöK 2021: Methode der ökologischen Knappheit 2021 RER: Europa (Region of Europe) UBP: Umweltbelastungspunkte
B18: Kontakt | C18: lca@bafu.admin.ch
B20: Autoren | C20: Mischa Zschokke & Gavin Roberts, Carbotech AG
C21: Quellen
C22: Bundesamt für Energie BFE (2022). Energieperspektiven 2050+.
C23: TYNDP. ENTSO-E & ENTSOG TYNDP 2024 Scenarios

Sheet Rechner
B2: Auswahl Szenario | C2: Weiter wie bisher (WWB) | D2: → Das ZERO-Basis-Szenario ist das Referenzszenario für die Berechnung zukünftiger Emissionen.
B3: Spannung | C3: Niederspannung
B4: Eingabe Strommenge | C4: 1 | D4: kWh
B7: Menge | C7: Emissionsfaktoren | D7: 2030 | E7: 2035 | F7: 2040 | G7: 2050 | H7: Einheit
B8: =CONCATENATE(C$4," kWh = ") -> 1 kWh = | C8: Total Klimabelastung | D8: =SUM(D10:D12) -> 67.112015 | E8: =SUM(E10:E12) -> 70.806985 | F8: =SUM(F10:F12) -> 74.232067 | G8: =SUM(G10:G12) -> 78.773726 | H8: g CO2e
C9: Nach Herkunft:
C10: Produktion Schweiz | D10: =$C$4*1000*(HLOOKUP($C$2&D$7&"CH",Strommix!$D$7:$CS$200,45,0)+HLOOKUP($C$2&D$7&"CH",Strommix!$D$7:$CS$200,67,0))-D11 -> 23.661023 | E10: =$C$4*1000*(HLOOKUP($C$2&E$7&"CH",Strommix!$D$7:$CS$200,45,0)+HLOOKUP($C$2&E$7&"CH",Strommix!$D$7:$CS$200,67,0))-E11 -> 23.867876 | F10: =$C$4*1000*(HLOOKUP($C$2&F$7&"CH",Strommix!$D$7:$CS$200,45,0)+HLOOKUP($C$2&F$7&"CH",Strommix!$D$7:$CS$200,67,0))-F11 -> 25.862838 | G10: =$C$4*1000*(HLOOKUP($C$2&G$7&"CH",Strommix!$D$7:$CS$200,45,0)+HLOOKUP($C$2&G$7&"CH",Strommix!$D$7:$CS$200,67,0))-G11 -> 30.841466 | H10: g CO2e
C11: Importe | D11: =$C$4*1000*(HLOOKUP($C$2&D$7&"CH",Strommix!$D$7:$CS$200,44,0)+HLOOKUP($C$2&D$7&"CH",Strommix!$D$7:$CS$200,66,0)) -> 31.284085 | E11: =$C$4*1000*(HLOOKUP($C$2&E$7&"CH",Strommix!$D$7:$CS$200,44,0)+HLOOKUP($C$2&E$7&"CH",Strommix!$D$7:$CS$200,66,0)) -> 34.458477 | F11: =$C$4*1000*(HLOOKUP($C$2&F$7&"CH",Strommix!$D$7:$CS$200,44,0)+HLOOKUP($C$2&F$7&"CH",Strommix!$D$7:$CS$200,66,0)) -> 35.626476 | G11: =$C$4*1000*(HLOOKUP($C$2&G$7&"CH",Strommix!$D$7:$CS$200,44,0)+HLOOKUP($C$2&G$7&"CH",Strommix!$D$7:$CS$200,66,0)) -> 34.898485 | H11: g CO2e
C12: Übertragung und Verluste | D12: =IF($C$3="Mittelspannung",$C$4*1000*HLOOKUP($C$2&D$7&"CH",Strommix!$D$7:$CS$200,68,0),$C$4*1000*HLOOKUP($C$2&D$7&"CH",Strommix!$D$7:$CS$200,69,0)) -> 12.166907 | E12: =IF($C$3="Mittelspannung",$C$4*1000*HLOOKUP($C$2&E$7&"CH",Strommix!$D$7:$CS$200,68,0),$C$4*1000*HLOOKUP($C$2&E$7&"CH",Strommix!$D$7:$CS$200,69,0)) -> 12.480632 | F12: =IF($C$3="Mittelspannung",$C$4*1000*HLOOKUP($C$2&F$7&"CH",Strommix!$D$7:$CS$200,68,0),$C$4*1000*HLOOKUP($C$2&F$7&"CH",Strommix!$D$7:$CS$200,69,0)) -> 12.742752 | G12: =IF($C$3="Mittelspannung",$C$4*1000*HLOOKUP($C$2&G$7&"CH",Strommix!$D$7:$CS$200,68,0),$C$4*1000*HLOOKUP($C$2&G$7&"CH",Strommix!$D$7:$CS$200,69,0)) -> 13.033775 | H12: g CO2e
C13: Nach Scope:
C14: Direkte Emissionen | D14: =$C$4*1000*(HLOOKUP($C$2&D$7&"CH",Strommix!$D$7:$CS$200,45,0)) -> 36.448108 | E14: =$C$4*1000*(HLOOKUP($C$2&E$7&"CH",Strommix!$D$7:$CS$200,45,0)) -> 45.41632 | F14: =$C$4*1000*(HLOOKUP($C$2&F$7&"CH",Strommix!$D$7:$CS$200,45,0)) -> 48.11213 | G14: =$C$4*1000*(HLOOKUP($C$2&G$7&"CH",Strommix!$D$7:$CS$200,45,0)) -> 50.892597 | H14: g CO2e
C15: Indirekte Emissionen | D15: =$C$4*1000*(HLOOKUP($C$2&D$7&"CH",Strommix!$D$7:$CS$200,67,0))+D12 -> 30.663907 | E15: =$C$4*1000*(HLOOKUP($C$2&E$7&"CH",Strommix!$D$7:$CS$200,67,0))+E12 -> 25.390665 | F15: =$C$4*1000*(HLOOKUP($C$2&F$7&"CH",Strommix!$D$7:$CS$200,67,0))+F12 -> 26.119937 | G15: =$C$4*1000*(HLOOKUP($C$2&G$7&"CH",Strommix!$D$7:$CS$200,67,0))+G12 -> 27.881129 | H15: g CO2e
C17: Total Umweltbelastung | D17: =SUM(D19:D21) -> 326.59401 | E17: =SUM(E19:E21) -> 304.95234 | F17: =SUM(F19:F21) -> 238.51324 | G17: =SUM(G19:G21) -> 156.90891 | H17: UBP
C18: Nach Herkunft:
C19: Produktion Schweiz | D19: =$C$4*(HLOOKUP($C$2&D$7&"CH",Strommix!$D$7:$CS$200,91,0)+HLOOKUP($C$2&D$7&"CH",Strommix!$D$7:$CS$200,113,0))-D20 -> 171.07119 | E19: =$C$4*(HLOOKUP($C$2&E$7&"CH",Strommix!$D$7:$CS$200,91,0)+HLOOKUP($C$2&E$7&"CH",Strommix!$D$7:$CS$200,113,0))-E20 -> 148.37897 | F19: =$C$4*(HLOOKUP($C$2&F$7&"CH",Strommix!$D$7:$CS$200,91,0)+HLOOKUP($C$2&F$7&"CH",Strommix!$D$7:$CS$200,113,0))-F20 -> 106.14676 | G19: =$C$4*(HLOOKUP($C$2&G$7&"CH",Strommix!$D$7:$CS$200,91,0)+HLOOKUP($C$2&G$7&"CH",Strommix!$D$7:$CS$200,113,0))-G20 -> 53.44709 | H19: UBP
C20: Importe | D20: =$C$4*(HLOOKUP($C$2&D$7&"CH",Strommix!$D$7:$CS$200,90,0)+HLOOKUP($C$2&D$7&"CH",Strommix!$D$7:$CS$200,112,0)) -> 106.26237 | E20: =$C$4*(HLOOKUP($C$2&E$7&"CH",Strommix!$D$7:$CS$200,90,0)+HLOOKUP($C$2&E$7&"CH",Strommix!$D$7:$CS$200,112,0)) -> 109.25007 | F20: =$C$4*(HLOOKUP($C$2&F$7&"CH",Strommix!$D$7:$CS$200,90,0)+HLOOKUP($C$2&F$7&"CH",Strommix!$D$7:$CS$200,112,0)) -> 90.998723 | G20: =$C$4*(HLOOKUP($C$2&G$7&"CH",Strommix!$D$7:$CS$200,90,0)+HLOOKUP($C$2&G$7&"CH",Strommix!$D$7:$CS$200,112,0)) -> 69.563946 | H20: UBP
C21: Übertragung und Verluste | D21: =IF($C$3="Mittelspannung",$C$4*HLOOKUP($C$2&D$7&"CH",Strommix!$D$7:$CS$200,114,0),$C$4*HLOOKUP($C$2&D$7&"CH",Strommix!$D$7:$CS$200,115,0)) -> 49.260456 | E21: =IF($C$3="Mittelspannung",$C$4*HLOOKUP($C$2&E$7&"CH",Strommix!$D$7:$CS$200,114,0),$C$4*HLOOKUP($C$2&E$7&"CH",Strommix!$D$7:$CS$200,115,0)) -> 47.323296 | F21: =IF($C$3="Mittelspannung",$C$4*HLOOKUP($C$2&F$7&"CH",Strommix!$D$7:$CS$200,114,0),$C$4*HLOOKUP($C$2&F$7&"CH",Strommix!$D$7:$CS$200,115,0)) -> 41.367753 | G21: =IF($C$3="Mittelspannung",$C$4*HLOOKUP($C$2&G$7&"CH",Strommix!$D$7:$CS$200,114,0),$C$4*HLOOKUP($C$2&G$7&"CH",Strommix!$D$7:$CS$200,115,0)) -> 33.897875 | H21: UBP
C22: Nach Scope:
C23: Direkte Emissionen | D23: =$C$4*(HLOOKUP($C$2&D$7&"CH",Strommix!$D$7:$CS$200,91,0)) -> 44.401709 | E23: =$C$4*(HLOOKUP($C$2&E$7&"CH",Strommix!$D$7:$CS$200,91,0)) -> 53.638302 | F23: =$C$4*(HLOOKUP($C$2&F$7&"CH",Strommix!$D$7:$CS$200,91,0)) -> 56.619584 | G23: =$C$4*(HLOOKUP($C$2&G$7&"CH",Strommix!$D$7:$CS$200,91,0)) -> 60.006514 | H23: UBP
C24: Indirekte Emissionen | D24: =$C$4*(HLOOKUP($C$2&D$7&"CH",Strommix!$D$7:$CS$200,113,0))+D21 -> 282.1923 | E24: =$C$4*(HLOOKUP($C$2&E$7&"CH",Strommix!$D$7:$CS$200,113,0))+E21 -> 251.31404 | F24: =$C$4*(HLOOKUP($C$2&F$7&"CH",Strommix!$D$7:$CS$200,113,0))+F21 -> 181.89366 | G24: =$C$4*(HLOOKUP($C$2&G$7&"CH",Strommix!$D$7:$CS$200,113,0))+G21 -> 96.902396 | H24: UBP

Sheet Strommix
B4: Anteile Strommixe: | C4: Szenario | D4: Weiter wie bisher (WWB) | E4: Weiter wie bisher (WWB) | F4: Weiter wie bisher (WWB) | G4: Weiter wie bisher (WWB) | H4: Weiter wie bisher (WWB) | I4: Weiter wie bisher (WWB) | J4: Weiter wie bisher (WWB) | K4: Weiter wie bisher (WWB) | L4: Weiter wie bisher (WWB) | M4: Weiter wie bisher (WWB) | N4: Weiter wie bisher (WWB) | O4: Weiter wie bisher (WWB) | P4: Weiter wie bisher (WWB) | Q4: Weiter wie bisher (WWB) | R4: Weiter wie bisher (WWB) | S4: Weiter wie bisher (WWB) | T4: Weiter wie bisher (WWB) | U4: Weiter wie bisher (WWB) | V4: Weiter wie bisher (WWB) | W4: Weiter wie bisher (WWB) | X4: Weiter wie bisher (WWB) | Y4: Weiter wie bisher (WWB) | Z4: Weiter wie bisher (WWB) | AA4: Weiter wie bisher (WWB) | AB4: Basisvariante (ZERO Basis) | AC4: Basisvariante (ZERO Basis) | AD4: Basisvariante (ZERO Basis) | AE4: Basisvariante (ZERO Basis) | AF4: Basisvariante (ZERO Basis) | AG4: Basisvariante (ZERO Basis) | AH4: Basisvariante (ZERO Basis) | AI4: Basisvariante (ZERO Basis) | AJ4: Basisvariante (ZERO Basis) | AK4: Basisvariante (ZERO Basis) | AL4: Basisvariante (ZERO Basis) | AM4: Basisvariante (ZERO Basis) | AN4: Basisvariante (ZERO Basis) | AO4: Basisvariante (ZERO Basis) | AP4: Basisvariante (ZERO Basis) | AQ4: Basisvariante (ZERO Basis) | AR4: Basisvariante (ZERO Basis) | AS4: Basisvariante (ZERO Basis) | AT4: Basisvariante (ZERO Basis) | AU4: Basisvariante (ZERO Basis) | AV4: Basisvariante (ZERO Basis) | AW4: Basisvariante (ZERO Basis) | AX4: Basisvariante (ZERO Basis) | AY4: Basisvariante (ZERO Basis) | AZ4: Variante A (ZERO A) | BA4: Variante A (ZERO A) | BB4: Variante A (ZERO A) | BC4: Variante A (ZERO A) | BD4: Variante A (ZERO A) | BE4: Variante A (ZERO A) | BF4: Variante A (ZERO A) | BG4: Variante A (ZERO A) | BH4: Variante A (ZERO A) | BI4: Variante A (ZERO A) | BJ4: Variante A (ZERO A) | BK4: Variante A (ZERO A) | BL4: Variante A (ZERO A) | BM4: Variante A (ZERO A) | BN4: Variante A (ZERO A) | BO4: Variante A (ZERO A) | BP4: Variante A (ZERO A) | BQ4: Variante A (ZERO A) | BR4: Variante A (ZERO A) | BS4: Variante A (ZERO A) | BT4: Variante A (ZERO A) | BU4: Variante A (ZERO A) | BV4: Variante A (ZERO A) | BW4: Variante A (ZERO A) | BX4: Variante C (ZERO C) | BY4: Variante C (ZERO C) | BZ4: Variante C (ZERO C) | CA4: Variante C (ZERO C) | CB4: Variante C (ZERO C) | CC4: Variante C (ZERO C) | CD4: Variante C (ZERO C) | CE4: Variante C (ZERO C) | CF4: Variante C (ZERO C) | CG4: Variante C (ZERO C) | CH4: Variante C (ZERO C) | CI4: Variante C (ZERO C) | CJ4: Variante C (ZERO C) | CK4: Variante C (ZERO C) | CL4: Variante C (ZERO C) | CM4: Variante C (ZERO C) | CN4: Variante C (ZERO C) | CO4: Variante C (ZERO C) | CP4: Variante C (ZERO C) | CQ4: Variante C (ZERO C) | CR4: Variante C (ZERO C) | CS4: Variante C (ZERO C) | CT4: Variante C (ZERO C) | CU4: Variante C (ZERO C)
C5: Jahr | D5: 2030 | E5: 2030 | F5: 2030 | G5: 2030 | H5: 2030 | I5: 2030 | J5: 2035 | K5: 2035 | L5: 2035 | M5: 2035 | N5: 2035 | O5: 2035 | P5: 2040 | Q5: 2040 | R5: 2040 | S5: 2040 | T5: 2040 | U5: 2040 | V5: 2050 | W5: 2050 | X5: 2050 | Y5: 2050 | Z5: 2050 | AA5: 2050 | AB5: 2030 | AC5: 2030 | AD5: 2030 | AE5: 2030 | AF5: 2030 | AG5: 2030 | AH5: 2035 | AI5: 2035 | AJ5: 2035 | AK5: 2035 | AL5: 2035 | AM5: 2035 | AN5: 2040 | AO5: 2040 | AP5: 2040 | AQ5: 2040 | AR5: 2040 | AS5: 2040 | AT5: 2050 | AU5: 2050 | AV5: 2050 | AW5: 2050 | AX5: 2050 | AY5: 2050 | AZ5: 2030 | BA5: 2030 | BB5: 2030 | BC5: 2030 | BD5: 2030 | BE5: 2030 | BF5: 2035 | BG5: 2035 | BH5: 2035 | BI5: 2035 | BJ5: 2035 | BK5: 2035 | BL5: 2040 | BM5: 2040 | BN5: 2040 | BO5: 2040 | BP5: 2040 | BQ5: 2040 | BR5: 2050 | BS5: 2050 | BT5: 2050 | BU5: 2050 | BV5: 2050 | BW5: 2050 | BX5: 2030 | BY5: 2030 | BZ5: 2030 | CA5: 2030 | CB5: 2030 | CC5: 2030 | CD5: 2035 | CE5: 2035 | CF5: 2035 | CG5: 2035 | CH5: 2035 | CI5: 2035 | CJ5: 2040 | CK5: 2040 | CL5: 2040 | CM5: 2040 | CN5: 2040 | CO5: 2040 | CP5: 2050 | CQ5: 2050 | CR5: 2050 | CS5: 2050 | CT5: 2050 | CU5: 2050
C6: Land | D6: CH | E6: AT | F6: DE | G6: FR | H6: IT | I6: EU | J6: CH | K6: AT | L6: DE | M6: FR | N6: IT | O6: EU | P6: CH | Q6: AT | R6: DE | S6: FR | T6: IT | U6: EU | V6: CH | W6: AT | X6: DE | Y6: FR | Z6: IT | AA6: EU | AB6: CH | AC6: AT | AD6: DE | AE6: FR | AF6: IT | AG6: EU | AH6: CH | AI6: AT | AJ6: DE | AK6: FR | AL6: IT | AM6: EU | AN6: CH | AO6: AT | AP6: DE | AQ6: FR | AR6: IT | AS6: EU | AT6: CH | AU6: AT | AV6: DE | AW6: FR | AX6: IT | AY6: EU | AZ6: CH | BA6: AT | BB6: DE | BC6: FR | BD6: IT | BE6: EU | BF6: CH | BG6: AT | BH6: DE | BI6: FR | BJ6: IT | BK6: EU | BL6: CH | BM6: AT | BN6: DE | BO6: FR | BP6: IT | BQ6: EU | BR6: CH | BS6: AT | BT6: DE | BU6: FR | BV6: IT | BW6: EU | BX6: CH | BY6: AT | BZ6: DE | CA6: FR | CB6: IT | CC6: EU | CD6: CH | CE6: AT | CF6: DE | CG6: FR | CH6: IT | CI6: EU | CJ6: CH | CK6: AT | CL6: DE | CM6: FR | CN6: IT | CO6: EU | CP6: CH | CQ6: AT | CR6: DE | CS6: FR | CT6: IT | CU6: EU
A7: 1 | C7: Code | D7: =D4&D5&D6 -> Weiter wie bisher (WWB)2030CH | E7: =E4&E5&E6 -> Weiter wie bisher (WWB)2030AT | F7: =F4&F5&F6 -> Weiter wie bisher (WWB)2030DE | G7: =G4&G5&G6 -> Weiter wie bisher (WWB)2030FR | H7: =H4&H5&H6 -> Weiter wie bisher (WWB)2030IT | I7: =I4&I5&I6 -> Weiter wie bisher (WWB)2030EU | J7: =J4&J5&J6 -> Weiter wie bisher (WWB)2035CH | K7: =K4&K5&K6 -> Weiter wie bisher (WWB)2035AT | ... CU7: =CU4&CU5&CU6 -> Variante C (ZERO C)2050EU
A8: 2 | B8: Anteile | C8: Kleinwasserkraft | D8: 0.0043418342 | E8: 0 | F8: 0 | G8: 0 | H8: 0 | I8: 0 | J8: 0.0047506385 | K8: 0 | L8: 0 | M8: 0 | N8: 0 | O8: 0 | P8: 0.0027068064 | Q8: 0 | R8: 0 | S8: 0 | T8: 0 | U8: 0 | V8: 0.0042590793 | W8: 0 | X8: 0 | Y8: 0 | Z8: 0 | AA8: 0 | AB8: 0.0080039523 | AC8: 0 | AD8: 0 | AE8: 0 | AF8: 0 | AG8: 0 | AH8: 0.0091703517 | AI8: 0 | AJ8: 0 | AK8: 0 | AL8: 0 | AM8: 0 | AN8: 0.0093918059 | AO8: 0 | AP8: 0 | AQ8: 0 | AR8: 0 | AS8: 0 | AT8: 0.012587803 | AU8: 0 | AV8: 0 | AW8: 0 | AX8: 0 | AY8: 0 | AZ8: 0.0080194152 | BA8: 0 | BB8: 0 | BC8: 0 | BD8: 0 | BE8: 0 | BF8: 0.0091821707 | BG8: 0 | BH8: 0 | BI8: 0 | BJ8: 0 | BK8: 0 | BL8: 0.009401415 | BM8: 0 | BN8: 0 | BO8: 0 | BP8: 0 | BQ8: 0 | BR8: 0.01203353 | BS8: 0 | BT8: 0 | BU8: 0 | BV8: 0 | BW8: 0 | BX8: 0.0080149159 | BY8: 0 | BZ8: 0 | CA8: 0 | CB8: 0 | CC8: 0 | CD8: 0.0091693786 | CE8: 0 | CF8: 0 | CG8: 0 | CH8: 0 | CI8: 0 | CJ8: 0.0094026231 | CK8: 0 | CL8: 0 | CM8: 0 | CN8: 0 | CO8: 0 | CP8: 0.013028099 | CQ8: 0 | CR8: 0 | CS8: 0 | CT8: 0 | CU8: 0
A9: 3 | C9: Speicherkraftwerke | D9: 0.19633784 | E9: 0 | F9: 0 | G9: 0 | H9: 0 | I9: 0 | J9: 0.18944144 | K9: 0 | L9: 0 | M9: 0 | N9: 0 | O9: 0 | P9: 0.20792151 | Q9: 0 | R9: 0 | S9: 0 | T9: 0 | U9: 0 | V9: 0.21768352 | W9: 0 | X9: 0 | Y9: 0 | Z9: 0 | AA9: 0 | AB9: 0.19863485 | AC9: 0 | AD9: 0 | AE9: 0 | AF9: 0 | AG9: 0 | AH9: 0.1839038 | AI9: 0 | AJ9: 0 | AK9: 0 | AL9: 0 | AM9: 0 | AN9: 0.18597539 | AO9: 0 | AP9: 0 | AQ9: 0 | AR9: 0 | AS9: 0 | AT9: 0.18314182 | AU9: 0 | AV9: 0 | AW9: 0 | AX9: 0 | AY9: 0 | AZ9: 0.19876666 | BA9: 0 | BB9: 0 | BC9: 0 | BD9: 0 | BE9: 0 | BF9: 0.18379312 | BG9: 0 | BH9: 0 | BI9: 0 | BJ9: 0 | BK9: 0 | BL9: 0.18501959 | BM9: 0 | BN9: 0 | BO9: 0 | BP9: 0 | BQ9: 0 | BR9: 0.17413433 | BS9: 0 | BT9: 0 | BU9: 0 | BV9: 0 | BW9: 0 | BX9: 0.19882079 | BY9: 0 | BZ9: 0 | CA9: 0 | CB9: 0 | CC9: 0 | CD9: 0.18359443 | CE9: 0 | CF9: 0 | CG9: 0 | CH9: 0 | CI9: 0 | CJ9: 0.18557975 | CK9: 0 | CL9: 0 | CM9: 0 | CN9: 0 | CO9: 0 | CP9: 0.18807016 | CQ9: 0 | CR9: 0 | CS9: 0 | CT9: 0 | CU9: 0
A10: 4 | C10: Laufwasserkraft | D10: 0.19535247 | E10: 0 | F10: 0 | G10: 0 | H10: 0 | I10: 0 | J10: 0.18659434 | K10: 0 | L10: 0 | M10: 0 | N10: 0 | O10: 0 | P10: 0.20069342 | Q10: 0 | R10: 0 | S10: 0 | T10: 0 | U10: 0 | V10: 0.20730719 | W10: 0 | X10: 0 | Y10: 0 | Z10: 0 | AA10: 0 | AB10: 0.19415365 | AC10: 0 | AD10: 0 | AE10: 0 | AF10: 0 | AG10: 0 | AH10: 0.17669158 | AI10: 0 | AJ10: 0 | AK10: 0 | AL10: 0 | AM10: 0 | AN10: 0.17634339 | AO10: 0 | AP10: 0 | AQ10: 0 | AR10: 0 | AS10: 0 | AT10: 0.16597154 | AU10: 0 | AV10: 0 | AW10: 0 | AX10: 0 | AY10: 0 | AZ10: 0.19452874 | BA10: 0 | BB10: 0 | BC10: 0 | BD10: 0 | BE10: 0 | BF10: 0.17691931 | BG10: 0 | BH10: 0 | BI10: 0 | BJ10: 0 | BK10: 0 | BL10: 0.17652381 | BM10: 0 | BN10: 0 | BO10: 0 | BP10: 0 | BQ10: 0 | BR10: 0.1586634 | BS10: 0 | BT10: 0 | BU10: 0 | BV10: 0 | BW10: 0 | BX10: 0.1944196 | BY10: 0 | BZ10: 0 | CA10: 0 | CB10: 0 | CC10: 0 | CD10: 0.17667283 | CE10: 0 | CF10: 0 | CG10: 0 | CH10: 0 | CI10: 0 | CJ10: 0.17654649 | CK10: 0 | CL10: 0 | CM10: 0 | CN10: 0 | CO10: 0 | CP10: 0.17177689 | CQ10: 0 | CR10: 0 | CS10: 0 | CT10: 0 | CU10: 0
A11: 5 | C11: Pumpspeicher | D11: 0.058526705 | E11: 0 | F11: 0 | G11: 0 | H11: 0 | I11: 0 | J11: 0.055401884 | K11: 0 | L11: 0 | M11: 0 | N11: 0 | O11: 0 | P11: 0.055053635 | Q11: 0 | R11: 0 | S11: 0 | T11: 0 | U11: 0 | V11: 0.052916584 | W11: 0 | X11: 0 | Y11: 0 | Z11: 0 | AA11: 0 | AB11: 0.063697875 | AC11: 0 | AD11: 0 | AE11: 0 | AF11: 0 | AG11: 0 | AH11: 0.071420398 | AI11: 0 | AJ11: 0 | AK11: 0 | AL11: 0 | AM11: 0 | AN11: 0.083288106 | AO11: 0 | AP11: 0 | AQ11: 0 | AR11: 0 | AS11: 0 | AT11: 0.068482036 | AU11: 0 | AV11: 0 | AW11: 0 | AX11: 0 | AY11: 0 | AZ11: 0.062501597 | BA11: 0 | BB11: 0 | BC11: 0 | BD11: 0 | BE11: 0 | BF11: 0.071013565 | BG11: 0 | BH11: 0 | BI11: 0 | BJ11: 0 | BK11: 0 | BL11: 0.083255594 | BM11: 0 | BN11: 0 | BO11: 0 | BP11: 0 | BQ11: 0 | BR11: 0.066422781 | BS11: 0 | BT11: 0 | BU11: 0 | BV11: 0 | BW11: 0 | BX11: 0.064480868 | BY11: 0 | BZ11: 0 | CA11: 0 | CB11: 0 | CC11: 0 | CD11: 0.072001586 | CE11: 0 | CF11: 0 | CG11: 0 | CH11: 0 | CI11: 0 | CJ11: 0.083493727 | CK11: 0 | CL11: 0 | CM11: 0 | CN11: 0 | CO11: 0 | CP11: 0.072797367 | CQ11: 0 | CR11: 0 | CS11: 0 | CT11: 0 | CU11: 0
A12: 6 | C12: Wasserkraft (unspezifisch) | D12: 0 | E12: 0.60950677 | F12: 0.04170621 | G12: 0.11121581 | H12: 0.13481688 | I12: 0.087742266 | J12: 0 | K12: 0.54211705 | L12: 0.038482152 | M12: 0.12800727 | N12: 0.12689307 | O12: 0.071776608 | P12: 0 | Q12: 0.49644307 | R12: 0.037163766 | S12: 0.13489238 | T12: 0.12802096 | U12: 0.060721675 | V12: 0 | W12: 0.49506881 | X12: 0.03789305 | Y12: 0.13277982 | Z12: 0.13291727 | AA12: 0.04641312 | AB12: 0 | AC12: 0.60473143 | AD12: 0.048659826 | AE12: 0.11100775 | AF12: 0.13474833 | AG12: 0.087742266 | AH12: 0 | AI12: 0.49808125 | AJ12: 0.038683894 | AK12: 0.10991822 | AL12: 0.11857347 | AM12: 0.069892108 | AN12: 0 | AO12: 0.50027187 | AP12: 0.032451917 | AQ12: 0.10879036 | AR12: 0.12019556 | AS12: 0.058067245 | AT12: 0 | AU12: 0.47183689 | AV12: 0.023101452 | AW12: 0.092099239 | AX12: 0.1080709 | AY12: 0.046139338 | AZ12: 0 | BA12: 0.60473143 | BB12: 0.048659826 | BC12: 0.11100775 | BD12: 0.13474833 | BE12: 0.087742266 | BF12: 0 | BG12: 0.49808125 | BH12: 0.038683894 | BI12: 0.10991822 | BJ12: 0.11857347 | BK12: 0.070597657 | BL12: 0 | BM12: 0.50027187 | BN12: 0.032451917 | BO12: 0.10879036 | BP12: 0.12019556 | BQ12: 0.059044696 | BR12: 0 | BS12: 0.47183689 | BT12: 0.023101452 | BU12: 0.092099239 | BV12: 0.1080709 | BW12: 0.046447882 | BX12: 0 | BY12: 0.60473143 | BZ12: 0.048659826 | CA12: 0.11100775 | CB12: 0.13474833 | CC12: 0.087742266 | CD12: 0 | CE12: 0.49808125 | CF12: 0.038683894 | CG12: 0.10991822 | CH12: 0.11857347 | CI12: 0.070597657 | CJ12: 0 | CK12: 0.50027187 | CL12: 0.032451917 | CM12: 0.10879036 | CN12: 0.12019556 | CO12: 0.059044696 | CP12: 0 | CQ12: 0.47183689 | CR12: 0.023101452 | CS12: 0.092099239 | CT12: 0.1080709 | CU12: 0.046447882
A13: 7 | C13: Kernkraft | D13: 0.21550282 | E13: 0 | F13: 0 | G13: 0.55318581 | H13: 0 | I13: 0.15826154 | J13: 0.17776115 | K13: 0 | L13: 0 | M13: 0.3666677 | N13: 0 | O13: 0.12425527 | P13: 0.10177313 | Q13: 0 | R13: 0 | S13: 0.17033786 | T13: 0 | U13: 0.10070867 | V13: 0 | W13: 0 | X13: 0 | Y13: 0.017575966 | Z13: 0 | AA13: 0.070231979 | AB13: 0.20643304 | AC13: 0 | AD13: 0 | AE13: 0.50057031 | AF13: 0 | AG13: 0.15826154 | AH13: 0.15751622 | AI13: 0 | AJ13: 0 | AK13: 0.26163178 | AL13: 0 | AM13: 0.10769707 | AN13: 0.078214908 | AO13: 0 | AP13: 0 | AQ13: 0.097558717 | AR13: 0 | AS13: 0.07420056 | AT13: 0 | AU13: 0 | AV13: 0 | AW13: 0.0072895835 | AX13: 0 | AY13: 0.036369425 | AZ13: 0.20662522 | BA13: 0 | BB13: 0 | BC13: 0.50057031 | BD13: 0 | BE13: 0.15826154 | BF13: 0.15848217 | BG13: 0 | BH13: 0 | BI13: 0.26163178 | BJ13: 0 | BK13: 0.12574213 | BL13: 0.079351463 | BM13: 0 | BN13: 0 | BO13: 0.097558717 | BP13: 0 | BQ13: 0.10382881 | BR13: 0 | BS13: 0 | BT13: 0 | BU13: 0.0072895835 | BV13: 0 | BW13: 0.074979096 | BX13: 0.20374399 | BY13: 0 | BZ13: 0 | CA13: 0.50057031 | CB13: 0 | CC13: 0.15826154 | CD13: 0.15736263 | CE13: 0 | CF13: 0 | CG13: 0.26163178 | CH13: 0 | CI13: 0.12574213 | CJ13: 0.078006108 | CK13: 0 | CL13: 0 | CM13: 0.097558717 | CN13: 0 | CO13: 0.10382881 | CP13: 0 | CQ13: 0 | CR13: 0 | CS13: 0.0072895835 | CT13: 0 | CU13: 0.074979096
A14: 8 | C14: Kohle | D14: 0 | E14: 0 | F14: 0.17773205 | G14: 0 | H14: 0 | I14: 0.0010927848 | J14: 0 | K14: 0 | L14: 0.097897448 | M14: 0 | N14: 0 | O14: 0.0012450606 | P14: 0 | Q14: 0 | R14: 0 | S14: 0 | T14: 0 | U14: 0.0013504994 | V14: 0 | W14: 0 | X14: 0 | Y14: 0 | Z14: 0 | AA14: 0.0014869703 | AB14: 0 | AC14: 0 | AD14: 0.12534338 | AE14: 0 | AF14: 0 | AG14: 0.0010927848 | AH14: 0 | AI14: 0 | AJ14: 0.016830206 | AK14: 0 | AL14: 0 | AM14: 0.00051239378 | AN14: 0 | AO14: 0 | AP14: 0 | AQ14: 0 | AR14: 0 | AS14: 0.00012791291 | AT14: 0 | AU14: 0 | AV14: 0 | AW14: 0 | AX14: 0 | AY14: 0 | AZ14: 0 | BA14: 0 | BB14: 0.12534338 | BC14: 0 | BD14: 0 | BE14: 0.0010927848 | BF14: 0 | BG14: 0 | BH14: 0.016830206 | BI14: 0 | BJ14: 0 | BK14: 0.00043992921 | BL14: 0 | BM14: 0 | BN14: 0 | BO14: 0 | BP14: 0 | BQ14: 0 | BR14: 0 | BS14: 0 | BT14: 0 | BU14: 0 | BV14: 0 | BW14: 0 | BX14: 0 | BY14: 0 | BZ14: 0.12534338 | CA14: 0 | CB14: 0 | CC14: 0.0010927848 | CD14: 0 | CE14: 0 | CF14: 0.016830206 | CG14: 0 | CH14: 0 | CI14: 0.00043992921 | CJ14: 0 | CK14: 0 | CL14: 0 | CM14: 0 | CN14: 0 | CO14: 0 | CP14: 0 | CQ14: 0 | CR14: 0 | CS14: 0 | CT14: 0 | CU14: 0
A15: 9 | C15: Gas | D15: 0 | E15: 0.11842852 | F15: 0.19327348 | G15: 0.038787145 | H15: 0.37135032 | I15: 0.11765911 | J15: 0 | K15: 0.16884481 | L15: 0.23117863 | M15: 0.097798767 | N15: 0.43879077 | O15: 0.078666306 | P15: 0 | Q15: 0.21737139 | R15: 0.27386581 | S15: 0.17490946 | T15: 0.44282788 | U15: 0.051666926 | V15: 0 | W15: 0.19036827 | X15: 0.18488105 | Y15: 0.16930319 | Z15: 0.26979384 | AA15: 0.016721253 | AB15: 0 | AC15: 0.067921512 | AD15: 0.13922418 | AE15: 0.023794676 | AF15: 0.27956849 | AG15: 0.11765911 | AH15: 0 | AI15: 0.09888495 | AJ15: 0.1393133 | AK15: 0.047949481 | AL15: 0.30812094 | AM15: 0.05368825 | AN15: 0 | AO15: 0.082221935 | AP15: 0.088474175 | AQ15: 0.04955678 | AR15: 0.25744813 | AS15: 0.011310659 | AT15: 0 | AU15: 0.066432409 | AV15: 0.048161545 | AW15: 0.038024644 | AX15: 0.13180468 | AY15: 0.0043638121 | AZ15: 0 | BA15: 0.067921512 | BB15: 0.13922418 | BC15: 0.023794676 | BD15: 0.27956849 | BE15: 0.11765911 | BF15: 0 | BG15: 0.09888495 | BH15: 0.1393133 | BI15: 0.047949481 | BJ15: 0.30812094 | BK15: 0.049720254 | BL15: 0 | BM15: 0.082221935 | BN15: 0.088474175 | BO15: 0.04955678 | BP15: 0.25744813 | BQ15: 0.0039393964 | BR15: 0 | BS15: 0.066432409 | BT15: 0.048161545 | BU15: 0.038024644 | BV15: 0.13180468 | BW15: 0.0015580969 | BX15: 0 | BY15: 0.067921512 | BZ15: 0.13922418 | CA15: 0.023794676 | CB15: 0.27956849 | CC15: 0.11765911 | CD15: 0 | CE15: 0.09888495 | CF15: 0.1393133 | CG15: 0.047949481 | CH15: 0.30812094 | CI15: 0.049720254 | CJ15: 0 | CK15: 0.082221935 | CL15: 0.088474175 | CM15: 0.04955678 | CN15: 0.25744813 | CO15: 0.0039393964 | CP15: 0 | CQ15: 0.066432409 | CR15: 0.048161545 | CS15: 0.038024644 | CT15: 0.13180468 | CU15: 0.0015580969
A16: 10 | C16: Öl | D16: 0 | E16: 0 | F16: 0 | G16: 0 | H16: 0 | I16: 0.00048648705 | J16: 0 | K16: 0 | L16: 0 | M16: 0 | N16: 0 | O16: 0.00037937757 | P16: 0 | Q16: 0 | R16: 0 | S16: 0 | T16: 0 | U16: 0.00030521287 | V16: 0 | W16: 0 | X16: 0 | Y16: 0 | Z16: 0 | AA16: 0.00020922048 | AB16: 0 | AC16: 0 | AD16: 0 | AE16: 0 | AF16: 0 | AG16: 0.00048648705 | AH16: 0 | AI16: 0 | AJ16: 0 | AK16: 0 | AL16: 0 | AM16: 0.00019385472 | AN16: 0 | AO16: 0 | AP16: 0 | AQ16: 0 | AR16: 0 | AS16: 0 | AT16: 0 | AU16: 0 | AV16: 0 | AW16: 0 | AX16: 0 | AY16: 0 | AZ16: 0 | BA16: 0 | BB16: 0 | BC16: 0 | BD16: 0 | BE16: 0.00048648705 | BF16: 0 | BG16: 0 | BH16: 0 | BI16: 0 | BJ16: 0 | BK16: 0.00019584814 | BL16: 0 | BM16: 0 | BN16: 0 | BO16: 0 | BP16: 0 | BQ16: 0 | BR16: 0 | BS16: 0 | BT16: 0 | BU16: 0 | BV16: 0 | BW16: 0 | BX16: 0 | BY16: 0 | BZ16: 0 | CA16: 0 | CB16: 0 | CC16: 0.00048648705 | CD16: 0 | CE16: 0 | CF16: 0 | CG16: 0 | CH16: 0 | CI16: 0.00019584814 | CJ16: 0 | CK16: 0 | CL16: 0 | CM16: 0 | CN16: 0 | CO16: 0 | CP16: 0 | CQ16: 0 | CR16: 0 | CS16: 0 | CT16: 0 | CU16: 0
A17: 11 | C17: Fossile KW | D17: 0.017963067 | E17: 0.048534857 | F17: 0.045535312 | G17: 0.010468419 | H17: 0.066981265 | I17: 2.7862947e-05 | J17: 0.018714707 | K17: 0.043007433 | L17: 0.043475219 | M17: 0.023672388 | N17: 0.06846088 | O17: 2.7974587e-05 | P17: 0.022207532 | Q17: 0.03733839 | R17: 0.037616593 | S17: 0.022478408 | T17: 0.046548953 | U17: 2.8051889e-05 | V17: 0.029797213 | W17: 0.027209764 | X17: 0.029852409 | Y17: 0.030985275 | Z17: 0.063764013 | AA17: 2.8151942e-05 | AB17: 0.016983732 | AC17: 0.047877472 | AD17: 0.045066955 | AE17: 0.0090240251 | AF17: 0.05996943 | AG17: 2.7862947e-05 | AH17: 0.015976559 | AI17: 0.037521118 | AJ17: 0.029991006 | AK17: 0.02226708 | AL17: 0.048846115 | AM17: 2.2799886e-05 | AN17: 0.014165835 | AO17: 0.024630268 | AP17: 0.028482343 | AQ17: 0.026201669 | AR17: 0.051356528 | AS17: 1.9445853e-05 | AT17: 0.010100913 | AU17: 0.015100067 | AV17: 0.016117649 | AW17: 0.023456581 | AX17: 0.061079614 | AY17: 0.00016390998 | AZ17: 0.016821001 | BA17: 0.047877472 | BB17: 0.045066955 | BC17: 0.0090240251 | BD17: 0.05996943 | BE17: 2.7862947e-05 | BF17: 0.015151595 | BG17: 0.037521118 | BH17: 0.029991006 | BI17: 0.02226708 | BJ17: 0.048846115 | BK17: 1.2809205e-05 | BL17: 0.013540774 | BM17: 0.024630268 | BN17: 0.028482343 | BO17: 0.026201669 | BP17: 0.051356528 | BQ17: 2.6651837e-06 | BR17: 0.0096561449 | BS17: 0.015100067 | BT17: 0.016117649 | BU17: 0.023456581 | BV17: 0.061079614 | BW17: 4.4624362e-05 | BX17: 0.01775678 | BY17: 0.047877472 | BZ17: 0.045066955 | CA17: 0.0090240251 | CB17: 0.05996943 | CC17: 2.7862947e-05 | CD17: 0.015953967 | CE17: 0.037521118 | CF17: 0.029991006 | CG17: 0.02226708 | CH17: 0.048846115 | CI17: 1.2809205e-05 | CJ17: 0.014012778 | CK17: 0.024630268 | CL17: 0.028482343 | CM17: 0.026201669 | CN17: 0.051356528 | CO17: 2.6651837e-06 | CP17: 0.010454223 | CQ17: 0.015100067 | CR17: 0.016117649 | CS17: 0.023456581 | CT17: 0.061079614 | CU17: 4.4624362e-05
A18: 12 | C18: Photovoltaik | D18: 0.075859668 | E18: 0.056095133 | F18: 0.11300349 | G18: 0.078698827 | H18: 0.13291347 | I18: 0.21510195 | J18: 0.08041664 | K18: 0.077911443 | L18: 0.1161515 | M18: 0.10164875 | N18: 0.19219331 | O18: 0.24127182 | P18: 0.095688553 | Q18: 0.087156387 | R18: 0.12641866 | S18: 0.153479 | T18: 0.23377818 | U18: 0.25939236 | V18: 0.13771511 | W18: 0.112664 | X18: 0.17839172 | Y18: 0.16030558 | Z18: 0.33119259 | AA18: 0.28284602 | AB18: 0.095702553 | AC18: 0.13712144 | AD18: 0.23042324 | AE18: 0.1102544 | AF18: 0.19743925 | AG18: 0.21510195 | AH18: 0.14511136 | AI18: 0.14956471 | AJ18: 0.24892443 | AK18: 0.15696432 | AL18: 0.28415857 | AM18: 0.2614757 | AN18: 0.21585915 | AO18: 0.17874655 | AP18: 0.28236047 | AQ18: 0.20829733 | AR18: 0.3637291 | AS18: 0.29219606 | AT18: 0.32358284 | AU18: 0.24038582 | AV18: 0.33407751 | AW18: 0.26215439 | AX18: 0.48956164 | AY18: 0.33073555 | AZ18: 0.095887441 | BA18: 0.13712144 | BB18: 0.23042324 | BC18: 0.1102544 | BD18: 0.19743925 | BE18: 0.21510195 | BF18: 0.14529839 | BG18: 0.14956471 | BH18: 0.24892443 | BI18: 0.15696432 | BJ18: 0.28415857 | BK18: 0.24854017 | BL18: 0.21654473 | BM18: 0.17874655 | BN18: 0.28236047 | BO18: 0.20829733 | BP18: 0.3637291 | BQ18: 0.27107264 | BR18: 0.35748869 | BS18: 0.24038582 | BT18: 0.33407751 | BU18: 0.26215439 | BV18: 0.48956164 | BW18: 0.28154902 | BX18: 0.095833644 | BY18: 0.13712144 | BZ18: 0.23042324 | CA18: 0.1102544 | CB18: 0.19743925 | CC18: 0.21510195 | CD18: 0.14509597 | CE18: 0.14956471 | CF18: 0.24892443 | CG18: 0.15696432 | CH18: 0.28415857 | CI18: 0.24854017 | CJ18: 0.21610777 | CK18: 0.17874655 | CL18: 0.28236047 | CM18: 0.20829733 | CN18: 0.3637291 | CO18: 0.27107264 | CP18: 0.29756128 | CQ18: 0.24038582 | CR18: 0.33407751 | CS18: 0.26215439 | CT18: 0.48956164 | CU18: 0.28154902
A19: 13 | C19: Wind (onshore) | D19: 0.0036504653 | E19: 0.13415615 | F19: 0.19485055 | G19: 0.14990226 | H19: 0.10356653 | I19: 0.2436336 | J19: 0.0035862171 | K19: 0.12722047 | L19: 0.20609182 | M19: 0.18395904 | N19: 0.10556137 | O19: 0.25324137 | P19: 0.0039526832 | Q19: 0.12446302 | R19: 0.21487178 | S19: 0.22498998 | T19: 0.1073565 | U19: 0.25989397 | V19: 0.0043853826 | W19: 0.13491026 | X19: 0.30595787 | Y19: 0.24761484 | Z19: 0.15663001 | AA19: 0.26850453 | AB19: 0.00637405 | AC19: 0.20123423 | AD19: 0.27166 | AE19: 0.1647809 | AF19: 0.10405151 | AG19: 0.2436336 | AH19: 0.012218917 | AI19: 0.16904913 | AJ19: 0.26844109 | AK19: 0.21110754 | AL19: 0.12963017 | AM19: 0.2807316 | AN19: 0.022395713 | AO19: 0.17505709 | AP19: 0.28702318 | AQ19: 0.265231 | AR19: 0.14815899 | AS19: 0.30530722 | AT19: 0.041628811 | AU19: 0.17295962 | AV19: 0.27545414 | AW19: 0.29226975 | AX19: 0.16457906 | AY19: 0.31653764 | AZ19: 0.006386364 | BA19: 0.20123423 | BB19: 0.27166 | BC19: 0.1647809 | BD19: 0.10405151 | BE19: 0.2436336 | BF19: 0.012234665 | BG19: 0.16904913 | BH19: 0.26844109 | BI19: 0.21110754 | BJ19: 0.12963017 | BK19: 0.28058998 | BL19: 0.022418627 | BM19: 0.17505709 | BN19: 0.28702318 | BO19: 0.265231 | BP19: 0.14815899 | BQ19: 0.30549318 | BR19: 0.039795791 | BS19: 0.17295962 | BT19: 0.27545414 | BU19: 0.29226975 | BV19: 0.16457906 | BW19: 0.31716626 | BX19: 0.006382781 | BY19: 0.20123423 | BZ19: 0.27166 | CA19: 0.1647809 | CB19: 0.10405151 | CC19: 0.2436336 | CD19: 0.012217621 | CE19: 0.16904913 | CF19: 0.26844109 | CG19: 0.21110754 | CH19: 0.12963017 | CI19: 0.28058998 | CJ19: 0.022421508 | CK19: 0.17505709 | CL19: 0.28702318 | CM19: 0.265231 | CN19: 0.14815899 | CO19: 0.30549318 | CP19: 0.043084903 | CQ19: 0.17295962 | CR19: 0.27545414 | CS19: 0.29226975 | CT19: 0.16457906 | CU19: 0.31716626
A20: 14 | C20: Wind (offshore) | D20: 0 | E20: 0 | F20: 0.099004701 | G20: 0.038589744 | H20: 0.0073234106 | I20: 0.11465602 | J20: 0 | K20: 0 | L20: 0.1125718 | M20: 0.07101522 | N20: 0.012346439 | O20: 0.17383199 | P20: 0 | Q20: 0 | R20: 0.097407461 | S20: 0.090248662 | T20: 0.016087128 | U20: 0.21480658 | V20: 0 | W20: 0 | X20: 0.10879896 | Y20: 0.22164129 | Z20: 0.021685627 | AA20: 0.26784057 | AB20: 0 | AC20: 0 | AD20: 0.17678523 | AE20: 0.11226107 | AF20: 0.0095612748 | AG20: 0.11465602 | AH20: 0 | AI20: 0 | AJ20: 0.21002104 | AK20: 0.16815079 | AL20: 0.011549174 | AM20: 0.18463921 | AN20: 0 | AO20: 0 | AP20: 0.25242972 | AQ20: 0.22533013 | AR20: 0.02706531 | AS20: 0.23099967 | AT20: 0 | AU20: 0 | AV20: 0.29071416 | AW20: 0.27593667 | AX20: 0.029288586 | AY20: 0.2451055 | AZ20: 0 | BA20: 0 | BB20: 0.17678523 | BC20: 0.11226107 | BD20: 0.0095612748 | BE20: 0.11465602 | BF20: 0 | BG20: 0 | BH20: 0.21002104 | BI20: 0.16815079 | BJ20: 0.011549174 | BK20: 0.18282593 | BL20: 0 | BM20: 0 | BN20: 0.25242972 | BO20: 0.22533013 | BP20: 0.02706531 | BQ20: 0.22876249 | BR20: 0 | BS20: 0 | BT20: 0.29071416 | BU20: 0.27593667 | BV20: 0.029288586 | BW20: 0.25783928 | BX20: 0 | BY20: 0 | BZ20: 0.17678523 | CA20: 0.11226107 | CB20: 0.0095612748 | CC20: 0.11465602 | CD20: 0 | CE20: 0 | CF20: 0.21002104 | CG20: 0.16815079 | CH20: 0.011549174 | CI20: 0.18282593 | CJ20: 0 | CK20: 0 | CL20: 0.25242972 | CM20: 0.22533013 | CN20: 0.02706531 | CO20: 0.22876249 | CP20: 0 | CQ20: 0 | CR20: 0.29071416 | CS20: 0.27593667 | CT20: 0.029288586 | CU20: 0.25783928
... A29: 23 | C29: Export to Switzerland | D29: 0 | E29: 0 | F29: 0.33253963 | G29: 0.66746037 | H29: 0 | I29: 0 | J29: 0 | K29: 0 | L29: 0.35544843 | M29: 0.64455157 | N29: 0 | O29: 0 | P29: 0 | Q29: 0 | R29: 0.37683685 | S29: 0.62316315 | T29: 0 | U29: 0 | V29: 0 | W29: 0 | X29: 0.41562027 | Y29: 0.58437973 | Z29: 0 | AA29: 0 | AB29: 0 | AC29: 0 | AD29: 0.33253963 | AE29: 0.66746037 | AF29: 0 | AG29: 0 | AH29: 0 | AI29: 0.059982691 | AJ29: 0.28318948 | AK29: 0.65682783 | AL29: 0 | AM29: 0 | AN29: 0 | AO29: 0.036280589 | AP29: 0.25980945 | AQ29: 0.70390996 | AR29: 0 | AS29: 0 | AT29: 0 | AU29: 0.061073129 | AV29: 0.22898823 | AW29: 0.70993864 | AX29: 0 | AY29: 0 | AZ29: 0 | BA29: 0 | BB29: 0.33253963 | BC29: 0.66746037 | BD29: 0 | BE29: 0 | BF29: 0 | BG29: 0.091301446 | BH29: 0.341813 | BI29: 0.56688555 | BJ29: 0 | BK29: 0 | BL29: 0 | BM29: 0.097588214 | BN29: 0.34978792 | BO29: 0.55262386 | BP29: 0 | BQ29: 0 | BR29: 0 | BS29: 0.093039022 | BT29: 0.22132208 | BU29: 0.6856389 | BV29: 0 | BW29: 0 | BX29: 0 | BY29: 0 | BZ29: 0.33253963 | CA29: 0.66746037 | CB29: 0 | CC29: 0 | CD29: 0 | CE29: 0.091301446 | CF29: 0.341813 | CG29: 0.56688555 | CH29: 0 | CI29: 0 | CJ29: 0 | CK29: 0.097588214 | CL29: 0.34978792 | CM29: 0.55262386 | CN29: 0 | CO29: 0 | CP29: 0 | CQ29: 0.093039022 | CR29: 0.22132208 | CS29: 0.6856389 | CT29: 0 | CU29: 0
A30: 24 | B30: EF IPCC 2021 Direkt (kg CO2e) | C30: Kleinwasserkraft | D30: =D$8*LCI!$D$4 -> 0 | E30: =E$8*LCI!$K$4 -> 0 | F30: =F$8*LCI!$R$4 -> 0 | G30: =G$8*LCI!$Y$4 -> 0 | H30: =H$8*LCI!$AF$4 -> 0 | I30: =I$8*LCI!$AM$4 -> 0 | J30: =J$8*LCI!$D$4 -> 0 | K30: =K$8*LCI!$K$4 -> 0 | L30: =L$8*LCI!$R$4 -> 0 | M30: =M$8*LCI!$Y$4 -> 0 | N30: =N$8*LCI!$AF$4 -> 0 | O30: =O$8*LCI!$AM$4 -> 0 | P30: =P$8*LCI!$D$4 -> 0 | Q30: =Q$8*LCI!$K$4 -> 0 | R30: =R$8*LCI!$R$4 -> 0 | S30: =S$8*LCI!$Y$4 -> 0 | T30: =T$8*LCI!$AF$4 -> 0 | U30: =U$8*LCI!$AM$4 -> 0 | V30: =V$8*LCI!$D$4 -> 0 | W30: =W$8*LCI!$K$4 -> 0 | X30: =X$8*LCI!$R$4 -> 0 | Y30: =Y$8*LCI!$Y$4 -> 0 | Z30: =Z$8*LCI!$AF$4 -> 0 | AA30: =AA$8*LCI!$AM$4 -> 0 | AB30: =AB$8*LCI!$D$4 -> 0 | AC30: =AC$8*LCI!$K$4 -> 0 | AD30: =AD$8*LCI!$R$4 -> 0 | AE30: =AE$8*LCI!$Y$4 -> 0 | AF30: =AF$8*LCI!$AF$4 -> 0 | AG30: =AG$8*LCI!$AM$4 -> 0 | AH30: =AH$8*LCI!$D$4 -> 0 | AI30: =AI$8*LCI!$K$4 -> 0 | AJ30: =AJ$8*LCI!$R$4 -> 0 | AK30: =AK$8*LCI!$Y$4 -> 0 | AL30: =AL$8*LCI!$AF$4 -> 0 | AM30: =AM$8*LCI!$AM$4 -> 0 | AN30: =AN$8*LCI!$D$4 -> 0 | AO30: =AO$8*LCI!$K$4 -> 0 | AP30: =AP$8*LCI!$R$4 -> 0 | AQ30: =AQ$8*LCI!$Y$4 -> 0 | AR30: =AR$8*LCI!$AF$4 -> 0 | AS30: =AS$8*LCI!$AM$4 -> 0 | AT30: =AT$8*LCI!$D$4 -> 0 | AU30: =AU$8*LCI!$K$4 -> 0 | AV30: =AV$8*LCI!$R$4 -> 0 | AW30: =AW$8*LCI!$Y$4 -> 0 | AX30: =AX$8*LCI!$AF$4 -> 0 | AY30: =AY$8*LCI!$AM$4 -> 0 | AZ30: =AZ$8*LCI!$D$4 -> 0 | BA30: =BA$8*LCI!$K$4 -> 0 | BB30: =BB$8*LCI!$R$4 -> 0 | BC30: =BC$8*LCI!$Y$4 -> 0 | BD30: =BD$8*LCI!$AF$4 -> 0 | BE30: =BE$8*LCI!$AM$4 -> 0 | BF30: =BF$8*LCI!$D$4 -> 0 | BG30: =BG$8*LCI!$K$4 -> 0 | BH30: =BH$8*LCI!$R$4 -> 0 | BI30: =BI$8*LCI!$Y$4 -> 0 | BJ30: =BJ$8*LCI!$AF$4 -> 0 | BK30: =BK$8*LCI!$AM$4 -> 0 | BL30: =BL$8*LCI!$D$4 -> 0 | BM30: =BM$8*LCI!$K$4 -> 0 | BN30: =BN$8*LCI!$R$4 -> 0 | BO30: =BO$8*LCI!$Y$4 -> 0 | BP30: =BP$8*LCI!$AF$4 -> 0 | BQ30: =BQ$8*LCI!$AM$4 -> 0 | BR30: =BR$8*LCI!$D$4 -> 0 | BS30: =BS$8*LCI!$K$4 -> 0 | BT30: =BT$8*LCI!$R$4 -> 0 | BU30: =BU$8*LCI!$Y$4 -> 0 | BV30: =BV$8*LCI!$AF$4 -> 0 | BW30: =BW$8*LCI!$AM$4 -> 0 | BX30: =BX$8*LCI!$D$4 -> 0 | BY30: =BY$8*LCI!$K$4 -> 0 | BZ30: =BZ$8*LCI!$R$4 -> 0 | CA30: =CA$8*LCI!$Y$4 -> 0 | CB30: =CB$8*LCI!$AF$4 -> 0 | CC30: =CC$8*LCI!$AM$4 -> 0 | CD30: =CD$8*LCI!$D$4 -> 0 | CE30: =CE$8*LCI!$K$4 -> 0 | CF30: =CF$8*LCI!$R$4 -> 0 | CG30: =CG$8*LCI!$Y$4 -> 0 | CH30: =CH$8*LCI!$AF$4 -> 0 | CI30: =CI$8*LCI!$AM$4 -> 0 | CJ30: =CJ$8*LCI!$D$4 -> 0 | CK30: =CK$8*LCI!$K$4 -> 0 | CL30: =CL$8*LCI!$R$4 -> 0 | CM30: =CM$8*LCI!$Y$4 -> 0 | CN30: =CN$8*LCI!$AF$4 -> 0 | CO30: =CO$8*LCI!$AM$4 -> 0 | CP30: =CP$8*LCI!$D$4 -> 0 | CQ30: =CQ$8*LCI!$K$4 -> 0 | CR30: =CR$8*LCI!$R$4 -> 0 | CS30: =CS$8*LCI!$Y$4 -> 0 | CT30: =CT$8*LCI!$AF$4 -> 0 | CU30: =CU$8*LCI!$AM$4 -> 0
A31: 25 | C31: Speicherkraftwerke | D31: =D$9*LCI!$D$5 -> 0.0002715828 | E31: =E$9*LCI!$K$5 -> 0 | F31: =F$9*LCI!$R$5 -> 0 | G31: =G$9*LCI!$Y$5 -> 0 | H31: =H$9*LCI!$AF$5 -> 0 | I31: =I$9*LCI!$AM$5 -> 0 | J31: =J$9*LCI!$D$5 -> 0.00026204341 | K31: =K$9*LCI!$K$5 -> 0 | L31: =L$9*LCI!$R$5 -> 0 | M31: =M$9*LCI!$Y$5 -> 0 | N31: =N$9*LCI!$AF$5 -> 0 | O31: =O$9*LCI!$AM$5 -> 0 | P31: =P$9*LCI!$D$5 -> 0.00028760582 | Q31: =Q$9*LCI!$K$5 -> 0 | R31: =R$9*LCI!$R$5 -> 0 | S31: =S$9*LCI!$Y$5 -> 0 | T31: =T$9*LCI!$AF$5 -> 0 | U31: =U$9*LCI!$AM$5 -> 0 | V31: =V$9*LCI!$D$5 -> 0.00030110905 | W31: =W$9*LCI!$K$5 -> 0 | X31: =X$9*LCI!$R$5 -> 0 | Y31: =Y$9*LCI!$Y$5 -> 0 | Z31: =Z$9*LCI!$AF$5 -> 0 | AA31: =AA$9*LCI!$AM$5 -> 0 | AB31: =AB$9*LCI!$D$5 -> 0.00027476012 | AC31: =AC$9*LCI!$K$5 -> 0 | AD31: =AD$9*LCI!$R$5 -> 0 | AE31: =AE$9*LCI!$Y$5 -> 0 | AF31: =AF$9*LCI!$AF$5 -> 0 | AG31: =AG$9*LCI!$AM$5 -> 0 | AH31: =AH$9*LCI!$D$5 -> 0.00025438351 | AI31: =AI$9*LCI!$K$5 -> 0 | AJ31: =AJ$9*LCI!$R$5 -> 0 | AK31: =AK$9*LCI!$Y$5 -> 0 | AL31: =AL$9*LCI!$AF$5 -> 0 | AM31: =AM$9*LCI!$AM$5 -> 0 | AN31: =AN$9*LCI!$D$5 -> 0.00025724902 | AO31: =AO$9*LCI!$K$5 -> 0 | AP31: =AP$9*LCI!$R$5 -> 0 | AQ31: =AQ$9*LCI!$Y$5 -> 0 | AR31: =AR$9*LCI!$AF$5 -> 0 | AS31: =AS$9*LCI!$AM$5 -> 0 | AT31: =AT$9*LCI!$D$5 -> 0.0002533295 | AU31: =AU$9*LCI!$K$5 -> 0 | AV31: =AV$9*LCI!$R$5 -> 0 | AW31: =AW$9*LCI!$Y$5 -> 0 | AX31: =AX$9*LCI!$AF$5 -> 0 | AY31: =AY$9*LCI!$AM$5 -> 0 | AZ31: =AZ$9*LCI!$D$5 -> 0.00027494244 | BA31: =BA$9*LCI!$K$5 -> 0 | BB31: =BB$9*LCI!$R$5 -> 0 | BC31: =BC$9*LCI!$Y$5 -> 0 | BD31: =BD$9*LCI!$AF$5 -> 0 | BE31: =BE$9*LCI!$AM$5 -> 0 | BF31: =BF$9*LCI!$D$5 -> 0.00025423041 | BG31: =BG$9*LCI!$K$5 -> 0 | BH31: =BH$9*LCI!$R$5 -> 0 | BI31: =BI$9*LCI!$Y$5 -> 0 | BJ31: =BJ$9*LCI!$AF$5 -> 0 | BK31: =BK$9*LCI!$AM$5 -> 0 | BL31: =BL$9*LCI!$D$5 -> 0.00025592691 | BM31: =BM$9*LCI!$K$5 -> 0 | BN31: =BN$9*LCI!$R$5 -> 0 | BO31: =BO$9*LCI!$Y$5 -> 0 | BP31: =BP$9*LCI!$AF$5 -> 0 | BQ31: =BQ$9*LCI!$AM$5 -> 0 | BR31: =BR$9*LCI!$D$5 -> 0.00024086997 | BS31: =BS$9*LCI!$K$5 -> 0 | BT31: =BT$9*LCI!$R$5 -> 0 | BU31: =BU$9*LCI!$Y$5 -> 0 | BV31: =BV$9*LCI!$AF$5 -> 0 | BW31: =BW$9*LCI!$AM$5 -> 0 | BX31: =BX$9*LCI!$D$5 -> 0.00027501733 | BY31: =BY$9*LCI!$K$5 -> 0 | BZ31: =BZ$9*LCI!$R$5 -> 0 | CA31: =CA$9*LCI!$Y$5 -> 0 | CB31: =CB$9*LCI!$AF$5 -> 0 | CC31: =CC$9*LCI!$AM$5 -> 0 | CD31: =CD$9*LCI!$D$5 -> 0.00025395558 | CE31: =CE$9*LCI!$K$5 -> 0 | CF31: =CF$9*LCI!$R$5 -> 0 | CG31: =CG$9*LCI!$Y$5 -> 0 | CH31: =CH$9*LCI!$AF$5 -> 0 | CI31: =CI$9*LCI!$AM$5 -> 0 | CJ31: =CJ$9*LCI!$D$5 -> 0.00025670175 | CK31: =CK$9*LCI!$K$5 -> 0 | CL31: =CL$9*LCI!$R$5 -> 0 | CM31: =CM$9*LCI!$Y$5 -> 0 | CN31: =CN$9*LCI!$AF$5 -> 0 | CO31: =CO$9*LCI!$AM$5 -> 0 | CP31: =CP$9*LCI!$D$5 -> 0.0002601466 | CQ31: =CQ$9*LCI!$K$5 -> 0 | CR31: =CR$9*LCI!$R$5 -> 0 | CS31: =CS$9*LCI!$Y$5 -> 0 | CT31: =CT$9*LCI!$AF$5 -> 0 | CU31: =CU$9*LCI!$AM$5 -> 0
A32: 26 | C32: Laufwasserkraft | D32: =D$10*LCI!$D$6 -> 0.0002702198 | E32: =E$10*LCI!$K$6 -> 0 | F32: =F$10*LCI!$R$6 -> 0 | G32: =G$10*LCI!$Y$6 -> 0 | H32: =H$10*LCI!$AF$6 -> 0 | I32: =I$10*LCI!$AM$6 -> 0 | J32: =J$10*LCI!$D$6 -> 0.00025810517 | K32: =K$10*LCI!$K$6 -> 0 | L32: =L$10*LCI!$R$6 -> 0 | M32: =M$10*LCI!$Y$6 -> 0 | N32: =N$10*LCI!$AF$6 -> 0 | O32: =O$10*LCI!$AM$6 -> 0 | P32: =P$10*LCI!$D$6 -> 0.00027760762 | Q32: =Q$10*LCI!$K$6 -> 0 | R32: =R$10*LCI!$R$6 -> 0 | S32: =S$10*LCI!$Y$6 -> 0 | T32: =T$10*LCI!$AF$6 -> 0 | U32: =U$10*LCI!$AM$6 -> 0 | V32: =V$10*LCI!$D$6 -> 0.00028675607 | W32: =W$10*LCI!$K$6 -> 0 | X32: =X$10*LCI!$R$6 -> 0 | Y32: =Y$10*LCI!$Y$6 -> 0 | Z32: =Z$10*LCI!$AF$6 -> 0 | AA32: =AA$10*LCI!$AM$6 -> 0 | AB32: =AB$10*LCI!$D$6 -> 0.00026856154 | AC32: =AC$10*LCI!$K$6 -> 0 | AD32: =AD$10*LCI!$R$6 -> 0 | AE32: =AE$10*LCI!$Y$6 -> 0 | AF32: =AF$10*LCI!$AF$6 -> 0 | AG32: =AG$10*LCI!$AM$6 -> 0 | AH32: =AH$10*LCI!$D$6 -> 0.00024440726 | AI32: =AI$10*LCI!$K$6 -> 0 | AJ32: =AJ$10*LCI!$R$6 -> 0 | AK32: =AK$10*LCI!$Y$6 -> 0 | AL32: =AL$10*LCI!$AF$6 -> 0 | AM32: =AM$10*LCI!$AM$6 -> 0 | AN32: =AN$10*LCI!$D$6 -> 0.00024392563 | AO32: =AO$10*LCI!$K$6 -> 0 | AP32: =AP$10*LCI!$R$6 -> 0 | AQ32: =AQ$10*LCI!$Y$6 -> 0 | AR32: =AR$10*LCI!$AF$6 -> 0 | AS32: =AS$10*LCI!$AM$6 -> 0 | AT32: =AT$10*LCI!$D$6 -> 0.00022957885 | AU32: =AU$10*LCI!$K$6 -> 0 | AV32: =AV$10*LCI!$R$6 -> 0 | AW32: =AW$10*LCI!$Y$6 -> 0 | AX32: =AX$10*LCI!$AF$6 -> 0 | AY32: =AY$10*LCI!$AM$6 -> 0 | AZ32: =AZ$10*LCI!$D$6 -> 0.00026908038 | BA32: =BA$10*LCI!$K$6 -> 0 | BB32: =BB$10*LCI!$R$6 -> 0 | BC32: =BC$10*LCI!$Y$6 -> 0 | BD32: =BD$10*LCI!$AF$6 -> 0 | BE32: =BE$10*LCI!$AM$6 -> 0 | BF32: =BF$10*LCI!$D$6 -> 0.00024472226 | BG32: =BG$10*LCI!$K$6 -> 0 | BH32: =BH$10*LCI!$R$6 -> 0 | BI32: =BI$10*LCI!$Y$6 -> 0 | BJ32: =BJ$10*LCI!$AF$6 -> 0 | BK32: =BK$10*LCI!$AM$6 -> 0 | BL32: =BL$10*LCI!$D$6 -> 0.0002441752 | BM32: =BM$10*LCI!$K$6 -> 0 | BN32: =BN$10*LCI!$R$6 -> 0 | BO32: =BO$10*LCI!$Y$6 -> 0 | BP32: =BP$10*LCI!$AF$6 -> 0 | BQ32: =BQ$10*LCI!$AM$6 -> 0 | BR32: =BR$10*LCI!$D$6 -> 0.00021946992 | BS32: =BS$10*LCI!$K$6 -> 0 | BT32: =BT$10*LCI!$R$6 -> 0 | BU32: =BU$10*LCI!$Y$6 -> 0 | BV32: =BV$10*LCI!$AF$6 -> 0 | BW32: =BW$10*LCI!$AM$6 -> 0 | BX32: =BX$10*LCI!$D$6 -> 0.00026892941 | BY32: =BY$10*LCI!$K$6 -> 0 | BZ32: =BZ$10*LCI!$R$6 -> 0 | CA32: =CA$10*LCI!$Y$6 -> 0 | CB32: =CB$10*LCI!$AF$6 -> 0 | CC32: =CC$10*LCI!$AM$6 -> 0 | CD32: =CD$10*LCI!$D$6 -> 0.00024438133 | CE32: =CE$10*LCI!$K$6 -> 0 | CF32: =CF$10*LCI!$R$6 -> 0 | CG32: =CG$10*LCI!$Y$6 -> 0 | CH32: =CH$10*LCI!$AF$6 -> 0 | CI32: =CI$10*LCI!$AM$6 -> 0 | CJ32: =CJ$10*LCI!$D$6 -> 0.00024420657 | CK32: =CK$10*LCI!$K$6 -> 0 | CL32: =CL$10*LCI!$R$6 -> 0 | CM32: =CM$10*LCI!$Y$6 -> 0 | CN32: =CN$10*LCI!$AF$6 -> 0 | CO32: =CO$10*LCI!$AM$6 -> 0 | CP32: =CP$10*LCI!$D$6 -> 0.00023760905 | CQ32: =CQ$10*LCI!$K$6 -> 0 | CR32: =CR$10*LCI!$R$6 -> 0 | CS32: =CS$10*LCI!$Y$6 -> 0 | CT32: =CT$10*LCI!$AF$6 -> 0 | CU32: =CU$10*LCI!$AM$6 -> 0
A33: 27 | C33: Pumpspeicher | D33: =D$11*(LCI!$D$7+1.419*SUM(D30:D32,D34:D50)) -> 0.002869629 | E33: =E$11*(LCI!$K$7+1.447*SUM(E30:E32,E34:E50)) -> 0 | F33: =F$11*(LCI!$R$7+1.523*SUM(F30:F32,F34:F50)) -> 0 | G33: =G$11*(LCI!$Y$7+1.357*SUM(G30:G32,G34:G50)) -> 0 | H33: =H$11*(LCI!$AF$7+1.396*SUM(H30:H32,H34:H50)) -> 0 | I33: =I$11*(LCI!$AM$7+1.25*SUM(I30:I32,I34:I50)) -> 0 | J33: =J$11*(LCI!$D$7+1.419*SUM(J30:J32,J34:J50)) -> 0.003381234 | K33: =K$11*(LCI!$K$7+1.447*SUM(K30:K32,K34:K50)) -> 0 | L33: =L$11*(LCI!$R$7+1.523*SUM(L30:L32,L34:L50)) -> 0 | M33: =M$11*(LCI!$Y$7+1.357*SUM(M30:M32,M34:M50)) -> 0 | N33: =N$11*(LCI!$AF$7+1.396*SUM(N30:N32,N34:N50)) -> 0 | O33: =O$11*(LCI!$AM$7+1.25*SUM(O30:O32,O34:O50)) -> 0 | P33: =P$11*(LCI!$D$7+1.419*SUM(P30:P32,P34:P50)) -> 0.0035568596 | Q33: =Q$11*(LCI!$K$7+1.447*SUM(Q30:Q32,Q34:Q50)) -> 0 | R33: =R$11*(LCI!$R$7+1.523*SUM(R30:R32,R34:R50)) -> 0 | S33: =S$11*(LCI!$Y$7+1.357*SUM(S30:S32,S34:S50)) -> 0 | T33: =T$11*(LCI!$AF$7+1.396*SUM(T30:T32,T34:T50)) -> 0 | U33: =U$11*(LCI!$AM$7+1.25*SUM(U30:U32,U34:U50)) -> 0 | V33: =V$11*(LCI!$D$7+1.419*SUM(V30:V32,V34:V50)) -> 0.0036226334 | W33: =W$11*(LCI!$K$7+1.447*SUM(W30:W32,W34:W50)) -> 0 | X33: =X$11*(LCI!$R$7+1.523*SUM(X30:X32,X34:X50)) -> 0 | Y33: =Y$11*(LCI!$Y$7+1.357*SUM(Y30:Y32,Y34:Y50)) -> 0 | Z33: =Z$11*(LCI!$AF$7+1.396*SUM(Z30:Z32,Z34:Z50)) -> 0 | AA33: =AA$11*(LCI!$AM$7+1.25*SUM(AA30:AA32,AA34:AA50)) -> 0 | AB33: =AB$11*(LCI!$D$7+1.419*SUM(AB30:AB32,AB34:AB50)) -> 0.0023199489 | AC33: =AC$11*(LCI!$K$7+1.447*SUM(AC30:AC32,AC34:AC50)) -> 0 | AD33: =AD$11*(LCI!$R$7+1.523*SUM(AD30:AD32,AD34:AD50)) -> 0 | AE33: =AE$11*(LCI!$Y$7+1.357*SUM(AE30:AE32,AE34:AE50)) -> 0 | AF33: =AF$11*(LCI!$AF$7+1.396*SUM(AF30:AF32,AF34:AF50)) -> 0 | AG33: =AG$11*(LCI!$AM$7+1.25*SUM(AG30:AG32,AG34:AG50)) -> 0 | AH33: =AH$11*(LCI!$D$7+1.419*SUM(AH30:AH32,AH34:AH50)) -> 0.0021785399 | AI33: =AI$11*(LCI!$K$7+1.447*SUM(AI30:AI32,AI34:AI50)) -> 0 | AJ33: =AJ$11*(LCI!$R$7+1.523*SUM(AJ30:AJ32,AJ34:AJ50)) -> 0 | AK33: =AK$11*(LCI!$Y$7+1.357*SUM(AK30:AK32,AK34:AK50)) -> 0 | AL33: =AL$11*(LCI!$AF$7+1.396*SUM(AL30:AL32,AL34:AL50)) -> 0 | AM33: =AM$11*(LCI!$AM$7+1.25*SUM(AM30:AM32,AM34:AM50)) -> 0 | AN33: =AN$11*(LCI!$D$7+1.419*SUM(AN30:AN32,AN34:AN50)) -> 0.002075168 | AO33: =AO$11*(LCI!$K$7+1.447*SUM(AO30:AO32,AO34:AO50)) -> 0 | AP33: =AP$11*(LCI!$R$7+1.523*SUM(AP30:AP32,AP34:AP50)) -> 0 | AQ33: =AQ$11*(LCI!$Y$7+1.357*SUM(AQ30:AQ32,AQ34:AQ50)) -> 0 | AR33: =AR$11*(LCI!$AF$7+1.396*SUM(AR30:AR32,AR34:AR50)) -> 0 | AS33: =AS$11*(LCI!$AM$7+1.25*SUM(AS30:AS32,AS34:AS50)) -> 0 | AT33: =AT$11*(LCI!$D$7+1.419*SUM(AT30:AT32,AT34:AT50)) -> 0.0011642057 | AU33: =AU$11*(LCI!$K$7+1.447*SUM(AU30:AU32,AU34:AU50)) -> 0 | AV33: =AV$11*(LCI!$R$7+1.523*SUM(AV30:AV32,AV34:AV50)) -> 0 | AW33: =AW$11*(LCI!$Y$7+1.357*SUM(AW30:AW32,AW34:AW50)) -> 0 | AX33: =AX$11*(LCI!$AF$7+1.396*SUM(AX30:AX32,AX34:AX50)) -> 0 | AY33: =AY$11*(LCI!$AM$7+1.25*SUM(AY30:AY32,AY34:AY50)) -> 0 | AZ33: =AZ$11*(LCI!$D$7+1.419*SUM(AZ30:AZ32,AZ34:AZ50)) -> 0.0022734852 | BA33: =BA$11*(LCI!$K$7+1.447*SUM(BA30:BA32,BA34:BA50)) -> 0 | BB33: =BB$11*(LCI!$R$7+1.523*SUM(BB30:BB32,BB34:BB50)) -> 0 | BC33: =BC$11*(LCI!$Y$7+1.357*SUM(BC30:BC32,BC34:BC50)) -> 0 | BD33: =BD$11*(LCI!$AF$7+1.396*SUM(BD30:BD32,BD34:BD50)) -> 0 | BE33: =BE$11*(LCI!$AM$7+1.25*SUM(BE30:BE32,BE34:BE50)) -> 0 | BF33: =BF$11*(LCI!$D$7+1.419*SUM(BF30:BF32,BF34:BF50)) -> 0.0022333591 | BG33: =BG$11*(LCI!$K$7+1.447*SUM(BG30:BG32,BG34:BG50)) -> 0 | BH33: =BH$11*(LCI!$R$7+1.523*SUM(BH30:BH32,BH34:BH50)) -> 0 | BI33: =BI$11*(LCI!$Y$7+1.357*SUM(BI30:BI32,BI34:BI50)) -> 0 | BJ33: =BJ$11*(LCI!$AF$7+1.396*SUM(BJ30:BJ32,BJ34:BJ50)) -> 0 | BK33: =BK$11*(LCI!$AM$7+1.25*SUM(BK30:BK32,BK34:BK50)) -> 0 | BL33: =BL$11*(LCI!$D$7+1.419*SUM(BL30:BL32,BL34:BL50)) -> 0.0020971688 | BM33: =BM$11*(LCI!$K$7+1.447*SUM(BM30:BM32,BM34:BM50)) -> 0 | BN33: =BN$11*(LCI!$R$7+1.523*SUM(BN30:BN32,BN34:BN50)) -> 0 | BO33: =BO$11*(LCI!$Y$7+1.357*SUM(BO30:BO32,BO34:BO50)) -> 0 | BP33: =BP$11*(LCI!$AF$7+1.396*SUM(BP30:BP32,BP34:BP50)) -> 0 | BQ33: =BQ$11*(LCI!$AM$7+1.25*SUM(BQ30:BQ32,BQ34:BQ50)) -> 0 | BR33: =BR$11*(LCI!$D$7+1.419*SUM(BR30:BR32,BR34:BR50)) -> 0.0010753414 | BS33: =BS$11*(LCI!$K$7+1.447*SUM(BS30:BS32,BS34:BS50)) -> 0 | BT33: =BT$11*(LCI!$R$7+1.523*SUM(BT30:BT32,BT34:BT50)) -> 0 | BU33: =BU$11*(LCI!$Y$7+1.357*SUM(BU30:BU32,BU34:BU50)) -> 0 | BV33: =BV$11*(LCI!$AF$7+1.396*SUM(BV30:BV32,BV34:BV50)) -> 0 | BW33: =BW$11*(LCI!$AM$7+1.25*SUM(BW30:BW32,BW34:BW50)) -> 0 | BX33: =BX$11*(LCI!$D$7+1.419*SUM(BX30:BX32,BX34:BX50)) -> 0.00238189 | BY33: =BY$11*(LCI!$K$7+1.447*SUM(BY30:BY32,BY34:BY50)) -> 0 | BZ33: =BZ$11*(LCI!$R$7+1.523*SUM(BZ30:BZ32,BZ34:BZ50)) -> 0 | CA33: =CA$11*(LCI!$Y$7+1.357*SUM(CA30:CA32,CA34:CA50)) -> 0 | CB33: =CB$11*(LCI!$AF$7+1.396*SUM(CB30:CB32,CB34:CB50)) -> 0 | CC33: =CC$11*(LCI!$AM$7+1.25*SUM(CC30:CC32,CC34:CC50)) -> 0 | CD33: =CD$11*(LCI!$D$7+1.419*SUM(CD30:CD32,CD34:CD50)) -> 0.0022982901 | CE33: =CE$11*(LCI!$K$7+1.447*SUM(CE30:CE32,CE34:CE50)) -> 0 | CF33: =CF$11*(LCI!$R$7+1.523*SUM(CF30:CF32,CF34:CF50)) -> 0 | CG33: =CG$11*(LCI!$Y$7+1.357*SUM(CG30:CG32,CG34:CG50)) -> 0 | CH33: =CH$11*(LCI!$AF$7+1.396*SUM(CH30:CH32,CH34:CH50)) -> 0 | CI33: =CI$11*(LCI!$AM$7+1.25*SUM(CI30:CI32,CI34:CI50)) -> 0 | CJ33: =CJ$11*(LCI!$D$7+1.419*SUM(CJ30:CJ32,CJ34:CJ50)) -> 0.0021287238 | CK33: =CK$11*(LCI!$K$7+1.447*SUM(CK30:CK32,CK34:CK50)) -> 0 | CL33: =CL$11*(LCI!$R$7+1.523*SUM(CL30:CL32,CL34:CL50)) -> 0 | CM33: =CM$11*(LCI!$Y$7+1.357*SUM(CM30:CM32,CM34:CM50)) -> 0 | CN33: =CN$11*(LCI!$AF$7+1.396*SUM(CN30:CN32,CN34:CN50)) -> 0 | CO33: =CO$11*(LCI!$AM$7+1.25*SUM(CO30:CO32,CO34:CO50)) -> 0 | CP33: =CP$11*(LCI!$D$7+1.419*SUM(CP30:CP32,CP34:CP50)) -> 0.0012866272 | CQ33: =CQ$11*(LCI!$K$7+1.447*SUM(CQ30:CQ32,CQ34:CQ50)) -> 0 | CR33: =CR$11*(LCI!$R$7+1.523*SUM(CR30:CR32,CR34:CR50)) -> 0 | CS33: =CS$11*(LCI!$Y$7+1.357*SUM(CS30:CS32,CS34:CS50)) -> 0 | CT33: =CT$11*(LCI!$AF$7+1.396*SUM(CT30:CT32,CT34:CT50)) -> 0 | CU33: =CU$11*(LCI!$AM$7+1.25*SUM(CU30:CU32,CU34:CU50)) -> 0
A34: 28 | C34: Wasserkraft (unspezifisch) | D34: =D$12*LCI!$D$8 -> 0 | E34: =E$12*LCI!$K$8 -> 0.00036290558 | F34: =F$12*LCI!$R$8 -> 2.4832236e-05 | G34: =G$12*LCI!$Y$8 -> 6.6218853e-05 | H34: =H$12*LCI!$AF$8 -> 8.0271132e-05 | I34: =I$12*LCI!$AM$8 -> 5.2242501e-05 | J34: =J$12*LCI!$D$8 -> 0 | K34: =K$12*LCI!$K$8 -> 0.00032278116 | L34: =L$12*LCI!$R$8 -> 2.2912604e-05 | M34: =M$12*LCI!$Y$8 -> 7.6216634e-05 | N34: =N$12*LCI!$AF$8 -> 7.5553227e-05 | O34: =O$12*LCI!$AM$8 -> 4.2736411e-05 | P34: =P$12*LCI!$D$8 -> 0 | Q34: =Q$12*LCI!$K$8 -> 0.00029558648 | R34: =R$12*LCI!$R$8 -> 2.2127626e-05 | S34: =S$12*LCI!$Y$8 -> 8.0316087e-05 | T34: =T$12*LCI!$AF$8 -> 7.6224781e-05 | U34: =U$12*LCI!$AM$8 -> 3.6154208e-05 | V34: =V$12*LCI!$D$8 -> 0 | W34: =W$12*LCI!$K$8 -> 0.00029476823 | X34: =X$12*LCI!$R$8 -> 2.2561849e-05 | Y34: =Y$12*LCI!$Y$8 -> 7.9058251e-05 | Z34: =Z$12*LCI!$AF$8 -> 7.9140089e-05 | AA34: =AA$12*LCI!$AM$8 -> 2.7634771e-05 | AB34: =AB$12*LCI!$D$8 -> 0 | AC34: =AC$12*LCI!$K$8 -> 0.0003600623 | AD34: =AD$12*LCI!$R$8 -> 2.8972479e-05 | AE34: =AE$12*LCI!$Y$8 -> 6.6094971e-05 | AF34: =AF$12*LCI!$AF$8 -> 8.0230314e-05 | AG34: =AG$12*LCI!$AM$8 -> 5.2242501e-05 | AH34: =AH$12*LCI!$D$8 -> 0 | AI34: =AI$12*LCI!$K$8 -> 0.00029656186 | AJ34: =AJ$12*LCI!$R$8 -> 2.3032724e-05 | AK34: =AK$12*LCI!$Y$8 -> 6.5446253e-05 | AL34: =AL$12*LCI!$AF$8 -> 7.0599665e-05 | AM34: =AM$12*LCI!$AM$8 -> 4.1614363e-05 | AN34: =AN$12*LCI!$D$8 -> 0 | AO34: =AO$12*LCI!$K$8 -> 0.00029786618 | AP34: =AP$12*LCI!$R$8 -> 1.9322151e-05 | AQ34: =AQ$12*LCI!$Y$8 -> 6.4774715e-05 | AR34: =AR$12*LCI!$AF$8 -> 7.1565474e-05 | AS34: =AS$12*LCI!$AM$8 -> 3.4573738e-05 | AT34: =AT$12*LCI!$D$8 -> 0 | AU34: =AU$12*LCI!$K$8 -> 0.00028093575 | AV34: =AV$12*LCI!$R$8 -> 1.3754803e-05 | AW34: =AW$12*LCI!$Y$8 -> 5.483668e-05 | AX34: =AX$12*LCI!$AF$8 -> 6.4346342e-05 | AY34: =AY$12*LCI!$AM$8 -> 2.7471759e-05 | AZ34: =AZ$12*LCI!$D$8 -> 0 | BA34: =BA$12*LCI!$K$8 -> 0.0003600623 | BB34: =BB$12*LCI!$R$8 -> 2.8972479e-05 | BC34: =BC$12*LCI!$Y$8 -> 6.6094971e-05 | BD34: =BD$12*LCI!$AF$8 -> 8.0230314e-05 | BE34: =BE$12*LCI!$AM$8 -> 5.2242501e-05 | BF34: =BF$12*LCI!$D$8 -> 0 | BG34: =BG$12*LCI!$K$8 -> 0.00029656186 | BH34: =BH$12*LCI!$R$8 -> 2.3032724e-05 | BI34: =BI$12*LCI!$Y$8 -> 6.5446253e-05 | BJ34: =BJ$12*LCI!$AF$8 -> 7.0599665e-05 | BK34: =BK$12*LCI!$AM$8 -> 4.2034453e-05 | BL34: =BL$12*LCI!$D$8 -> 0 | BM34: =BM$12*LCI!$K$8 -> 0.00029786618 | BN34: =BN$12*LCI!$R$8 -> 1.9322151e-05 | BO34: =BO$12*LCI!$Y$8 -> 6.4774715e-05 | BP34: =BP$12*LCI!$AF$8 -> 7.1565474e-05 | BQ34: =BQ$12*LCI!$AM$8 -> 3.5155721e-05 | BR34: =BR$12*LCI!$D$8 -> 0 | BS34: =BS$12*LCI!$K$8 -> 0.00028093575 | BT34: =BT$12*LCI!$R$8 -> 1.3754803e-05 | BU34: =BU$12*LCI!$Y$8 -> 5.483668e-05 | BV34: =BV$12*LCI!$AF$8 -> 6.4346342e-05 | BW34: =BW$12*LCI!$AM$8 -> 2.7655469e-05 | BX34: =BX$12*LCI!$D$8 -> 0 | BY34: =BY$12*LCI!$K$8 -> 0.0003600623 | BZ34: =BZ$12*LCI!$R$8 -> 2.8972479e-05 | CA34: =CA$12*LCI!$Y$8 -> 6.6094971e-05 | CB34: =CB$12*LCI!$AF$8 -> 8.0230314e-05 | CC34: =CC$12*LCI!$AM$8 -> 5.2242501e-05 | CD34: =CD$12*LCI!$D$8 -> 0 | CE34: =CE$12*LCI!$K$8 -> 0.00029656186 | CF34: =CF$12*LCI!$R$8 -> 2.3032724e-05 | CG34: =CG$12*LCI!$Y$8 -> 6.5446253e-05 | CH34: =CH$12*LCI!$AF$8 -> 7.0599665e-05 | CI34: =CI$12*LCI!$AM$8 -> 4.2034453e-05 | CJ34: =CJ$12*LCI!$D$8 -> 0 | CK34: =CK$12*LCI!$K$8 -> 0.00029786618 | CL34: =CL$12*LCI!$R$8 -> 1.9322151e-05 | CM34: =CM$12*LCI!$Y$8 -> 6.4774715e-05 | CN34: =CN$12*LCI!$AF$8 -> 7.1565474e-05 | CO34: =CO$12*LCI!$AM$8 -> 3.5155721e-05 | CP34: =CP$12*LCI!$D$8 -> 0 | CQ34: =CQ$12*LCI!$K$8 -> 0.00028093575 | CR34: =CR$12*LCI!$R$8 -> 1.3754803e-05 | CS34: =CS$12*LCI!$Y$8 -> 5.483668e-05 | CT34: =CT$12*LCI!$AF$8 -> 6.4346342e-05 | CU34: =CU$12*LCI!$AM$8 -> 2.7655469e-05
A35: 29 | C35: Kernkraft | D35: =D$13*LCI!$D$9 -> 5.6699427e-06 | E35: =E$13*LCI!$K$9 -> 0 | F35: =F$13*LCI!$R$9 -> 0 | G35: =G$13*LCI!$Y$9 -> 1.8708848e-05 | H35: =H$13*LCI!$AF$9 -> 0 | I35: =I$13*LCI!$AM$9 -> 5.3524348e-06 | J35: =J$13*LCI!$D$9 -> 4.6769482e-06 | K35: =K$13*LCI!$K$9 -> 0 | L35: =L$13*LCI!$R$9 -> 0 | M35: =M$13*LCI!$Y$9 -> 1.240077e-05 | N35: =N$13*LCI!$AF$9 -> 0 | O35: =O$13*LCI!$AM$9 -> 4.2023367e-06 | P35: =P$13*LCI!$D$9 -> 2.677681e-06 | Q35: =Q$13*LCI!$K$9 -> 0 | R35: =R$13*LCI!$R$9 -> 0 | S35: =S$13*LCI!$Y$9 -> 5.7608584e-06 | T35: =T$13*LCI!$AF$9 -> 0 | U35: =U$13*LCI!$AM$9 -> 3.4059862e-06 | V35: =V$13*LCI!$D$9 -> 0 | W35: =W$13*LCI!$K$9 -> 0 | X35: =X$13*LCI!$R$9 -> 0 | Y35: =Y$13*LCI!$Y$9 -> 5.9442248e-07 | Z35: =Z$13*LCI!$AF$9 -> 0 | AA35: =AA$13*LCI!$AM$9 -> 2.3752587e-06 | AB35: =AB$13*LCI!$D$9 -> 5.4313141e-06 | AC35: =AC$13*LCI!$K$9 -> 0 | AD35: =AD$13*LCI!$R$9 -> 0 | AE35: =AE$13*LCI!$Y$9 -> 1.6929382e-05 | AF35: =AF$13*LCI!$AF$9 -> 0 | AG35: =AG$13*LCI!$AM$9 -> 5.3524348e-06 | AH35: =AH$13*LCI!$D$9 -> 4.1442982e-06 | AI35: =AI$13*LCI!$K$9 -> 0 | AJ35: =AJ$13*LCI!$R$9 -> 0 | AK35: =AK$13*LCI!$Y$9 -> 8.8484358e-06 | AL35: =AL$13*LCI!$AF$9 -> 0 | AM35: =AM$13*LCI!$AM$9 -> 3.642335e-06 | AN35: =AN$13*LCI!$D$9 -> 2.0578573e-06 | AO35: =AO$13*LCI!$K$9 -> 0 | AP35: =AP$13*LCI!$R$9 -> 0 | AQ35: =AQ$13*LCI!$Y$9 -> 3.2994541e-06 | AR35: =AR$13*LCI!$AF$9 -> 0 | AS35: =AS$13*LCI!$AM$9 -> 2.5094769e-06 | AT35: =AT$13*LCI!$D$9 -> 0 | AU35: =AU$13*LCI!$K$9 -> 0 | AV35: =AV$13*LCI!$R$9 -> 0 | AW35: =AW$13*LCI!$Y$9 -> 2.4653508e-07 | AX35: =AX$13*LCI!$AF$9 -> 0 | AY35: =AY$13*LCI!$AM$9 -> 1.2300208e-06 | AZ35: =AZ$13*LCI!$D$9 -> 5.4363704e-06 | BA35: =BA$13*LCI!$K$9 -> 0 | BB35: =BB$13*LCI!$R$9 -> 0 | BC35: =BC$13*LCI!$Y$9 -> 1.6929382e-05 | BD35: =BD$13*LCI!$AF$9 -> 0 | BE35: =BE$13*LCI!$AM$9 -> 5.3524348e-06 | BF35: =BF$13*LCI!$D$9 -> 4.1697126e-06 | BG35: =BG$13*LCI!$K$9 -> 0 | BH35: =BH$13*LCI!$R$9 -> 0 | BI35: =BI$13*LCI!$Y$9 -> 8.8484358e-06 | BJ35: =BJ$13*LCI!$AF$9 -> 0 | BK35: =BK$13*LCI!$AM$9 -> 4.2526225e-06 | BL35: =BL$13*LCI!$D$9 -> 2.0877604e-06 | BM35: =BM$13*LCI!$K$9 -> 0 | BN35: =BN$13*LCI!$R$9 -> 0 | BO35: =BO$13*LCI!$Y$9 -> 3.2994541e-06 | BP35: =BP$13*LCI!$AF$9 -> 0 | BQ35: =BQ$13*LCI!$AM$9 -> 3.5115098e-06 | BR35: =BR$13*LCI!$D$9 -> 0 | BS35: =BS$13*LCI!$K$9 -> 0 | BT35: =BT$13*LCI!$R$9 -> 0 | BU35: =BU$13*LCI!$Y$9 -> 2.4653508e-07 | BV35: =BV$13*LCI!$AF$9 -> 0 | BW35: =BW$13*LCI!$AM$9 -> 2.5358071e-06 | BX35: =BX$13*LCI!$D$9 -> 5.3605646e-06 | BY35: =BY$13*LCI!$K$9 -> 0 | BZ35: =BZ$13*LCI!$R$9 -> 0 | CA35: =CA$13*LCI!$Y$9 -> 1.6929382e-05 | CB35: =CB$13*LCI!$AF$9 -> 0 | CC35: =CC$13*LCI!$AM$9 -> 5.3524348e-06 | CD35: =CD$13*LCI!$D$9 -> 4.1402572e-06 | CE35: =CE$13*LCI!$K$9 -> 0 | CF35: =CF$13*LCI!$R$9 -> 0 | CG35: =CG$13*LCI!$Y$9 -> 8.8484358e-06 | CH35: =CH$13*LCI!$AF$9 -> 0 | CI35: =CI$13*LCI!$AM$9 -> 4.2526225e-06 | CJ35: =CJ$13*LCI!$D$9 -> 2.0523637e-06 | CK35: =CK$13*LCI!$K$9 -> 0 | CL35: =CL$13*LCI!$R$9 -> 0 | CM35: =CM$13*LCI!$Y$9 -> 3.2994541e-06 | CN35: =CN$13*LCI!$AF$9 -> 0 | CO35: =CO$13*LCI!$AM$9 -> 3.5115098e-06 | CP35: =CP$13*LCI!$D$9 -> 0 | CQ35: =CQ$13*LCI!$K$9 -> 0 | CR35: =CR$13*LCI!$R$9 -> 0 | CS35: =CS$13*LCI!$Y$9 -> 2.4653508e-07 | CT35: =CT$13*LCI!$AF$9 -> 0 | CU35: =CU$13*LCI!$AM$9 -> 2.5358071e-06
A36: 30 | C36: Kohle | D36: =D$14*LCI!$D$10 -> 0 | E36: =E$14*LCI!$K$10 -> 0 | F36: =F$14*LCI!$R$10 -> 0.17134282 | G36: =G$14*LCI!$Y$10 -> 0 | H36: =H$14*LCI!$AF$10 -> 0 | I36: =I$14*LCI!$AM$10 -> 0.0010535006 | J36: =J$14*LCI!$D$10 -> 0 | K36: =K$14*LCI!$K$10 -> 0 | L36: =L$14*LCI!$R$10 -> 0.094378167 | M36: =M$14*LCI!$Y$10 -> 0 | N36: =N$14*LCI!$AF$10 -> 0 | O36: =O$14*LCI!$AM$10 -> 0.0012003024 | P36: =P$14*LCI!$D$10 -> 0 | Q36: =Q$14*LCI!$K$10 -> 0 | R36: =R$14*LCI!$R$10 -> 0 | S36: =S$14*LCI!$Y$10 -> 0 | T36: =T$14*LCI!$AF$10 -> 0 | U36: =U$14*LCI!$AM$10 -> 0.0013019508 | V36: =V$14*LCI!$D$10 -> 0 | W36: =W$14*LCI!$K$10 -> 0 | X36: =X$14*LCI!$R$10 -> 0 | Y36: =Y$14*LCI!$Y$10 -> 0 | Z36: =Z$14*LCI!$AF$10 -> 0 | AA36: =AA$14*LCI!$AM$10 -> 0.0014335158 | AB36: =AB$14*LCI!$D$10 -> 0 | AC36: =AC$14*LCI!$K$10 -> 0 | AD36: =AD$14*LCI!$R$10 -> 0.12083746 | AE36: =AE$14*LCI!$Y$10 -> 0 | AF36: =AF$14*LCI!$AF$10 -> 0 | AG36: =AG$14*LCI!$AM$10 -> 0.0010535006 | AH36: =AH$14*LCI!$D$10 -> 0 | AI36: =AI$14*LCI!$K$10 -> 0 | AJ36: =AJ$14*LCI!$R$10 -> 0.016225183 | AK36: =AK$14*LCI!$Y$10 -> 0 | AL36: =AL$14*LCI!$AF$10 -> 0 | AM36: =AM$14*LCI!$AM$10 -> 0.00049397392 | AN36: =AN$14*LCI!$D$10 -> 0 | AO36: =AO$14*LCI!$K$10 -> 0 | AP36: =AP$14*LCI!$R$10 -> 0 | AQ36: =AQ$14*LCI!$Y$10 -> 0 | AR36: =AR$14*LCI!$AF$10 -> 0 | AS36: =AS$14*LCI!$AM$10 -> 0.00012331461 | AT36: =AT$14*LCI!$D$10 -> 0 | AU36: =AU$14*LCI!$K$10 -> 0 | AV36: =AV$14*LCI!$R$10 -> 0 | AW36: =AW$14*LCI!$Y$10 -> 0 | AX36: =AX$14*LCI!$AF$10 -> 0 | AY36: =AY$14*LCI!$AM$10 -> 0 | AZ36: =AZ$14*LCI!$D$10 -> 0 | BA36: =BA$14*LCI!$K$10 -> 0 | BB36: =BB$14*LCI!$R$10 -> 0.12083746 | BC36: =BC$14*LCI!$Y$10 -> 0 | BD36: =BD$14*LCI!$AF$10 -> 0 | BE36: =BE$14*LCI!$AM$10 -> 0.0010535006 | BF36: =BF$14*LCI!$D$10 -> 0 | BG36: =BG$14*LCI!$K$10 -> 0 | BH36: =BH$14*LCI!$R$10 -> 0.016225183 | BI36: =BI$14*LCI!$Y$10 -> 0 | BJ36: =BJ$14*LCI!$AF$10 -> 0 | BK36: =BK$14*LCI!$AM$10 -> 0.00042411435 | BL36: =BL$14*LCI!$D$10 -> 0 | BM36: =BM$14*LCI!$K$10 -> 0 | BN36: =BN$14*LCI!$R$10 -> 0 | BO36: =BO$14*LCI!$Y$10 -> 0 | BP36: =BP$14*LCI!$AF$10 -> 0 | BQ36: =BQ$14*LCI!$AM$10 -> 0 | BR36: =BR$14*LCI!$D$10 -> 0 | BS36: =BS$14*LCI!$K$10 -> 0 | BT36: =BT$14*LCI!$R$10 -> 0 | BU36: =BU$14*LCI!$Y$10 -> 0 | BV36: =BV$14*LCI!$AF$10 -> 0 | BW36: =BW$14*LCI!$AM$10 -> 0 | BX36: =BX$14*LCI!$D$10 -> 0 | BY36: =BY$14*LCI!$K$10 -> 0 | BZ36: =BZ$14*LCI!$R$10 -> 0.12083746 | CA36: =CA$14*LCI!$Y$10 -> 0 | CB36: =CB$14*LCI!$AF$10 -> 0 | CC36: =CC$14*LCI!$AM$10 -> 0.0010535006 | CD36: =CD$14*LCI!$D$10 -> 0 | CE36: =CE$14*LCI!$K$10 -> 0 | CF36: =CF$14*LCI!$R$10 -> 0.016225183 | CG36: =CG$14*LCI!$Y$10 -> 0 | CH36: =CH$14*LCI!$AF$10 -> 0 | CI36: =CI$14*LCI!$AM$10 -> 0.00042411435 | CJ36: =CJ$14*LCI!$D$10 -> 0 | CK36: =CK$14*LCI!$K$10 -> 0 | CL36: =CL$14*LCI!$R$10 -> 0 | CM36: =CM$14*LCI!$Y$10 -> 0 | CN36: =CN$14*LCI!$AF$10 -> 0 | CO36: =CO$14*LCI!$AM$10 -> 0 | CP36: =CP$14*LCI!$D$10 -> 0 | CQ36: =CQ$14*LCI!$K$10 -> 0 | CR36: =CR$14*LCI!$R$10 -> 0 | CS36: =CS$14*LCI!$Y$10 -> 0 | CT36: =CT$14*LCI!$AF$10 -> 0 | CU36: =CU$14*LCI!$AM$10 -> 0
A37: 31 | C37: Gas | D37: =D$15*LCI!$D$11 -> 0 | E37: =E$15*LCI!$K$11 -> 0.049895924 | F37: =F$15*LCI!$R$11 -> 0.081429358 | G37: =G$15*LCI!$Y$11 -> 0.016341675 | H37: =H$15*LCI!$AF$11 -> 0.15645612 | I37: =I$15*LCI!$AM$11 -> 0.049571756 | J37: =J$15*LCI!$D$11 -> 0 | K37: =K$15*LCI!$K$11 -> 0.071137152 | L37: =L$15*LCI!$R$11 -> 0.097399435 | M37: =M$15*LCI!$Y$11 -> 0.041204261 | N37: =N$15*LCI!$AF$11 -> 0.18486991 | O37: =O$15*LCI!$AM$11 -> 0.033143434 | P37: =P$15*LCI!$D$11 -> 0 | Q37: =Q$15*LCI!$K$11 -> 0.091582214 | R37: =R$15*LCI!$R$11 -> 0.11538426 | S37: =S$15*LCI!$Y$11 -> 0.073692289 | T37: =T$15*LCI!$AF$11 -> 0.18657081 | U37: =U$15*LCI!$AM$11 -> 0.021768143 | V37: =V$15*LCI!$D$11 -> 0 | W37: =W$15*LCI!$K$11 -> 0.080205347 | X37: =X$15*LCI!$R$11 -> 0.07789349 | Y37: =Y$15*LCI!$Y$11 -> 0.071330273 | Z37: =Z$15*LCI!$AF$11 -> 0.11366867 | AA37: =AA$15*LCI!$AM$11 -> 0.0070449445 | AB37: =AB$15*LCI!$D$11 -> 0 | AC37: =AC$15*LCI!$K$11 -> 0.028616473 | AD37: =AD$15*LCI!$R$11 -> 0.058657483 | AE37: =AE$15*LCI!$Y$11 -> 0.010025096 | AF37: =AF$15*LCI!$AF$11 -> 0.1177869 | AG37: =AG$15*LCI!$AM$11 -> 0.049571756 | AH37: =AH$15*LCI!$D$11 -> 0 | AI37: =AI$15*LCI!$K$11 -> 0.041661888 | AJ37: =AJ$15*LCI!$R$11 -> 0.05869503 | AK37: =AK$15*LCI!$Y$11 -> 0.020201921 | AL37: =AL$15*LCI!$AF$11 -> 0.12981652 | AM37: =AM$15*LCI!$AM$11 -> 0.022619761 | AN37: =AN$15*LCI!$D$11 -> 0 | AO37: =AO$15*LCI!$K$11 -> 0.034641481 | AP37: =AP$15*LCI!$R$11 -> 0.037275654 | AQ37: =AQ$15*LCI!$Y$11 -> 0.020879103 | AR37: =AR$15*LCI!$AF$11 -> 0.10846722 | AS37: =AS$15*LCI!$AM$11 -> 0.0047653706 | AT37: =AT$15*LCI!$D$11 -> 0 | AU37: =AU$15*LCI!$K$11 -> 0.027989088 | AV37: =AV$15*LCI!$R$11 -> 0.020291267 | AW37: =AW$15*LCI!$Y$11 -> 0.01602042 | AX37: =AX$15*LCI!$AF$11 -> 0.055531523 | AY37: =AY$15*LCI!$AM$11 -> 0.0018385472 | AZ37: =AZ$15*LCI!$D$11 -> 0 | BA37: =BA$15*LCI!$K$11 -> 0.028616473 | BB37: =BB$15*LCI!$R$11 -> 0.058657483 | BC37: =BC$15*LCI!$Y$11 -> 0.010025096 | BD37: =BD$15*LCI!$AF$11 -> 0.1177869 | BE37: =BE$15*LCI!$AM$11 -> 0.049571756 | BF37: =BF$15*LCI!$D$11 -> 0 | BG37: =BG$15*LCI!$K$11 -> 0.041661888 | BH37: =BH$15*LCI!$R$11 -> 0.05869503 | BI37: =BI$15*LCI!$Y$11 -> 0.020201921 | BJ37: =BJ$15*LCI!$AF$11 -> 0.12981652 | BK37: =BK$15*LCI!$AM$11 -> 0.020947977 | BL37: =BL$15*LCI!$D$11 -> 0 | BM37: =BM$15*LCI!$K$11 -> 0.034641481 | BN37: =BN$15*LCI!$R$11 -> 0.037275654 | BO37: =BO$15*LCI!$Y$11 -> 0.020879103 | BP37: =BP$15*LCI!$AF$11 -> 0.10846722 | BQ37: =BQ$15*LCI!$AM$11 -> 0.0016597338 | BR37: =BR$15*LCI!$D$11 -> 0 | BS37: =BS$15*LCI!$K$11 -> 0.027989088 | BT37: =BT$15*LCI!$R$11 -> 0.020291267 | BU37: =BU$15*LCI!$Y$11 -> 0.01602042 | BV37: =BV$15*LCI!$AF$11 -> 0.055531523 | BW37: =BW$15*LCI!$AM$11 -> 0.00065645235 | BX37: =BX$15*LCI!$D$11 -> 0 | BY37: =BY$15*LCI!$K$11 -> 0.028616473 | BZ37: =BZ$15*LCI!$R$11 -> 0.058657483 | CA37: =CA$15*LCI!$Y$11 -> 0.010025096 | CB37: =CB$15*LCI!$AF$11 -> 0.1177869 | CC37: =CC$15*LCI!$AM$11 -> 0.049571756 | CD37: =CD$15*LCI!$D$11 -> 0 | CE37: =CE$15*LCI!$K$11 -> 0.041661888 | CF37: =CF$15*LCI!$R$11 -> 0.05869503 | CG37: =CG$15*LCI!$Y$11 -> 0.020201921 | CH37: =CH$15*LCI!$AF$11 -> 0.12981652 | CI37: =CI$15*LCI!$AM$11 -> 0.020947977 | CJ37: =CJ$15*LCI!$D$11 -> 0 | CK37: =CK$15*LCI!$K$11 -> 0.034641481 | CL37: =CL$15*LCI!$R$11 -> 0.037275654 | CM37: =CM$15*LCI!$Y$11 -> 0.020879103 | CN37: =CN$15*LCI!$AF$11 -> 0.10846722 | CO37: =CO$15*LCI!$AM$11 -> 0.0016597338 | CP37: =CP$15*LCI!$D$11 -> 0 | CQ37: =CQ$15*LCI!$K$11 -> 0.027989088 | CR37: =CR$15*LCI!$R$11 -> 0.020291267 | CS37: =CS$15*LCI!$Y$11 -> 0.01602042 | CT37: =CT$15*LCI!$AF$11 -> 0.055531523 | CU37: =CU$15*LCI!$AM$11 -> 0.00065645235
A38: 32 | C38: Öl | D38: =D$16*LCI!$D$12 -> 0 | E38: =E$16*LCI!$K$12 -> 0 | F38: =F$16*LCI!$R$12 -> 0 | G38: =G$16*LCI!$Y$12 -> 0 | H38: =H$16*LCI!$AF$12 -> 0 | I38: =I$16*LCI!$AM$12 -> 0.00039656362 | J38: =J$16*LCI!$D$12 -> 0 | K38: =K$16*LCI!$K$12 -> 0 | L38: =L$16*LCI!$R$12 -> 0 | M38: =M$16*LCI!$Y$12 -> 0 | N38: =N$16*LCI!$AF$12 -> 0 | O38: =O$16*LCI!$AM$12 -> 0.00030925251 | P38: =P$16*LCI!$D$12 -> 0 | Q38: =Q$16*LCI!$K$12 -> 0 | R38: =R$16*LCI!$R$12 -> 0 | S38: =S$16*LCI!$Y$12 -> 0 | T38: =T$16*LCI!$AF$12 -> 0 | U38: =U$16*LCI!$AM$12 -> 0.0002487966 | V38: =V$16*LCI!$D$12 -> 0 | W38: =W$16*LCI!$K$12 -> 0 | X38: =X$16*LCI!$R$12 -> 0 | Y38: =Y$16*LCI!$Y$12 -> 0 | Z38: =Z$16*LCI!$AF$12 -> 0 | AA38: =AA$16*LCI!$AM$12 -> 0.00017054766 | AB38: =AB$16*LCI!$D$12 -> 0 | AC38: =AC$16*LCI!$K$12 -> 0 | AD38: =AD$16*LCI!$R$12 -> 0 | AE38: =AE$16*LCI!$Y$12 -> 0 | AF38: =AF$16*LCI!$AF$12 -> 0 | AG38: =AG$16*LCI!$AM$12 -> 0.00039656362 | AH38: =AH$16*LCI!$D$12 -> 0 | AI38: =AI$16*LCI!$K$12 -> 0 | AJ38: =AJ$16*LCI!$R$12 -> 0 | AK38: =AK$16*LCI!$Y$12 -> 0 | AL38: =AL$16*LCI!$AF$12 -> 0 | AM38: =AM$16*LCI!$AM$12 -> 0.00015802215 | AN38: =AN$16*LCI!$D$12 -> 0 | AO38: =AO$16*LCI!$K$12 -> 0 | AP38: =AP$16*LCI!$R$12 -> 0 | AQ38: =AQ$16*LCI!$Y$12 -> 0 | AR38: =AR$16*LCI!$AF$12 -> 0 | AS38: =AS$16*LCI!$AM$12 -> 0 | AT38: =AT$16*LCI!$D$12 -> 0 | AU38: =AU$16*LCI!$K$12 -> 0 | AV38: =AV$16*LCI!$R$12 -> 0 | AW38: =AW$16*LCI!$Y$12 -> 0 | AX38: =AX$16*LCI!$AF$12 -> 0 | AY38: =AY$16*LCI!$AM$12 -> 0 | AZ38: =AZ$16*LCI!$D$12 -> 0 | BA38: =BA$16*LCI!$K$12 -> 0 | BB38: =BB$16*LCI!$R$12 -> 0 | BC38: =BC$16*LCI!$Y$12 -> 0 | BD38: =BD$16*LCI!$AF$12 -> 0 | BE38: =BE$16*LCI!$AM$12 -> 0.00039656362 | BF38: =BF$16*LCI!$D$12 -> 0 | BG38: =BG$16*LCI!$K$12 -> 0 | BH38: =BH$16*LCI!$R$12 -> 0 | BI38: =BI$16*LCI!$Y$12 -> 0 | BJ38: =BJ$16*LCI!$AF$12 -> 0 | BK38: =BK$16*LCI!$AM$12 -> 0.0001596471 | BL38: =BL$16*LCI!$D$12 -> 0 | BM38: =BM$16*LCI!$K$12 -> 0 | BN38: =BN$16*LCI!$R$12 -> 0 | BO38: =BO$16*LCI!$Y$12 -> 0 | BP38: =BP$16*LCI!$AF$12 -> 0 | BQ38: =BQ$16*LCI!$AM$12 -> 0 | BR38: =BR$16*LCI!$D$12 -> 0 | BS38: =BS$16*LCI!$K$12 -> 0 | BT38: =BT$16*LCI!$R$12 -> 0 | BU38: =BU$16*LCI!$Y$12 -> 0 | BV38: =BV$16*LCI!$AF$12 -> 0 | BW38: =BW$16*LCI!$AM$12 -> 0 | BX38: =BX$16*LCI!$D$12 -> 0 | BY38: =BY$16*LCI!$K$12 -> 0 | BZ38: =BZ$16*LCI!$R$12 -> 0 | CA38: =CA$16*LCI!$Y$12 -> 0 | CB38: =CB$16*LCI!$AF$12 -> 0 | CC38: =CC$16*LCI!$AM$12 -> 0.00039656362 | CD38: =CD$16*LCI!$D$12 -> 0 | CE38: =CE$16*LCI!$K$12 -> 0 | CF38: =CF$16*LCI!$R$12 -> 0 | CG38: =CG$16*LCI!$Y$12 -> 0 | CH38: =CH$16*LCI!$AF$12 -> 0 | CI38: =CI$16*LCI!$AM$12 -> 0.0001596471 | CJ38: =CJ$16*LCI!$D$12 -> 0 | CK38: =CK$16*LCI!$K$12 -> 0 | CL38: =CL$16*LCI!$R$12 -> 0 | CM38: =CM$16*LCI!$Y$12 -> 0 | CN38: =CN$16*LCI!$AF$12 -> 0 | CO38: =CO$16*LCI!$AM$12 -> 0 | CP38: =CP$16*LCI!$D$12 -> 0 | CQ38: =CQ$16*LCI!$K$12 -> 0 | CR38: =CR$16*LCI!$R$12 -> 0 | CS38: =CS$16*LCI!$Y$12 -> 0 | CT38: =CT$16*LCI!$AF$12 -> 0 | CU38: =CU$16*LCI!$AM$12 -> 0
A39: 33 | C39: Fossile KW | D39: =D$17*LCI!$D$13 -> 0.0077731983 | E39: =E$17*LCI!$K$13 -> 0.046790095 | F39: =F$17*LCI!$R$13 -> 0.043898378 | G39: =G$17*LCI!$Y$13 -> 0.010092094 | H39: =H$17*LCI!$AF$13 -> 0.064573379 | I39: =I$17*LCI!$AM$13 -> 2.6861311e-05 | J39: =J$17*LCI!$D$13 -> 0.0080984569 | K39: =K$17*LCI!$K$13 -> 0.041461374 | L39: =L$17*LCI!$R$13 -> 0.041912344 | M39: =M$17*LCI!$Y$13 -> 0.022821398 | N39: =N$17*LCI!$AF$13 -> 0.065999803 | O39: =O$17*LCI!$AM$13 -> 2.6968938e-05 | P39: =P$17*LCI!$D$13 -> 0.009609915 | Q39: =Q$17*LCI!$K$13 -> 0.035996125 | R39: =R$17*LCI!$R$13 -> 0.036264327 | S39: =S$17*LCI!$Y$13 -> 0.021670339 | T39: =T$17*LCI!$AF$13 -> 0.044875581 | U39: =U$17*LCI!$AM$13 -> 2.7043461e-05 | V39: =V$17*LCI!$D$13 -> 0.012894214 | W39: =W$17*LCI!$K$13 -> 0.026231609 | X39: =X$17*LCI!$R$13 -> 0.028779256 | Y39: =Y$17*LCI!$Y$13 -> 0.029871396 | Z39: =Z$17*LCI!$AF$13 -> 0.061471783 | AA39: =AA$17*LCI!$AM$13 -> 2.7139918e-05 | AB39: =AB$17*LCI!$D$13 -> 0.0073494082 | AC39: =AC$17*LCI!$K$13 -> 0.046156342 | AD39: =AD$17*LCI!$R$13 -> 0.043446859 | AE39: =AE$17*LCI!$Y$13 -> 0.0086996236 | AF39: =AF$17*LCI!$AF$13 -> 0.057813609 | AG39: =AG$17*LCI!$AM$13 -> 2.6861311e-05 | AH39: =AH$17*LCI!$D$13 -> 0.0069135723 | AI39: =AI$17*LCI!$K$13 -> 0.036172284 | AJ39: =AJ$17*LCI!$R$13 -> 0.028912869 | AK39: =AK$17*LCI!$Y$13 -> 0.021466608 | AL39: =AL$17*LCI!$AF$13 -> 0.047090163 | AM39: =AM$17*LCI!$AM$13 -> 2.198026e-05 | AN39: =AN$17*LCI!$D$13 -> 0.0061300134 | AO39: =AO$17*LCI!$K$13 -> 0.023744843 | AP39: =AP$17*LCI!$R$13 -> 0.027458441 | AQ39: =AQ$17*LCI!$Y$13 -> 0.025259755 | AR39: =AR$17*LCI!$AF$13 -> 0.04951033 | AS39: =AS$17*LCI!$AM$13 -> 1.8746801e-05 | AT39: =AT$17*LCI!$D$13 -> 0.0043709908 | AU39: =AU$17*LCI!$K$13 -> 0.01455724 | AV39: =AV$17*LCI!$R$13 -> 0.015538241 | AW39: =AW$17*LCI!$Y$13 -> 0.022613348 | AX39: =AX$17*LCI!$AF$13 -> 0.058883884 | AY39: =AY$17*LCI!$AM$13 -> 0.00015801764 | AZ39: =AZ$17*LCI!$D$13 -> 0.0072789895 | BA39: =BA$17*LCI!$K$13 -> 0.046156342 | BB39: =BB$17*LCI!$R$13 -> 0.043446859 | BC39: =BC$17*LCI!$Y$13 -> 0.0086996236 | BD39: =BD$17*LCI!$AF$13 -> 0.057813609 | BE39: =BE$17*LCI!$AM$13 -> 2.6861311e-05 | BF39: =BF$17*LCI!$D$13 -> 0.0065565835 | BG39: =BG$17*LCI!$K$13 -> 0.036172284 | BH39: =BH$17*LCI!$R$13 -> 0.028912869 | BI39: =BI$17*LCI!$Y$13 -> 0.021466608 | BJ39: =BJ$17*LCI!$AF$13 -> 0.047090163 | BK39: =BK$17*LCI!$AM$13 -> 1.2348731e-05 | BL39: =BL$17*LCI!$D$13 -> 0.0058595293 | BM39: =BM$17*LCI!$K$13 -> 0.023744843 | BN39: =BN$17*LCI!$R$13 -> 0.027458441 | BO39: =BO$17*LCI!$Y$13 -> 0.025259755 | BP39: =BP$17*LCI!$AF$13 -> 0.04951033 | BQ39: =BQ$17*LCI!$AM$13 -> 2.569374e-06 | BR39: =BR$17*LCI!$D$13 -> 0.0041785252 | BS39: =BS$17*LCI!$K$13 -> 0.01455724 | BT39: =BT$17*LCI!$R$13 -> 0.015538241 | BU39: =BU$17*LCI!$Y$13 -> 0.022613348 | BV39: =BV$17*LCI!$AF$13 -> 0.058883884 | BW39: =BW$17*LCI!$AM$13 -> 4.3020176e-05 | BX39: =BX$17*LCI!$D$13 -> 0.007683931 | BY39: =BY$17*LCI!$K$13 -> 0.046156342 | BZ39: =BZ$17*LCI!$R$13 -> 0.043446859 | CA39: =CA$17*LCI!$Y$13 -> 0.0086996236 | CB39: =CB$17*LCI!$AF$13 -> 0.057813609 | CC39: =CC$17*LCI!$AM$13 -> 2.6861311e-05 | CD39: =CD$17*LCI!$D$13 -> 0.0069037959 | CE39: =CE$17*LCI!$K$13 -> 0.036172284 | CF39: =CF$17*LCI!$R$13 -> 0.028912869 | CG39: =CG$17*LCI!$Y$13 -> 0.021466608 | CH39: =CH$17*LCI!$AF$13 -> 0.047090163 | CI39: =CI$17*LCI!$AM$13 -> 1.2348731e-05 | CJ39: =CJ$17*LCI!$D$13 -> 0.0060637807 | CK39: =CK$17*LCI!$K$13 -> 0.023744843 | CL39: =CL$17*LCI!$R$13 -> 0.027458441 | CM39: =CM$17*LCI!$Y$13 -> 0.025259755 | CN39: =CN$17*LCI!$AF$13 -> 0.04951033 | CO39: =CO$17*LCI!$AM$13 -> 2.569374e-06 | CP39: =CP$17*LCI!$D$13 -> 0.0045238792 | CQ39: =CQ$17*LCI!$K$13 -> 0.01455724 | CR39: =CR$17*LCI!$R$13 -> 0.015538241 | CS39: =CS$17*LCI!$Y$13 -> 0.022613348 | CT39: =CT$17*LCI!$AF$13 -> 0.058883884 | CU39: =CU$17*LCI!$AM$13 -> 4.3020176e-05
A40: 34 | C40: Photovoltaik | D40: =D$18*LCI!$D$14 -> 0 | E40: =E$18*LCI!$K$14 -> 0 | F40: =F$18*LCI!$R$14 -> 0 | G40: =G$18*LCI!$Y$14 -> 0 | H40: =H$18*LCI!$AF$14 -> 0 | I40: =I$18*LCI!$AM$14 -> 0 | J40: =J$18*LCI!$D$14 -> 0 | K40: =K$18*LCI!$K$14 -> 0 | L40: =L$18*LCI!$R$14 -> 0 | M40: =M$18*LCI!$Y$14 -> 0 | N40: =N$18*LCI!$AF$14 -> 0 | O40: =O$18*LCI!$AM$14 -> 0 | P40: =P$18*LCI!$D$14 -> 0 | Q40: =Q$18*LCI!$K$14 -> 0 | R40: =R$18*LCI!$R$14 -> 0 | S40: =S$18*LCI!$Y$14 -> 0 | T40: =T$18*LCI!$AF$14 -> 0 | U40: =U$18*LCI!$AM$14 -> 0 | V40: =V$18*LCI!$D$14 -> 0 | W40: =W$18*LCI!$K$14 -> 0 | X40: =X$18*LCI!$R$14 -> 0 | Y40: =Y$18*LCI!$Y$14 -> 0 | Z40: =Z$18*LCI!$AF$14 -> 0 | AA40: =AA$18*LCI!$AM$14 -> 0 | AB40: =AB$18*LCI!$D$14 -> 0 | AC40: =AC$18*LCI!$K$14 -> 0 | AD40: =AD$18*LCI!$R$14 -> 0 | AE40: =AE$18*LCI!$Y$14 -> 0 | AF40: =AF$18*LCI!$AF$14 -> 0 | AG40: =AG$18*LCI!$AM$14 -> 0 | AH40: =AH$18*LCI!$D$14 -> 0 | AI40: =AI$18*LCI!$K$14 -> 0 | AJ40: =AJ$18*LCI!$R$14 -> 0 | AK40: =AK$18*LCI!$Y$14 -> 0 | AL40: =AL$18*LCI!$AF$14 -> 0 | AM40: =AM$18*LCI!$AM$14 -> 0 | AN40: =AN$18*LCI!$D$14 -> 0 | AO40: =AO$18*LCI!$K$14 -> 0 | AP40: =AP$18*LCI!$R$14 -> 0 | AQ40: =AQ$18*LCI!$Y$14 -> 0 | AR40: =AR$18*LCI!$AF$14 -> 0 | AS40: =AS$18*LCI!$AM$14 -> 0 | AT40: =AT$18*LCI!$D$14 -> 0 | AU40: =AU$18*LCI!$K$14 -> 0 | AV40: =AV$18*LCI!$R$14 -> 0 | AW40: =AW$18*LCI!$Y$14 -> 0 | AX40: =AX$18*LCI!$AF$14 -> 0 | AY40: =AY$18*LCI!$AM$14 -> 0 | AZ40: =AZ$18*LCI!$D$14 -> 0 | BA40: =BA$18*LCI!$K$14 -> 0 | BB40: =BB$18*LCI!$R$14 -> 0 | BC40: =BC$18*LCI!$Y$14 -> 0 | BD40: =BD$18*LCI!$AF$14 -> 0 | BE40: =BE$18*LCI!$AM$14 -> 0 | BF40: =BF$18*LCI!$D$14 -> 0 | BG40: =BG$18*LCI!$K$14 -> 0 | BH40: =BH$18*LCI!$R$14 -> 0 | BI40: =BI$18*LCI!$Y$14 -> 0 | BJ40: =BJ$18*LCI!$AF$14 -> 0 | BK40: =BK$18*LCI!$AM$14 -> 0 | BL40: =BL$18*LCI!$D$14 -> 0 | BM40: =BM$18*LCI!$K$14 -> 0 | BN40: =BN$18*LCI!$R$14 -> 0 | BO40: =BO$18*LCI!$Y$14 -> 0 | BP40: =BP$18*LCI!$AF$14 -> 0 | BQ40: =BQ$18*LCI!$AM$14 -> 0 | BR40: =BR$18*LCI!$D$14 -> 0 | BS40: =BS$18*LCI!$K$14 -> 0 | BT40: =BT$18*LCI!$R$14 -> 0 | BU40: =BU$18*LCI!$Y$14 -> 0 | BV40: =BV$18*LCI!$AF$14 -> 0 | BW40: =BW$18*LCI!$AM$14 -> 0 | BX40: =BX$18*LCI!$D$14 -> 0 | BY40: =BY$18*LCI!$K$14 -> 0 | BZ40: =BZ$18*LCI!$R$14 -> 0 | CA40: =CA$18*LCI!$Y$14 -> 0 | CB40: =CB$18*LCI!$AF$14 -> 0 | CC40: =CC$18*LCI!$AM$14 -> 0 | CD40: =CD$18*LCI!$D$14 -> 0 | CE40: =CE$18*LCI!$K$14 -> 0 | CF40: =CF$18*LCI!$R$14 -> 0 | CG40: =CG$18*LCI!$Y$14 -> 0 | CH40: =CH$18*LCI!$AF$14 -> 0 | CI40: =CI$18*LCI!$AM$14 -> 0 | CJ40: =CJ$18*LCI!$D$14 -> 0 | CK40: =CK$18*LCI!$K$14 -> 0 | CL40: =CL$18*LCI!$R$14 -> 0 | CM40: =CM$18*LCI!$Y$14 -> 0 | CN40: =CN$18*LCI!$AF$14 -> 0 | CO40: =CO$18*LCI!$AM$14 -> 0 | CP40: =CP$18*LCI!$D$14 -> 0 | CQ40: =CQ$18*LCI!$K$14 -> 0 | CR40: =CR$18*LCI!$R$14 -> 0 | CS40: =CS$18*LCI!$Y$14 -> 0 | CT40: =CT$18*LCI!$AF$14 -> 0 | CU40: =CU$18*LCI!$AM$14 -> 0
A41: 35 | C41: Wind (onshore) | D41: =D$19*LCI!$D$15 -> 1.8772029e-07 | E41: =E$19*LCI!$K$15 -> 0 | F41: =F$19*LCI!$R$15 -> 0 | G41: =G$19*LCI!$Y$15 -> 0 | H41: =H$19*LCI!$AF$15 -> 0 | I41: =I$19*LCI!$AM$15 -> 0 | J41: =J$19*LCI!$D$15 -> 1.8441641e-07 | K41: =K$19*LCI!$K$15 -> 0 | L41: =L$19*LCI!$R$15 -> 0 | M41: =M$19*LCI!$Y$15 -> 0 | N41: =N$19*LCI!$AF$15 -> 0 | O41: =O$19*LCI!$AM$15 -> 0 | P41: =P$19*LCI!$D$15 -> 2.0326144e-07 | Q41: =Q$19*LCI!$K$15 -> 0 | R41: =R$19*LCI!$R$15 -> 0 | S41: =S$19*LCI!$Y$15 -> 0 | T41: =T$19*LCI!$AF$15 -> 0 | U41: =U$19*LCI!$AM$15 -> 0 | V41: =V$19*LCI!$D$15 -> 2.2551242e-07 | W41: =W$19*LCI!$K$15 -> 0 | X41: =X$19*LCI!$R$15 -> 0 | Y41: =Y$19*LCI!$Y$15 -> 0 | Z41: =Z$19*LCI!$AF$15 -> 0 | AA41: =AA$19*LCI!$AM$15 -> 0 | AB41: =AB$19*LCI!$D$15 -> 3.2777698e-07 | AC41: =AC$19*LCI!$K$15 -> 0 | AD41: =AD$19*LCI!$R$15 -> 0 | AE41: =AE$19*LCI!$Y$15 -> 0 | AF41: =AF$19*LCI!$AF$15 -> 0 | AG41: =AG$19*LCI!$AM$15 -> 0 | AH41: =AH$19*LCI!$D$15 -> 6.2834145e-07 | AI41: =AI$19*LCI!$K$15 -> 0 | AJ41: =AJ$19*LCI!$R$15 -> 0 | AK41: =AK$19*LCI!$Y$15 -> 0 | AL41: =AL$19*LCI!$AF$15 -> 0 | AM41: =AM$19*LCI!$AM$15 -> 0 | AN41: =AN$19*LCI!$D$15 -> 1.1516696e-06 | AO41: =AO$19*LCI!$K$15 -> 0 | AP41: =AP$19*LCI!$R$15 -> 0 | AQ41: =AQ$19*LCI!$Y$15 -> 0 | AR41: =AR$19*LCI!$AF$15 -> 0 | AS41: =AS$19*LCI!$AM$15 -> 0 | AT41: =AT$19*LCI!$D$15 -> 2.1407058e-06 | AU41: =AU$19*LCI!$K$15 -> 0 | AV41: =AV$19*LCI!$R$15 -> 0 | AW41: =AW$19*LCI!$Y$15 -> 0 | AX41: =AX$19*LCI!$AF$15 -> 0 | AY41: =AY$19*LCI!$AM$15 -> 0 | AZ41: =AZ$19*LCI!$D$15 -> 3.2841021e-07 | BA41: =BA$19*LCI!$K$15 -> 0 | BB41: =BB$19*LCI!$R$15 -> 0 | BC41: =BC$19*LCI!$Y$15 -> 0 | BD41: =BD$19*LCI!$AF$15 -> 0 | BE41: =BE$19*LCI!$AM$15 -> 0 | BF41: =BF$19*LCI!$D$15 -> 6.2915128e-07 | BG41: =BG$19*LCI!$K$15 -> 0 | BH41: =BH$19*LCI!$R$15 -> 0 | BI41: =BI$19*LCI!$Y$15 -> 0 | BJ41: =BJ$19*LCI!$AF$15 -> 0 | BK41: =BK$19*LCI!$AM$15 -> 0 | BL41: =BL$19*LCI!$D$15 -> 1.1528479e-06 | BM41: =BM$19*LCI!$K$15 -> 0 | BN41: =BN$19*LCI!$R$15 -> 0 | BO41: =BO$19*LCI!$Y$15 -> 0 | BP41: =BP$19*LCI!$AF$15 -> 0 | BQ41: =BQ$19*LCI!$AM$15 -> 0 | BR41: =BR$19*LCI!$D$15 -> 2.0464452e-06 | BS41: =BS$19*LCI!$K$15 -> 0 | BT41: =BT$19*LCI!$R$15 -> 0 | BU41: =BU$19*LCI!$Y$15 -> 0 | BV41: =BV$19*LCI!$AF$15 -> 0 | BW41: =BW$19*LCI!$AM$15 -> 0 | BX41: =BX$19*LCI!$D$15 -> 3.2822596e-07 | BY41: =BY$19*LCI!$K$15 -> 0 | BZ41: =BZ$19*LCI!$R$15 -> 0 | CA41: =CA$19*LCI!$Y$15 -> 0 | CB41: =CB$19*LCI!$AF$15 -> 0 | CC41: =CC$19*LCI!$AM$15 -> 0 | CD41: =CD$19*LCI!$D$15 -> 6.2827478e-07 | CE41: =CE$19*LCI!$K$15 -> 0 | CF41: =CF$19*LCI!$R$15 -> 0 | CG41: =CG$19*LCI!$Y$15 -> 0 | CH41: =CH$19*LCI!$AF$15 -> 0 | CI41: =CI$19*LCI!$AM$15 -> 0 | CJ41: =CJ$19*LCI!$D$15 -> 1.152996e-06 | CK41: =CK$19*LCI!$K$15 -> 0 | CL41: =CL$19*LCI!$R$15 -> 0 | CM41: =CM$19*LCI!$Y$15 -> 0 | CN41: =CN$19*LCI!$AF$15 -> 0 | CO41: =CO$19*LCI!$AM$15 -> 0 | CP41: =CP$19*LCI!$D$15 -> 2.2155834e-06 | CQ41: =CQ$19*LCI!$K$15 -> 0 | CR41: =CR$19*LCI!$R$15 -> 0 | CS41: =CS$19*LCI!$Y$15 -> 0 | CT41: =CT$19*LCI!$AF$15 -> 0 | CU41: =CU$19*LCI!$AM$15 -> 0
A42: 36 | C42: Wind (offshore) | D42: =D$20*LCI!$D$16 -> 0 | E42: =E$20*LCI!$K$16 -> 0 | F42: =F$20*LCI!$R$16 -> 0 | G42: =G$20*LCI!$Y$16 -> 0 | H42: =H$20*LCI!$AF$16 -> 0 | I42: =I$20*LCI!$AM$16 -> 0 | J42: =J$20*LCI!$D$16 -> 0 | K42: =K$20*LCI!$K$16 -> 0 | L42: =L$20*LCI!$R$16 -> 0 | M42: =M$20*LCI!$Y$16 -> 0 | N42: =N$20*LCI!$AF$16 -> 0 | O42: =O$20*LCI!$AM$16 -> 0 | P42: =P$20*LCI!$D$16 -> 0 | Q42: =Q$20*LCI!$K$16 -> 0 | R42: =R$20*LCI!$R$16 -> 0 | S42: =S$20*LCI!$Y$16 -> 0 | T42: =T$20*LCI!$AF$16 -> 0 | U42: =U$20*LCI!$AM$16 -> 0 | V42: =V$20*LCI!$D$16 -> 0 | W42: =W$20*LCI!$K$16 -> 0 | X42: =X$20*LCI!$R$16 -> 0 | Y42: =Y$20*LCI!$Y$16 -> 0 | Z42: =Z$20*LCI!$AF$16 -> 0 | AA42: =AA$20*LCI!$AM$16 -> 0 | AB42: =AB$20*LCI!$D$16 -> 0 | AC42: =AC$20*LCI!$K$16 -> 0 | AD42: =AD$20*LCI!$R$16 -> 0 | AE42: =AE$20*LCI!$Y$16 -> 0 | AF42: =AF$20*LCI!$AF$16 -> 0 | AG42: =AG$20*LCI!$AM$16 -> 0 | AH42: =AH$20*LCI!$D$16 -> 0 | AI42: =AI$20*LCI!$K$16 -> 0 | AJ42: =AJ$20*LCI!$R$16 -> 0 | AK42: =AK$20*LCI!$Y$16 -> 0 | AL42: =AL$20*LCI!$AF$16 -> 0 | AM42: =AM$20*LCI!$AM$16 -> 0 | AN42: =AN$20*LCI!$D$16 -> 0 | AO42: =AO$20*LCI!$K$16 -> 0 | AP42: =AP$20*LCI!$R$16 -> 0 | AQ42: =AQ$20*LCI!$Y$16 -> 0 | AR42: =AR$20*LCI!$AF$16 -> 0 | AS42: =AS$20*LCI!$AM$16 -> 0 | AT42: =AT$20*LCI!$D$16 -> 0 | AU42: =AU$20*LCI!$K$16 -> 0 | AV42: =AV$20*LCI!$R$16 -> 0 | AW42: =AW$20*LCI!$Y$16 -> 0 | AX42: =AX$20*LCI!$AF$16 -> 0 | AY42: =AY$20*LCI!$AM$16 -> 0 | AZ42: =AZ$20*LCI!$D$16 -> 0 | BA42: =BA$20*LCI!$K$16 -> 0 | BB42: =BB$20*LCI!$R$16 -> 0 | BC42: =BC$20*LCI!$Y$16 -> 0 | BD42: =BD$20*LCI!$AF$16 -> 0 | BE42: =BE$20*LCI!$AM$16 -> 0 | BF42: =BF$20*LCI!$D$16 -> 0 | BG42: =BG$20*LCI!$K$16 -> 0 | BH42: =BH$20*LCI!$R$16 -> 0 | BI42: =BI$20*LCI!$Y$16 -> 0 | BJ42: =BJ$20*LCI!$AF$16 -> 0 | BK42: =BK$20*LCI!$AM$16 -> 0 | BL42: =BL$20*LCI!$D$16 -> 0 | BM42: =BM$20*LCI!$K$16 -> 0 | BN42: =BN$20*LCI!$R$16 -> 0 | BO42: =BO$20*LCI!$Y$16 -> 0 | BP42: =BP$20*LCI!$AF$16 -> 0 | BQ42: =BQ$20*LCI!$AM$16 -> 0 | BR42: =BR$20*LCI!$D$16 -> 0 | BS42: =BS$20*LCI!$K$16 -> 0 | BT42: =BT$20*LCI!$R$16 -> 0 | BU42: =BU$20*LCI!$Y$16 -> 0 | BV42: =BV$20*LCI!$AF$16 -> 0 | BW42: =BW$20*LCI!$AM$16 -> 0 | BX42: =BX$20*LCI!$D$16 -> 0 | BY42: =BY$20*LCI!$K$16 -> 0 | BZ42: =BZ$20*LCI!$R$16 -> 0 | CA42: =CA$20*LCI!$Y$16 -> 0 | CB42: =CB$20*LCI!$AF$16 -> 0 | CC42: =CC$20*LCI!$AM$16 -> 0 | CD42: =CD$20*LCI!$D$16 -> 0 | CE42: =CE$20*LCI!$K$16 -> 0 | CF42: =CF$20*LCI!$R$16 -> 0 | CG42: =CG$20*LCI!$Y$16 -> 0 | CH42: =CH$20*LCI!$AF$16 -> 0 | CI42: =CI$20*LCI!$AM$16 -> 0 | CJ42: =CJ$20*LCI!$D$16 -> 0 | CK42: =CK$20*LCI!$K$16 -> 0 | CL42: =CL$20*LCI!$R$16 -> 0 | CM42: =CM$20*LCI!$Y$16 -> 0 | CN42: =CN$20*LCI!$AF$16 -> 0 | CO42: =CO$20*LCI!$AM$16 -> 0 | CP42: =CP$20*LCI!$D$16 -> 0 | CQ42: =CQ$20*LCI!$K$16 -> 0 | CR42: =CR$20*LCI!$R$16 -> 0 | CS42: =CS$20*LCI!$Y$16 -> 0 | CT42: =CT$20*LCI!$AF$16 -> 0 | CU42: =CU$20*LCI!$AM$16 -> 0
A43: 37 | C43: Biomasse (Holz) | D43: =D$21*LCI!$D$17 -> 1.8960894e-05 | E43: =E$21*LCI!$K$17 -> 0.00020674201 | F43: =F$21*LCI!$R$17 -> 0.0004802308 | G43: =G$21*LCI!$Y$17 -> 0.00011898106 | H43: =H$21*LCI!$AF$17 -> 0.00014836567 | I43: =I$21*LCI!$AM$17 -> 0 | J43: =J$21*LCI!$D$17 -> 1.8144036e-05 | K43: =K$21*LCI!$K$17 -> 0.00025408245 | L43: =L$21*LCI!$R$17 -> 0.00035750937 | M43: =M$21*LCI!$Y$17 -> 0.00016917088 | N43: =N$21*LCI!$AF$17 -> 0.00017487716 | O43: =O$21*LCI!$AM$17 -> 0 | P43: =P$21*LCI!$D$17 -> 1.8333132e-05 | Q43: =Q$21*LCI!$K$17 -> 0.00023127615 | R43: =R$21*LCI!$R$17 -> 0.00028384899 | S43: =S$21*LCI!$Y$17 -> 0.0001780757 | T43: =T$21*LCI!$AF$17 -> 0.00015767492 | U43: =U$21*LCI!$AM$17 -> 0 | V43: =V$21*LCI!$D$17 -> 1.6244837e-05 | W43: =W$21*LCI!$K$17 -> 0.00024712509 | X43: =X$21*LCI!$R$17 -> 0.00018924906 | Y43: =Y$21*LCI!$Y$17 -> 0.00012296988 | Z43: =Z$21*LCI!$AF$17 -> 0.00014920267 | AA43: =AA$21*LCI!$AM$17 -> 0 | AB43: =AB$21*LCI!$D$17 -> 1.8012232e-05 | AC43: =AC$21*LCI!$K$17 -> 0.00026538184 | AD43: =AD$21*LCI!$R$17 -> 0.00048716998 | AE43: =AE$21*LCI!$Y$17 -> 0.00011631045 | AF43: =AF$21*LCI!$AF$17 -> 0.00013918332 | AG43: =AG$21*LCI!$AM$17 -> 0 | AH43: =AH$21*LCI!$D$17 -> 1.541396e-05 | AI43: =AI$21*LCI!$K$17 -> 0.00029135755 | AJ43: =AJ$21*LCI!$R$17 -> 0.00029303128 | AK43: =AK$21*LCI!$Y$17 -> 0.0001367414 | AL43: =AL$21*LCI!$AF$17 -> 0.00015491485 | AM43: =AM$21*LCI!$AM$17 -> 0 | AN43: =AN$21*LCI!$D$17 -> 1.3007743e-05 | AO43: =AO$21*LCI!$K$17 -> 0.00024273527 | AP43: =AP$21*LCI!$R$17 -> 0.00017878365 | AQ43: =AQ$21*LCI!$Y$17 -> 0.0001182482 | AR43: =AR$21*LCI!$AF$17 -> 0.00012734831 | AS43: =AS$21*LCI!$AM$17 -> 0 | AT43: =AT$21*LCI!$D$17 -> 9.7304476e-06 | AU43: =AU$21*LCI!$K$17 -> 0.00020678323 | AV43: =AV$21*LCI!$R$17 -> 7.6870268e-05 | AW43: =AW$21*LCI!$Y$17 -> 5.4478077e-05 | AX43: =AX$21*LCI!$AF$17 -> 9.7010918e-05 | AY43: =AY$21*LCI!$AM$17 -> 0 | AZ43: =AZ$21*LCI!$D$17 -> 1.8149999e-05 | BA43: =BA$21*LCI!$K$17 -> 0.00026538184 | BB43: =BB$21*LCI!$R$17 -> 0.00048716998 | BC43: =BC$21*LCI!$Y$17 -> 0.00011631045 | BD43: =BD$21*LCI!$AF$17 -> 0.00013918332 | BE43: =BE$21*LCI!$AM$17 -> 0 | BF43: =BF$21*LCI!$D$17 -> 1.5796974e-05 | BG43: =BG$21*LCI!$K$17 -> 0.00029135755 | BH43: =BH$21*LCI!$R$17 -> 0.00029303128 | BI43: =BI$21*LCI!$Y$17 -> 0.0001367414 | BJ43: =BJ$21*LCI!$AF$17 -> 0.00015491485 | BK43: =BK$21*LCI!$AM$17 -> 0 | BL43: =BL$21*LCI!$D$17 -> 1.3621158e-05 | BM43: =BM$21*LCI!$K$17 -> 0.00024273527 | BN43: =BN$21*LCI!$R$17 -> 0.00017878365 | BO43: =BO$21*LCI!$Y$17 -> 0.0001182482 | BP43: =BP$21*LCI!$AF$17 -> 0.00012734831 | BQ43: =BQ$21*LCI!$AM$17 -> 0 | BR43: =BR$21*LCI!$D$17 -> 9.2562537e-06 | BS43: =BS$21*LCI!$K$17 -> 0.00020678323 | BT43: =BT$21*LCI!$R$17 -> 7.6870268e-05 | BU43: =BU$21*LCI!$Y$17 -> 5.4478077e-05 | BV43: =BV$21*LCI!$AF$17 -> 9.7010918e-05 | BW43: =BW$21*LCI!$AM$17 -> 0 | BX43: =BX$21*LCI!$D$17 -> 1.7933994e-05 | BY43: =BY$21*LCI!$K$17 -> 0.00026538184 | BZ43: =BZ$21*LCI!$R$17 -> 0.00048716998 | CA43: =CA$21*LCI!$Y$17 -> 0.00011631045 | CB43: =CB$21*LCI!$AF$17 -> 0.00013918332 | CC43: =CC$21*LCI!$AM$17 -> 0 | CD43: =CD$21*LCI!$D$17 -> 1.5399819e-05 | CE43: =CE$21*LCI!$K$17 -> 0.00029135755 | CF43: =CF$21*LCI!$R$17 -> 0.00029303128 | CG43: =CG$21*LCI!$Y$17 -> 0.0001367414 | CH43: =CH$21*LCI!$AF$17 -> 0.00015491485 | CI43: =CI$21*LCI!$AM$17 -> 0 | CJ43: =CJ$21*LCI!$D$17 -> 1.3097748e-05 | CK43: =CK$21*LCI!$K$17 -> 0.00024273527 | CL43: =CL$21*LCI!$R$17 -> 0.00017878365 | CM43: =CM$21*LCI!$Y$17 -> 0.0001182482 | CN43: =CN$21*LCI!$AF$17 -> 0.00012734831 | CO43: =CO$21*LCI!$AM$17 -> 0 | CP43: =CP$21*LCI!$D$17 -> 1.0522654e-05 | CQ43: =CQ$21*LCI!$K$17 -> 0.00020678323 | CR43: =CR$21*LCI!$R$17 -> 7.6870268e-05 | CS43: =CS$21*LCI!$Y$17 -> 5.4478077e-05 | CT43: =CT$21*LCI!$AF$17 -> 9.7010918e-05 | CU43: =CU$21*LCI!$AM$17 -> 0
A44: 38 | C44: Biogas | D44: =D$22*LCI!$D$18 -> 5.2700414e-05 | E44: =E$22*LCI!$K$18 -> 0 | F44: =F$22*LCI!$R$18 -> 0 | G44: =G$22*LCI!$Y$18 -> 0 | H44: =H$22*LCI!$AF$18 -> 0 | I44: =I$22*LCI!$AM$18 -> 0.00013761518 | J44: =J$22*LCI!$D$18 -> 6.5830954e-05 | K44: =K$22*LCI!$K$18 -> 0 | L44: =L$22*LCI!$R$18 -> 0 | M44: =M$22*LCI!$Y$18 -> 0 | N44: =N$22*LCI!$AF$18 -> 0 | O44: =O$22*LCI!$AM$18 -> 8.5424472e-05 | P44: =P$22*LCI!$D$18 -> 7.8572801e-05 | Q44: =Q$22*LCI!$K$18 -> 0 | R44: =R$22*LCI!$R$18 -> 0 | S44: =S$22*LCI!$Y$18 -> 0 | T44: =T$22*LCI!$AF$18 -> 0 | U44: =U$22*LCI!$AM$18 -> 4.9286607e-05 | V44: =V$22*LCI!$D$18 -> 0.00010948906 | W44: =W$22*LCI!$K$18 -> 0 | X44: =X$22*LCI!$R$18 -> 0 | Y44: =Y$22*LCI!$Y$18 -> 0 | Z44: =Z$22*LCI!$AF$18 -> 0 | AA44: =AA$22*LCI!$AM$18 -> 2.5128655e-06 | AB44: =AB$22*LCI!$D$18 -> 6.1597727e-05 | AC44: =AC$22*LCI!$K$18 -> 0 | AD44: =AD$22*LCI!$R$18 -> 0 | AE44: =AE$22*LCI!$Y$18 -> 0 | AF44: =AF$22*LCI!$AF$18 -> 0 | AG44: =AG$22*LCI!$AM$18 -> 0.00013761518 | AH44: =AH$22*LCI!$D$18 -> 7.925966e-05 | AI44: =AI$22*LCI!$K$18 -> 0 | AJ44: =AJ$22*LCI!$R$18 -> 0 | AK44: =AK$22*LCI!$Y$18 -> 0 | AL44: =AL$22*LCI!$AF$18 -> 0 | AM44: =AM$22*LCI!$AM$18 -> 6.4291322e-05 | AN44: =AN$22*LCI!$D$18 -> 0.00012222425 | AO44: =AO$22*LCI!$K$18 -> 0 | AP44: =AP$22*LCI!$R$18 -> 0 | AQ44: =AQ$22*LCI!$Y$18 -> 0 | AR44: =AR$22*LCI!$AF$18 -> 0 | AS44: =AS$22*LCI!$AM$18 -> 1.5717824e-05 | AT44: =AT$22*LCI!$D$18 -> 0.00018869851 | AU44: =AU$22*LCI!$K$18 -> 0 | AV44: =AV$22*LCI!$R$18 -> 0 | AW44: =AW$22*LCI!$Y$18 -> 0 | AX44: =AX$22*LCI!$AF$18 -> 0 | AY44: =AY$22*LCI!$AM$18 -> 7.5231901e-06 | AZ44: =AZ$22*LCI!$D$18 -> 6.1163857e-05 | BA44: =BA$22*LCI!$K$18 -> 0 | BB44: =BB$22*LCI!$R$18 -> 0 | BC44: =BC$22*LCI!$Y$18 -> 0 | BD44: =BD$22*LCI!$AF$18 -> 0 | BE44: =BE$22*LCI!$AM$18 -> 0.00013761518 | BF44: =BF$22*LCI!$D$18 -> 7.167625e-05 | BG44: =BG$22*LCI!$K$18 -> 0 | BH44: =BH$22*LCI!$R$18 -> 0 | BI44: =BI$22*LCI!$Y$18 -> 0 | BJ44: =BJ$22*LCI!$AF$18 -> 0 | BK44: =BK$22*LCI!$AM$18 -> 6.3042067e-05 | BL44: =BL$22*LCI!$D$18 -> 0.00010885957 | BM44: =BM$22*LCI!$K$18 -> 0 | BN44: =BN$22*LCI!$R$18 -> 0 | BO44: =BO$22*LCI!$Y$18 -> 0 | BP44: =BP$22*LCI!$AF$18 -> 0 | BQ44: =BQ$22*LCI!$AM$18 -> 1.2790691e-05 | BR44: =BR$22*LCI!$D$18 -> 0.0001411179 | BS44: =BS$22*LCI!$K$18 -> 0 | BT44: =BT$22*LCI!$R$18 -> 0 | BU44: =BU$22*LCI!$Y$18 -> 0 | BV44: =BV$22*LCI!$AF$18 -> 0 | BW44: =BW$22*LCI!$AM$18 -> 7.5411753e-06 | BX44: =BX$22*LCI!$D$18 -> 6.5390614e-05 | BY44: =BY$22*LCI!$K$18 -> 0 | BZ44: =BZ$22*LCI!$R$18 -> 0 | CA44: =CA$22*LCI!$Y$18 -> 0 | CB44: =CB$22*LCI!$AF$18 -> 0 | CC44: =CC$22*LCI!$AM$18 -> 0.00013761518 | CD44: =CD$22*LCI!$D$18 -> 7.8768221e-05 | CE44: =CE$22*LCI!$K$18 -> 0 | CF44: =CF$22*LCI!$R$18 -> 0 | CG44: =CG$22*LCI!$Y$18 -> 0 | CH44: =CH$22*LCI!$AF$18 -> 0 | CI44: =CI$22*LCI!$AM$18 -> 6.3042067e-05 | CJ44: =CJ$22*LCI!$D$18 -> 0.00011854144 | CK44: =CK$22*LCI!$K$18 -> 0 | CL44: =CL$22*LCI!$R$18 -> 0 | CM44: =CM$22*LCI!$Y$18 -> 0 | CN44: =CN$22*LCI!$AF$18 -> 0 | CO44: =CO$22*LCI!$AM$18 -> 1.2790691e-05 | CP44: =CP$22*LCI!$D$18 -> 0.00019857646 | CQ44: =CQ$22*LCI!$K$18 -> 0 | CR44: =CR$22*LCI!$R$18 -> 0 | CS44: =CS$22*LCI!$Y$18 -> 0 | CT44: =CT$22*LCI!$AF$18 -> 0 | CU44: =CU$22*LCI!$AM$18 -> 7.5411753e-06
A45: 39 | C45: ARA | D45: =D$23*LCI!$D$19 -> 7.4280613e-08 | E45: =E$23*LCI!$K$19 -> 0 | F45: =F$23*LCI!$R$19 -> 0 | G45: =G$23*LCI!$Y$19 -> 0 | H45: =H$23*LCI!$AF$19 -> 0 | I45: =I$23*LCI!$AM$19 -> 0 | J45: =J$23*LCI!$D$19 -> 7.141766e-08 | K45: =K$23*LCI!$K$19 -> 0 | L45: =L$23*LCI!$R$19 -> 0 | M45: =M$23*LCI!$Y$19 -> 0 | N45: =N$23*LCI!$AF$19 -> 0 | O45: =O$23*LCI!$AM$19 -> 0 | P45: =P$23*LCI!$D$19 -> 7.6174679e-08 | Q45: =Q$23*LCI!$K$19 -> 0 | R45: =R$23*LCI!$R$19 -> 0 | S45: =S$23*LCI!$Y$19 -> 0 | T45: =T$23*LCI!$AF$19 -> 0 | U45: =U$23*LCI!$AM$19 -> 0 | V45: =V$23*LCI!$D$19 -> 7.9139152e-08 | W45: =W$23*LCI!$K$19 -> 0 | X45: =X$23*LCI!$R$19 -> 0 | Y45: =Y$23*LCI!$Y$19 -> 0 | Z45: =Z$23*LCI!$AF$19 -> 0 | AA45: =AA$23*LCI!$AM$19 -> 0 | AB45: =AB$23*LCI!$D$19 -> 7.3328754e-08 | AC45: =AC$23*LCI!$K$19 -> 0 | AD45: =AD$23*LCI!$R$19 -> 0 | AE45: =AE$23*LCI!$Y$19 -> 0 | AF45: =AF$23*LCI!$AF$19 -> 0 | AG45: =AG$23*LCI!$AM$19 -> 0 | AH45: =AH$23*LCI!$D$19 -> 6.5942522e-08 | AI45: =AI$23*LCI!$K$19 -> 0 | AJ45: =AJ$23*LCI!$R$19 -> 0 | AK45: =AK$23*LCI!$Y$19 -> 0 | AL45: =AL$23*LCI!$AF$19 -> 0 | AM45: =AM$23*LCI!$AM$19 -> 0 | AN45: =AN$23*LCI!$D$19 -> 5.8203609e-08 | AO45: =AO$23*LCI!$K$19 -> 0 | AP45: =AP$23*LCI!$R$19 -> 0 | AQ45: =AQ$23*LCI!$Y$19 -> 0 | AR45: =AR$23*LCI!$AF$19 -> 0 | AS45: =AS$23*LCI!$AM$19 -> 0 | AT45: =AT$23*LCI!$D$19 -> 5.3019249e-08 | AU45: =AU$23*LCI!$K$19 -> 0 | AV45: =AV$23*LCI!$R$19 -> 0 | AW45: =AW$23*LCI!$Y$19 -> 0 | AX45: =AX$23*LCI!$AF$19 -> 0 | AY45: =AY$23*LCI!$AM$19 -> 0 | AZ45: =AZ$23*LCI!$D$19 -> 7.3413596e-08 | BA45: =BA$23*LCI!$K$19 -> 0 | BB45: =BB$23*LCI!$R$19 -> 0 | BC45: =BC$23*LCI!$Y$19 -> 0 | BD45: =BD$23*LCI!$AF$19 -> 0 | BE45: =BE$23*LCI!$AM$19 -> 0 | BF45: =BF$23*LCI!$D$19 -> 6.6079338e-08 | BG45: =BG$23*LCI!$K$19 -> 0 | BH45: =BH$23*LCI!$R$19 -> 0 | BI45: =BI$23*LCI!$Y$19 -> 0 | BJ45: =BJ$23*LCI!$AF$19 -> 0 | BK45: =BK$23*LCI!$AM$19 -> 0 | BL45: =BL$23*LCI!$D$19 -> 5.9505003e-08 | BM45: =BM$23*LCI!$K$19 -> 0 | BN45: =BN$23*LCI!$R$19 -> 0 | BO45: =BO$23*LCI!$Y$19 -> 0 | BP45: =BP$23*LCI!$AF$19 -> 0 | BQ45: =BQ$23*LCI!$AM$19 -> 0 | BR45: =BR$23*LCI!$D$19 -> 5.0116784e-08 | BS45: =BS$23*LCI!$K$19 -> 0 | BT45: =BT$23*LCI!$R$19 -> 0 | BU45: =BU$23*LCI!$Y$19 -> 0 | BV45: =BV$23*LCI!$AF$19 -> 0 | BW45: =BW$23*LCI!$AM$19 -> 0 | BX45: =BX$23*LCI!$D$19 -> 7.3429198e-08 | BY45: =BY$23*LCI!$K$19 -> 0 | BZ45: =BZ$23*LCI!$R$19 -> 0 | CA45: =CA$23*LCI!$Y$19 -> 0 | CB45: =CB$23*LCI!$AF$19 -> 0 | CC45: =CC$23*LCI!$AM$19 -> 0 | CD45: =CD$23*LCI!$D$19 -> 6.5832015e-08 | CE45: =CE$23*LCI!$K$19 -> 0 | CF45: =CF$23*LCI!$R$19 -> 0 | CG45: =CG$23*LCI!$Y$19 -> 0 | CH45: =CH$23*LCI!$AF$19 -> 0 | CI45: =CI$23*LCI!$AM$19 -> 0 | CJ45: =CJ$23*LCI!$D$19 -> 5.8011896e-08 | CK45: =CK$23*LCI!$K$19 -> 0 | CL45: =CL$23*LCI!$R$19 -> 0 | CM45: =CM$23*LCI!$Y$19 -> 0 | CN45: =CN$23*LCI!$AF$19 -> 0 | CO45: =CO$23*LCI!$AM$19 -> 0 | CP45: =CP$23*LCI!$D$19 -> 5.6103419e-08 | CQ45: =CQ$23*LCI!$K$19 -> 0 | CR45: =CR$23*LCI!$R$19 -> 0 | CS45: =CS$23*LCI!$Y$19 -> 0 | CT45: =CT$23*LCI!$AF$19 -> 0 | CU45: =CU$23*LCI!$AM$19 -> 0
A46: 40 | C46: KVA (EE-Anteil) | D46: =D$24*LCI!$D$20 -> 0 | E46: =E$24*LCI!$K$20 -> 0 | F46: =F$24*LCI!$R$20 -> 0 | G46: =G$24*LCI!$Y$20 -> 0 | H46: =H$24*LCI!$AF$20 -> 0 | I46: =I$24*LCI!$AM$20 -> 0 | J46: =J$24*LCI!$D$20 -> 0 | K46: =K$24*LCI!$K$20 -> 0 | L46: =L$24*LCI!$R$20 -> 0 | M46: =M$24*LCI!$Y$20 -> 0 | N46: =N$24*LCI!$AF$20 -> 0 | O46: =O$24*LCI!$AM$20 -> 0 | P46: =P$24*LCI!$D$20 -> 0 | Q46: =Q$24*LCI!$K$20 -> 0 | R46: =R$24*LCI!$R$20 -> 0 | S46: =S$24*LCI!$Y$20 -> 0 | T46: =T$24*LCI!$AF$20 -> 0 | U46: =U$24*LCI!$AM$20 -> 0 | V46: =V$24*LCI!$D$20 -> 0 | W46: =W$24*LCI!$K$20 -> 0 | X46: =X$24*LCI!$R$20 -> 0 | Y46: =Y$24*LCI!$Y$20 -> 0 | Z46: =Z$24*LCI!$AF$20 -> 0 | AA46: =AA$24*LCI!$AM$20 -> 0 | AB46: =AB$24*LCI!$D$20 -> 0 | AC46: =AC$24*LCI!$K$20 -> 0 | AD46: =AD$24*LCI!$R$20 -> 0 | AE46: =AE$24*LCI!$Y$20 -> 0 | AF46: =AF$24*LCI!$AF$20 -> 0 | AG46: =AG$24*LCI!$AM$20 -> 0 | AH46: =AH$24*LCI!$D$20 -> 0 | AI46: =AI$24*LCI!$K$20 -> 0 | AJ46: =AJ$24*LCI!$R$20 -> 0 | AK46: =AK$24*LCI!$Y$20 -> 0 | AL46: =AL$24*LCI!$AF$20 -> 0 | AM46: =AM$24*LCI!$AM$20 -> 0 | AN46: =AN$24*LCI!$D$20 -> 0 | AO46: =AO$24*LCI!$K$20 -> 0 | AP46: =AP$24*LCI!$R$20 -> 0 | AQ46: =AQ$24*LCI!$Y$20 -> 0 | AR46: =AR$24*LCI!$AF$20 -> 0 | AS46: =AS$24*LCI!$AM$20 -> 0 | AT46: =AT$24*LCI!$D$20 -> 0 | AU46: =AU$24*LCI!$K$20 -> 0 | AV46: =AV$24*LCI!$R$20 -> 0 | AW46: =AW$24*LCI!$Y$20 -> 0 | AX46: =AX$24*LCI!$AF$20 -> 0 | AY46: =AY$24*LCI!$AM$20 -> 0 | AZ46: =AZ$24*LCI!$D$20 -> 0 | BA46: =BA$24*LCI!$K$20 -> 0 | BB46: =BB$24*LCI!$R$20 -> 0 | BC46: =BC$24*LCI!$Y$20 -> 0 | BD46: =BD$24*LCI!$AF$20 -> 0 | BE46: =BE$24*LCI!$AM$20 -> 0 | BF46: =BF$24*LCI!$D$20 -> 0 | BG46: =BG$24*LCI!$K$20 -> 0 | BH46: =BH$24*LCI!$R$20 -> 0 | BI46: =BI$24*LCI!$Y$20 -> 0 | BJ46: =BJ$24*LCI!$AF$20 -> 0 | BK46: =BK$24*LCI!$AM$20 -> 0 | BL46: =BL$24*LCI!$D$20 -> 0 | BM46: =BM$24*LCI!$K$20 -> 0 | BN46: =BN$24*LCI!$R$20 -> 0 | BO46: =BO$24*LCI!$Y$20 -> 0 | BP46: =BP$24*LCI!$AF$20 -> 0 | BQ46: =BQ$24*LCI!$AM$20 -> 0 | BR46: =BR$24*LCI!$D$20 -> 0 | BS46: =BS$24*LCI!$K$20 -> 0 | BT46: =BT$24*LCI!$R$20 -> 0 | BU46: =BU$24*LCI!$Y$20 -> 0 | BV46: =BV$24*LCI!$AF$20 -> 0 | BW46: =BW$24*LCI!$AM$20 -> 0 | BX46: =BX$24*LCI!$D$20 -> 0 | BY46: =BY$24*LCI!$K$20 -> 0 | BZ46: =BZ$24*LCI!$R$20 -> 0 | CA46: =CA$24*LCI!$Y$20 -> 0 | CB46: =CB$24*LCI!$AF$20 -> 0 | CC46: =CC$24*LCI!$AM$20 -> 0 | CD46: =CD$24*LCI!$D$20 -> 0 | CE46: =CE$24*LCI!$K$20 -> 0 | CF46: =CF$24*LCI!$R$20 -> 0 | CG46: =CG$24*LCI!$Y$20 -> 0 | CH46: =CH$24*LCI!$AF$20 -> 0 | CI46: =CI$24*LCI!$AM$20 -> 0 | CJ46: =CJ$24*LCI!$D$20 -> 0 | CK46: =CK$24*LCI!$K$20 -> 0 | CL46: =CL$24*LCI!$R$20 -> 0 | CM46: =CM$24*LCI!$Y$20 -> 0 | CN46: =CN$24*LCI!$AF$20 -> 0 | CO46: =CO$24*LCI!$AM$20 -> 0 | CP46: =CP$24*LCI!$D$20 -> 0 | CQ46: =CQ$24*LCI!$K$20 -> 0 | CR46: =CR$24*LCI!$R$20 -> 0 | CS46: =CS$24*LCI!$Y$20 -> 0 | CT46: =CT$24*LCI!$AF$20 -> 0 | CU46: =CU$24*LCI!$AM$20 -> 0
A47: 41 | C47: Geothermie | D47: =D$25*LCI!$D$21 -> 2.688579e-08 | E47: =E$25*LCI!$K$21 -> 0 | F47: =F$25*LCI!$R$21 -> 0 | G47: =G$25*LCI!$Y$21 -> 0 | H47: =H$25*LCI!$AF$21 -> 0 | I47: =I$25*LCI!$AM$21 -> 0 | J47: =J$25*LCI!$D$21 -> 3.9799315e-08 | K47: =K$25*LCI!$K$21 -> 0 | L47: =L$25*LCI!$R$21 -> 0 | M47: =M$25*LCI!$Y$21 -> 0 | N47: =N$25*LCI!$AF$21 -> 0 | O47: =O$25*LCI!$AM$21 -> 0 | P47: =P$25*LCI!$D$21 -> 6.4473866e-08 | Q47: =Q$25*LCI!$K$21 -> 0 | R47: =R$25*LCI!$R$21 -> 0 | S47: =S$25*LCI!$Y$21 -> 0 | T47: =T$25*LCI!$AF$21 -> 0 | U47: =U$25*LCI!$AM$21 -> 0 | V47: =V$25*LCI!$D$21 -> 1.0696201e-07 | W47: =W$25*LCI!$K$21 -> 0 | X47: =X$25*LCI!$R$21 -> 0 | Y47: =Y$25*LCI!$Y$21 -> 0 | Z47: =Z$25*LCI!$AF$21 -> 0 | AA47: =AA$25*LCI!$AM$21 -> 0 | AB47: =AB$25*LCI!$D$21 -> 2.6541266e-08 | AC47: =AC$25*LCI!$K$21 -> 0 | AD47: =AD$25*LCI!$R$21 -> 0 | AE47: =AE$25*LCI!$Y$21 -> 0 | AF47: =AF$25*LCI!$AF$21 -> 0 | AG47: =AG$25*LCI!$AM$21 -> 0 | AH47: =AH$25*LCI!$D$21 -> 3.7267359e-08 | AI47: =AI$25*LCI!$K$21 -> 0 | AJ47: =AJ$25*LCI!$R$21 -> 0 | AK47: =AK$25*LCI!$Y$21 -> 0 | AL47: =AL$25*LCI!$AF$21 -> 0 | AM47: =AM$25*LCI!$AM$21 -> 0 | AN47: =AN$25*LCI!$D$21 -> 3.2195856e-07 | AO47: =AO$25*LCI!$K$21 -> 0 | AP47: =AP$25*LCI!$R$21 -> 0 | AQ47: =AQ$25*LCI!$Y$21 -> 0 | AR47: =AR$25*LCI!$AF$21 -> 0 | AS47: =AS$25*LCI!$AM$21 -> 0 | AT47: =AT$25*LCI!$D$21 -> 9.9008868e-07 | AU47: =AU$25*LCI!$K$21 -> 0 | AV47: =AV$25*LCI!$R$21 -> 0 | AW47: =AW$25*LCI!$Y$21 -> 0 | AX47: =AX$25*LCI!$AF$21 -> 0 | AY47: =AY$25*LCI!$AM$21 -> 0 | AZ47: =AZ$25*LCI!$D$21 -> 2.6592541e-08 | BA47: =BA$25*LCI!$K$21 -> 0 | BB47: =BB$25*LCI!$R$21 -> 0 | BC47: =BC$25*LCI!$Y$21 -> 0 | BD47: =BD$25*LCI!$AF$21 -> 0 | BE47: =BE$25*LCI!$AM$21 -> 0 | BF47: =BF$25*LCI!$D$21 -> 3.7315391e-08 | BG47: =BG$25*LCI!$K$21 -> 0 | BH47: =BH$25*LCI!$R$21 -> 0 | BI47: =BI$25*LCI!$Y$21 -> 0 | BJ47: =BJ$25*LCI!$AF$21 -> 0 | BK47: =BK$25*LCI!$AM$21 -> 0 | BL47: =BL$25*LCI!$D$21 -> 3.2228797e-07 | BM47: =BM$25*LCI!$K$21 -> 0 | BN47: =BN$25*LCI!$R$21 -> 0 | BO47: =BO$25*LCI!$Y$21 -> 0 | BP47: =BP$25*LCI!$AF$21 -> 0 | BQ47: =BQ$25*LCI!$AM$21 -> 0 | BR47: =BR$25*LCI!$D$21 -> 9.4649261e-07 | BS47: =BS$25*LCI!$K$21 -> 0 | BT47: =BT$25*LCI!$R$21 -> 0 | BU47: =BU$25*LCI!$Y$21 -> 0 | BV47: =BV$25*LCI!$AF$21 -> 0 | BW47: =BW$25*LCI!$AM$21 -> 0 | BX47: =BX$25*LCI!$D$21 -> 2.6577621e-08 | BY47: =BY$25*LCI!$K$21 -> 0 | BZ47: =BZ$25*LCI!$R$21 -> 0 | CA47: =CA$25*LCI!$Y$21 -> 0 | CB47: =CB$25*LCI!$AF$21 -> 0 | CC47: =CC$25*LCI!$AM$21 -> 0 | CD47: =CD$25*LCI!$D$21 -> 3.7263405e-08 | CE47: =CE$25*LCI!$K$21 -> 0 | CF47: =CF$25*LCI!$R$21 -> 0 | CG47: =CG$25*LCI!$Y$21 -> 0 | CH47: =CH$25*LCI!$AF$21 -> 0 | CI47: =CI$25*LCI!$AM$21 -> 0 | CJ47: =CJ$25*LCI!$D$21 -> 3.2232938e-07 | CK47: =CK$25*LCI!$K$21 -> 0 | CL47: =CL$25*LCI!$R$21 -> 0 | CM47: =CM$25*LCI!$Y$21 -> 0 | CN47: =CN$25*LCI!$AF$21 -> 0 | CO47: =CO$25*LCI!$AM$21 -> 0 | CP47: =CP$25*LCI!$D$21 -> 1.02472e-06 | CQ47: =CQ$25*LCI!$K$21 -> 0 | CR47: =CR$25*LCI!$R$21 -> 0 | CS47: =CS$25*LCI!$Y$21 -> 0 | CT47: =CT$25*LCI!$AF$21 -> 0 | CU47: =CU$25*LCI!$AM$21 -> 0
A48: 42 | C48: Wasserstoff | D48: =D$26*LCI!$D$22 -> 0 | E48: =E$26*LCI!$K$22 -> 0 | F48: =F$26*LCI!$R$22 -> 0 | G48: =G$26*LCI!$Y$22 -> 0 | H48: =H$26*LCI!$AF$22 -> 0 | I48: =I$26*LCI!$AM$22 -> 0 | J48: =J$26*LCI!$D$22 -> 0 | K48: =K$26*LCI!$K$22 -> 0 | L48: =L$26*LCI!$R$22 -> 0 | M48: =M$26*LCI!$Y$22 -> 0 | N48: =N$26*LCI!$AF$22 -> 0 | O48: =O$26*LCI!$AM$22 -> 0 | P48: =P$26*LCI!$D$22 -> 0 | Q48: =Q$26*LCI!$K$22 -> 0 | R48: =R$26*LCI!$R$22 -> 0 | S48: =S$26*LCI!$Y$22 -> 0 | T48: =T$26*LCI!$AF$22 -> 0 | U48: =U$26*LCI!$AM$22 -> 0 | V48: =V$26*LCI!$D$22 -> 0 | W48: =W$26*LCI!$K$22 -> 0 | X48: =X$26*LCI!$R$22 -> 0 | Y48: =Y$26*LCI!$Y$22 -> 0 | Z48: =Z$26*LCI!$AF$22 -> 0 | AA48: =AA$26*LCI!$AM$22 -> 0 | AB48: =AB$26*LCI!$D$22 -> 0 | AC48: =AC$26*LCI!$K$22 -> 0 | AD48: =AD$26*LCI!$R$22 -> 0 | AE48: =AE$26*LCI!$Y$22 -> 0 | AF48: =AF$26*LCI!$AF$22 -> 0 | AG48: =AG$26*LCI!$AM$22 -> 0 | AH48: =AH$26*LCI!$D$22 -> 0 | AI48: =AI$26*LCI!$K$22 -> 0 | AJ48: =AJ$26*LCI!$R$22 -> 0 | AK48: =AK$26*LCI!$Y$22 -> 0 | AL48: =AL$26*LCI!$AF$22 -> 0 | AM48: =AM$26*LCI!$AM$22 -> 0 | AN48: =AN$26*LCI!$D$22 -> 0 | AO48: =AO$26*LCI!$K$22 -> 0 | AP48: =AP$26*LCI!$R$22 -> 0 | AQ48: =AQ$26*LCI!$Y$22 -> 0 | AR48: =AR$26*LCI!$AF$22 -> 0 | AS48: =AS$26*LCI!$AM$22 -> 0 | AT48: =AT$26*LCI!$D$22 -> 0 | AU48: =AU$26*LCI!$K$22 -> 0 | AV48: =AV$26*LCI!$R$22 -> 0 | AW48: =AW$26*LCI!$Y$22 -> 0 | AX48: =AX$26*LCI!$AF$22 -> 0 | AY48: =AY$26*LCI!$AM$22 -> 0 | AZ48: =AZ$26*LCI!$D$22 -> 0 | BA48: =BA$26*LCI!$K$22 -> 0 | BB48: =BB$26*LCI!$R$22 -> 0 | BC48: =BC$26*LCI!$Y$22 -> 0 | BD48: =BD$26*LCI!$AF$22 -> 0 | BE48: =BE$26*LCI!$AM$22 -> 0 | BF48: =BF$26*LCI!$D$22 -> 0 | BG48: =BG$26*LCI!$K$22 -> 0 | BH48: =BH$26*LCI!$R$22 -> 0 | BI48: =BI$26*LCI!$Y$22 -> 0 | BJ48: =BJ$26*LCI!$AF$22 -> 0 | BK48: =BK$26*LCI!$AM$22 -> 0 | BL48: =BL$26*LCI!$D$22 -> 0 | BM48: =BM$26*LCI!$K$22 -> 0 | BN48: =BN$26*LCI!$R$22 -> 0 | BO48: =BO$26*LCI!$Y$22 -> 0 | BP48: =BP$26*LCI!$AF$22 -> 0 | BQ48: =BQ$26*LCI!$AM$22 -> 0 | BR48: =BR$26*LCI!$D$22 -> 0 | BS48: =BS$26*LCI!$K$22 -> 0 | BT48: =BT$26*LCI!$R$22 -> 0 | BU48: =BU$26*LCI!$Y$22 -> 0 | BV48: =BV$26*LCI!$AF$22 -> 0 | BW48: =BW$26*LCI!$AM$22 -> 0 | BX48: =BX$26*LCI!$D$22 -> 0 | BY48: =BY$26*LCI!$K$22 -> 0 | BZ48: =BZ$26*LCI!$R$22 -> 0 | CA48: =CA$26*LCI!$Y$22 -> 0 | CB48: =CB$26*LCI!$AF$22 -> 0 | CC48: =CC$26*LCI!$AM$22 -> 0 | CD48: =CD$26*LCI!$D$22 -> 0 | CE48: =CE$26*LCI!$K$22 -> 0 | CF48: =CF$26*LCI!$R$22 -> 0 | CG48: =CG$26*LCI!$Y$22 -> 0 | CH48: =CH$26*LCI!$AF$22 -> 0 | CI48: =CI$26*LCI!$AM$22 -> 0 | CJ48: =CJ$26*LCI!$D$22 -> 0 | CK48: =CK$26*LCI!$K$22 -> 0 | CL48: =CL$26*LCI!$R$22 -> 0 | CM48: =CM$26*LCI!$Y$22 -> 0 | CN48: =CN$26*LCI!$AF$22 -> 0 | CO48: =CO$26*LCI!$AM$22 -> 0 | CP48: =CP$26*LCI!$D$22 -> 0 | CQ48: =CQ$26*LCI!$K$22 -> 0 | CR48: =CR$26*LCI!$R$22 -> 0 | CS48: =CS$26*LCI!$Y$22 -> 0 | CT48: =CT$26*LCI!$AF$22 -> 0 | CU48: =CU$26*LCI!$AM$22 -> 0
A49: 43 | C49: Übrige Erneuerbare | D49: =D$27*LCI!$D$23 -> 0 | E49: =E$27*LCI!$K$23 -> 0 | F49: =F$27*LCI!$R$23 -> 0 | G49: =G$27*LCI!$Y$23 -> 0 | H49: =H$27*LCI!$AF$23 -> 0 | I49: =I$27*LCI!$AM$23 -> 0 | J49: =J$27*LCI!$D$23 -> 0 | K49: =K$27*LCI!$K$23 -> 0 | L49: =L$27*LCI!$R$23 -> 0 | M49: =M$27*LCI!$Y$23 -> 0 | N49: =N$27*LCI!$AF$23 -> 0 | O49: =O$27*LCI!$AM$23 -> 0 | P49: =P$27*LCI!$D$23 -> 0 | Q49: =Q$27*LCI!$K$23 -> 0 | R49: =R$27*LCI!$R$23 -> 0 | S49: =S$27*LCI!$Y$23 -> 0 | T49: =T$27*LCI!$AF$23 -> 0 | U49: =U$27*LCI!$AM$23 -> 0 | V49: =V$27*LCI!$D$23 -> 0 | W49: =W$27*LCI!$K$23 -> 0 | X49: =X$27*LCI!$R$23 -> 0 | Y49: =Y$27*LCI!$Y$23 -> 0 | Z49: =Z$27*LCI!$AF$23 -> 0 | AA49: =AA$27*LCI!$AM$23 -> 0 | AB49: =AB$27*LCI!$D$23 -> 0 | AC49: =AC$27*LCI!$K$23 -> 0 | AD49: =AD$27*LCI!$R$23 -> 0 | AE49: =AE$27*LCI!$Y$23 -> 0 | AF49: =AF$27*LCI!$AF$23 -> 0 | AG49: =AG$27*LCI!$AM$23 -> 0 | AH49: =AH$27*LCI!$D$23 -> 0 | AI49: =AI$27*LCI!$K$23 -> 0 | AJ49: =AJ$27*LCI!$R$23 -> 0 | AK49: =AK$27*LCI!$Y$23 -> 0 | AL49: =AL$27*LCI!$AF$23 -> 0 | AM49: =AM$27*LCI!$AM$23 -> 0 | AN49: =AN$27*LCI!$D$23 -> 0 | AO49: =AO$27*LCI!$K$23 -> 0 | AP49: =AP$27*LCI!$R$23 -> 0 | AQ49: =AQ$27*LCI!$Y$23 -> 0 | AR49: =AR$27*LCI!$AF$23 -> 0 | AS49: =AS$27*LCI!$AM$23 -> 0 | AT49: =AT$27*LCI!$D$23 -> 0 | AU49: =AU$27*LCI!$K$23 -> 0 | AV49: =AV$27*LCI!$R$23 -> 0 | AW49: =AW$27*LCI!$Y$23 -> 0 | AX49: =AX$27*LCI!$AF$23 -> 0 | AY49: =AY$27*LCI!$AM$23 -> 0 | AZ49: =AZ$27*LCI!$D$23 -> 0 | BA49: =BA$27*LCI!$K$23 -> 0 | BB49: =BB$27*LCI!$R$23 -> 0 | BC49: =BC$27*LCI!$Y$23 -> 0 | BD49: =BD$27*LCI!$AF$23 -> 0 | BE49: =BE$27*LCI!$AM$23 -> 0 | BF49: =BF$27*LCI!$D$23 -> 0 | BG49: =BG$27*LCI!$K$23 -> 0 | BH49: =BH$27*LCI!$R$23 -> 0 | BI49: =BI$27*LCI!$Y$23 -> 0 | BJ49: =BJ$27*LCI!$AF$23 -> 0 | BK49: =BK$27*LCI!$AM$23 -> 0 | BL49: =BL$27*LCI!$D$23 -> 0 | BM49: =BM$27*LCI!$K$23 -> 0 | BN49: =BN$27*LCI!$R$23 -> 0 | BO49: =BO$27*LCI!$Y$23 -> 0 | BP49: =BP$27*LCI!$AF$23 -> 0 | BQ49: =BQ$27*LCI!$AM$23 -> 0 | BR49: =BR$27*LCI!$D$23 -> 0 | BS49: =BS$27*LCI!$K$23 -> 0 | BT49: =BT$27*LCI!$R$23 -> 0 | BU49: =BU$27*LCI!$Y$23 -> 0 | BV49: =BV$27*LCI!$AF$23 -> 0 | BW49: =BW$27*LCI!$AM$23 -> 0 | BX49: =BX$27*LCI!$D$23 -> 0 | BY49: =BY$27*LCI!$K$23 -> 0 | BZ49: =BZ$27*LCI!$R$23 -> 0 | CA49: =CA$27*LCI!$Y$23 -> 0 | CB49: =CB$27*LCI!$AF$23 -> 0 | CC49: =CC$27*LCI!$AM$23 -> 0 | CD49: =CD$27*LCI!$D$23 -> 0 | CE49: =CE$27*LCI!$K$23 -> 0 | CF49: =CF$27*LCI!$R$23 -> 0 | CG49: =CG$27*LCI!$Y$23 -> 0 | CH49: =CH$27*LCI!$AF$23 -> 0 | CI49: =CI$27*LCI!$AM$23 -> 0 | CJ49: =CJ$27*LCI!$D$23 -> 0 | CK49: =CK$27*LCI!$K$23 -> 0 | CL49: =CL$27*LCI!$R$23 -> 0 | CM49: =CM$27*LCI!$Y$23 -> 0 | CN49: =CN$27*LCI!$AF$23 -> 0 | CO49: =CO$27*LCI!$AM$23 -> 0 | CP49: =CP$27*LCI!$D$23 -> 0 | CQ49: =CQ$27*LCI!$K$23 -> 0 | CR49: =CR$27*LCI!$R$23 -> 0 | CS49: =CS$27*LCI!$Y$23 -> 0 | CT49: =CT$27*LCI!$AF$23 -> 0 | CU49: =CU$27*LCI!$AM$23 -> 0
A50: 44 | C50: Import | D50: =IF(D$28>0,D$28*(SUMPRODUCT(E$29:H$29,E51:H51)),0) -> 0.025185858 | E50: =IF(E28>0,E$28*I51,0) -> 0 | F50: =IF(F28>0,F$28*I51,0) -> 0.0029512934 | G50: =IF(G28>0,G$28*I51,0) -> 0 | H50: =IF(H28>0,H$28*I51,0) -> 0.0081562955 | I50: 0 | J50: =IF(J28>0,J28*(SUMPRODUCT(K$29:N$29,K51:N51)),0) -> 0.033327533 | K50: =IF(K28>0,K$28*O51,0) -> 0 | L50: =IF(L28>0,L$28*O51,0) -> 0.0033630217 | M50: =IF(M28>0,M$28*O51,0) -> 0 | N50: =IF(N28>0,N$28*O51,0) -> 0.00096098637 | O50: 0 | P50: =IF(P28>0,P28*(SUMPRODUCT(Q$29:T$29,Q51:T51)),0) -> 0.034280214 | Q50: =IF(Q28>0,Q$28*U51,0) -> 0 | R50: =IF(R28>0,R$28*U51,0) -> 0.0039128047 | S50: =IF(S28>0,S$28*U51,0) -> 0 | T50: =IF(T28>0,T$28*U51,0) -> 0 | U50: 0 | V50: =IF(V28>0,V28*(SUMPRODUCT(W$29:Z$29,W51:Z51)),0) -> 0.033661739 | W50: =IF(W28>0,W$28*AA51,0) -> 0 | X50: =IF(X28>0,X$28*AA51,0) -> 0.0010778038 | Y50: =IF(Y28>0,Y$28*AA51,0) -> 0 | Z50: =IF(Z28>0,Z$28*AA51,0) -> 0 | AA50: 0 | AB50: =IF(AB28>0,AB28*(SUMPRODUCT(AC$29:AF$29,AC51:AF51)),0) -> 0.016713763 | AC50: =IF(AC28>0,AC$28*AG51,0) -> 0 | AD50: =IF(AD28>0,AD$28*AG51,0) -> 0 | AE50: =IF(AE28>0,AE$28*AG51,0) -> 0 | AF50: =IF(AF28>0,AF$28*AG51,0) -> 0.010720253 | AG50: 0 | AH50: =IF(AH28>0,AH28*(SUMPRODUCT(AI$29:AL$29,AI51:AL51)),0) -> 0.013009446 | AI50: =IF(AI28>0,AI$28*AM51,0) -> 0 | AJ50: =IF(AJ28>0,AJ$28*AM51,0) -> 1.4668616e-05 | AK50: =IF(AK28>0,AK$28*AM51,0) -> 0 | AL50: =IF(AL28>0,AL$28*AM51,0) -> 0.0017361831 | AM50: 0 | AN50: =IF(AN28>0,AN28*(SUMPRODUCT(AO$29:AR$29,AO51:AR51)),0) -> 0.0098137084 | AO50: =IF(AO28>0,AO$28*AS51,0) -> 0 | AP50: =IF(AP28>0,AP$28*AS51,0) -> 0 | AQ50: =IF(AQ28>0,AQ$28*AS51,0) -> 0 | AR50: =IF(AR28>0,AR$28*AS51,0) -> 5.7278573e-05 | AS50: 0 | AT50: =IF(AT28>0,AT28*(SUMPRODUCT(AU$29:AX$29,AU51:AX51)),0) -> 0.0059500689 | AU50: =IF(AU28>0,AU$28*AY51,0) -> 0 | AV50: =IF(AV28>0,AV$28*AY51,0) -> 0 | AW50: =IF(AW28>0,AW$28*AY51,0) -> 0 | AX50: =IF(AX28>0,AX$28*AY51,0) -> 0 | AY50: 0 | AZ50: =IF(AZ28>0,AZ28*(SUMPRODUCT(BA$29:BD$29,BA51:BD51)),0) -> 0.016751141 | BA50: =IF(BA28>0,BA$28*BE51,0) -> 0 | BB50: =IF(BB28>0,BB$28*BE51,0) -> 0 | BC50: =IF(BC28>0,BC$28*BE51,0) -> 0 | BD50: =IF(BD28>0,BD$28*BE51,0) -> 0.010720253 | BE50: 0 | BF50: =IF(BF28>0,BF28*(SUMPRODUCT(BG$29:BJ$29,BG51:BJ51)),0) -> 0.014040609 | BG50: =IF(BG28>0,BG$28*BK51,0) -> 0 | BH50: =IF(BH28>0,BH$28*BK51,0) -> 1.3571841e-05 | BI50: =IF(BI28>0,BI$28*BK51,0) -> 0 | BJ50: =IF(BJ28>0,BJ$28*BK51,0) -> 0.0016063683 | BK50: 0 | BL50: =IF(BL28>0,BL28*(SUMPRODUCT(BM$29:BP$29,BM51:BP51)),0) -> 0.010291068 | BM50: =IF(BM28>0,BM$28*BQ51,0) -> 0 | BN50: =IF(BN28>0,BN$28*BQ51,0) -> 0 | BO50: =IF(BO28>0,BO$28*BQ51,0) -> 0 | BP50: =IF(BP28>0,BP$28*BQ51,0) -> 1.9789754e-05 | BQ50: 0 | BR50: =IF(BR28>0,BR28*(SUMPRODUCT(BS$29:BV$29,BS51:BV51)),0) -> 0.0056418991 | BS50: =IF(BS28>0,BS$28*BW51,0) -> 0 | BT50: =IF(BT28>0,BT$28*BW51,0) -> 0 | BU50: =IF(BU28>0,BU$28*BW51,0) -> 0 | BV50: =IF(BV28>0,BV$28*BW51,0) -> 0 | BW50: 0 | BX50: =IF(BX28>0,BX28*(SUMPRODUCT(BY$29:CB$29,BY51:CB51)),0) -> 0.016740262 | BY50: =IF(BY28>0,BY$28*CC51,0) -> 0 | BZ50: =IF(BZ28>0,BZ$28*CC51,0) -> 0 | CA50: =IF(CA28>0,CA$28*CC51,0) -> 0 | CB50: =IF(CB28>0,CB$28*CC51,0) -> 0.010720253 | CC50: 0 | CD50: =IF(CD28>0,CD28*(SUMPRODUCT(CE$29:CH$29,CE51:CH51)),0) -> 0.014018736 | CE50: =IF(CE28>0,CE$28*CI51,0) -> 0 | CF50: =IF(CF28>0,CF$28*CI51,0) -> 1.3571841e-05 | CG50: =IF(CG28>0,CG$28*CI51,0) -> 0 | CH50: =IF(CH28>0,CH$28*CI51,0) -> 0.0016063683 | CI50: 0 | CJ50: =IF(CJ28>0,CJ28*(SUMPRODUCT(CK$29:CN$29,CK51:CN51)),0) -> 0.010292596 | CK50: =IF(CK28>0,CK$28*CO51,0) -> 0 | CL50: =IF(CL28>0,CL$28*CO51,0) -> 0 | CM50: =IF(CM28>0,CM$28*CO51,0) -> 0 | CN50: =IF(CN28>0,CN$28*CO51,0) -> 1.9789754e-05 | CO50: 0 | CP50: =IF(CP28>0,CP28*(SUMPRODUCT(CQ$29:CT$29,CQ51:CT51)),0) -> 0.0062464823 | CQ50: =IF(CQ28>0,CQ$28*CU51,0) -> 0 | CR50: =IF(CR28>0,CR$28*CU51,0) -> 0 | CS50: =IF(CS28>0,CS$28*CU51,0) -> 0 | CT50: =IF(CT28>0,CT$28*CU51,0) -> 0 | CU50: 0
A51: 45 | C51: Total Direkt | D51: =SUM(D30:D50) -> 0.036448108 | E51: =SUM(E30:E50) -> 0.097255666 | F51: =SUM(F30:F50) -> 0.30012692 | G51: =SUM(G30:G50) -> 0.026637677 | H51: =SUM(H30:H50) -> 0.22941443 | I51: =SUM(I30:I50) -> 0.051243892 | J51: =SUM(J30:J50) -> 0.04541632 | K51: =SUM(K30:K50) -> 0.11317539 | ... CU51: =SUM(CU30:CU50) -> 0.00073720498
A52: 46 | B52: EF IPCC 2021 Indirekt (kg CO2e) | C52: Kleinwasserkraft | D52: =D$8*LCI!$E$4 -> 2.095853e-05 | E52: =E$8*LCI!$L$4 -> 0 | F52: =F$8*LCI!$S$4 -> 0 | G52: =G$8*LCI!$Z$4 -> 0 | H52: =H$8*LCI!$AG$4 -> 0 | I52: =I$8*LCI!$AN$4 -> 0 | J52: =J$8*LCI!$E$4 -> 2.2931875e-05 | K52: =K$8*LCI!$L$4 -> 0 | L52: =L$8*LCI!$S$4 -> 0 | M52: =M$8*LCI!$Z$4 -> 0 | N52: =N$8*LCI!$AG$4 -> 0 | O52: =O$8*LCI!$AN$4 -> 0 | P52: =P$8*LCI!$E$4 -> 1.3066064e-05 | Q52: =Q$8*LCI!$L$4 -> 0 | R52: =R$8*LCI!$S$4 -> 0 | S52: =S$8*LCI!$Z$4 -> 0 | T52: =T$8*LCI!$AG$4 -> 0 | U52: =U$8*LCI!$AN$4 -> 0 | V52: =V$8*LCI!$E$4 -> 2.0559062e-05 | W52: =W$8*LCI!$L$4 -> 0 | X52: =X$8*LCI!$S$4 -> 0 | Y52: =Y$8*LCI!$Z$4 -> 0 | Z52: =Z$8*LCI!$AG$4 -> 0 | AA52: =AA$8*LCI!$AN$4 -> 0 | AB52: =AB$8*LCI!$E$4 -> 3.8635993e-05 | AC52: =AC$8*LCI!$L$4 -> 0 | AD52: =AD$8*LCI!$S$4 -> 0 | AE52: =AE$8*LCI!$Z$4 -> 0 | AF52: =AF$8*LCI!$AG$4 -> 0 | AG52: =AG$8*LCI!$AN$4 -> 0 | AH52: =AH$8*LCI!$E$4 -> 4.4266336e-05 | AI52: =AI$8*LCI!$L$4 -> 0 | AJ52: =AJ$8*LCI!$S$4 -> 0 | AK52: =AK$8*LCI!$Z$4 -> 0 | AL52: =AL$8*LCI!$AG$4 -> 0 | AM52: =AM$8*LCI!$AN$4 -> 0 | AN52: =AN$8*LCI!$E$4 -> 4.533532e-05 | AO52: =AO$8*LCI!$L$4 -> 0 | AP52: =AP$8*LCI!$S$4 -> 0 | AQ52: =AQ$8*LCI!$Z$4 -> 0 | AR52: =AR$8*LCI!$AG$4 -> 0 | AS52: =AS$8*LCI!$AN$4 -> 0 | AT52: =AT$8*LCI!$E$4 -> 6.0762763e-05 | AU52: =AU$8*LCI!$L$4 -> 0 | AV52: =AV$8*LCI!$S$4 -> 0 | AW52: =AW$8*LCI!$Z$4 -> 0 | AX52: =AX$8*LCI!$AG$4 -> 0 | AY52: =AY$8*LCI!$AN$4 -> 0 | AZ52: =AZ$8*LCI!$E$4 -> 3.8710634e-05 | BA52: =BA$8*LCI!$L$4 -> 0 | BB52: =BB$8*LCI!$S$4 -> 0 | BC52: =BC$8*LCI!$Z$4 -> 0 | BD52: =BD$8*LCI!$AG$4 -> 0 | BE52: =BE$8*LCI!$AN$4 -> 0 | BF52: =BF$8*LCI!$E$4 -> 4.4323388e-05 | BG52: =BG$8*LCI!$L$4 -> 0 | BH52: =BH$8*LCI!$S$4 -> 0 | BI52: =BI$8*LCI!$Z$4 -> 0 | BJ52: =BJ$8*LCI!$AG$4 -> 0 | BK52: =BK$8*LCI!$AN$4 -> 0 | BL52: =BL$8*LCI!$E$4 -> 4.5381705e-05 | BM52: =BM$8*LCI!$L$4 -> 0 | BN52: =BN$8*LCI!$S$4 -> 0 | BO52: =BO$8*LCI!$Z$4 -> 0 | BP52: =BP$8*LCI!$AG$4 -> 0 | BQ52: =BQ$8*LCI!$AN$4 -> 0 | BR52: =BR$8*LCI!$E$4 -> 5.8087227e-05 | BS52: =BS$8*LCI!$L$4 -> 0 | BT52: =BT$8*LCI!$S$4 -> 0 | BU52: =BU$8*LCI!$Z$4 -> 0 | BV52: =BV$8*LCI!$AG$4 -> 0 | BW52: =BW$8*LCI!$AN$4 -> 0 | BX52: =BX$8*LCI!$E$4 -> 3.8688915e-05 | BY52: =BY$8*LCI!$L$4 -> 0 | BZ52: =BZ$8*LCI!$S$4 -> 0 | CA52: =CA$8*LCI!$Z$4 -> 0 | CB52: =CB$8*LCI!$AG$4 -> 0 | CC52: =CC$8*LCI!$AN$4 -> 0 | CD52: =CD$8*LCI!$E$4 -> 4.4261639e-05 | CE52: =CE$8*LCI!$L$4 -> 0 | CF52: =CF$8*LCI!$S$4 -> 0 | CG52: =CG$8*LCI!$Z$4 -> 0 | CH52: =CH$8*LCI!$AG$4 -> 0 | CI52: =CI$8*LCI!$AN$4 -> 0 | CJ52: =CJ$8*LCI!$E$4 -> 4.5387537e-05 | CK52: =CK$8*LCI!$L$4 -> 0 | CL52: =CL$8*LCI!$S$4 -> 0 | CM52: =CM$8*LCI!$Z$4 -> 0 | CN52: =CN$8*LCI!$AG$4 -> 0 | CO52: =CO$8*LCI!$AN$4 -> 0 | CP52: =CP$8*LCI!$E$4 -> 6.2888122e-05 | CQ52: =CQ$8*LCI!$L$4 -> 0 | CR52: =CR$8*LCI!$S$4 -> 0 | CS52: =CS$8*LCI!$Z$4 -> 0 | CT52: =CT$8*LCI!$AG$4 -> 0 | CU52: =CU$8*LCI!$AN$4 -> 0
A53: 47 | C53: Speicherkraftwerke | D53: =D$9*LCI!$E$5 -> 0.0007364244 | E53: =E$9*LCI!$L$5 -> 0 | F53: =F$9*LCI!$S$5 -> 0 | G53: =G$9*LCI!$Z$5 -> 0 | H53: =H$9*LCI!$AG$5 -> 0 | I53: =I$9*LCI!$AN$5 -> 0 | J53: =J$9*LCI!$E$5 -> 0.00071055737 | K53: =K$9*LCI!$L$5 -> 0 | L53: =L$9*LCI!$S$5 -> 0 | M53: =M$9*LCI!$Z$5 -> 0 | N53: =N$9*LCI!$AG$5 -> 0 | O53: =O$9*LCI!$AN$5 -> 0 | P53: =P$9*LCI!$E$5 -> 0.00077987246 | Q53: =Q$9*LCI!$L$5 -> 0 | R53: =R$9*LCI!$S$5 -> 0 | S53: =S$9*LCI!$Z$5 -> 0 | T53: =T$9*LCI!$AG$5 -> 0 | U53: =U$9*LCI!$AN$5 -> 0 | V53: =V$9*LCI!$E$5 -> 0.00081648783 | W53: =W$9*LCI!$L$5 -> 0 | X53: =X$9*LCI!$S$5 -> 0 | Y53: =Y$9*LCI!$Z$5 -> 0 | Z53: =Z$9*LCI!$AG$5 -> 0 | AA53: =AA$9*LCI!$AN$5 -> 0 | AB53: =AB$9*LCI!$E$5 -> 0.00074504003 | AC53: =AC$9*LCI!$L$5 -> 0 | AD53: =AD$9*LCI!$S$5 -> 0 | AE53: =AE$9*LCI!$Z$5 -> 0 | AF53: =AF$9*LCI!$AG$5 -> 0 | AG53: =AG$9*LCI!$AN$5 -> 0 | AH53: =AH$9*LCI!$E$5 -> 0.00068978678 | AI53: =AI$9*LCI!$L$5 -> 0 | AJ53: =AJ$9*LCI!$S$5 -> 0 | AK53: =AK$9*LCI!$Z$5 -> 0 | AL53: =AL$9*LCI!$AG$5 -> 0 | AM53: =AM$9*LCI!$AN$5 -> 0 | AN53: =AN$9*LCI!$E$5 -> 0.0006975569 | AO53: =AO$9*LCI!$L$5 -> 0 | AP53: =AP$9*LCI!$S$5 -> 0 | AQ53: =AQ$9*LCI!$Z$5 -> 0 | AR53: =AR$9*LCI!$AG$5 -> 0 | AS53: =AS$9*LCI!$AN$5 -> 0 | AT53: =AT$9*LCI!$E$5 -> 0.00068692873 | AU53: =AU$9*LCI!$L$5 -> 0 | AV53: =AV$9*LCI!$S$5 -> 0 | AW53: =AW$9*LCI!$Z$5 -> 0 | AX53: =AX$9*LCI!$AG$5 -> 0 | AY53: =AY$9*LCI!$AN$5 -> 0 | AZ53: =AZ$9*LCI!$E$5 -> 0.00074553442 | BA53: =BA$9*LCI!$L$5 -> 0 | BB53: =BB$9*LCI!$S$5 -> 0 | BC53: =BC$9*LCI!$Z$5 -> 0 | BD53: =BD$9*LCI!$AG$5 -> 0 | BE53: =BE$9*LCI!$AN$5 -> 0 | BF53: =BF$9*LCI!$E$5 -> 0.00068937162 | BG53: =BG$9*LCI!$L$5 -> 0 | BH53: =BH$9*LCI!$S$5 -> 0 | BI53: =BI$9*LCI!$Z$5 -> 0 | BJ53: =BJ$9*LCI!$AG$5 -> 0 | BK53: =BK$9*LCI!$AN$5 -> 0 | BL53: =BL$9*LCI!$E$5 -> 0.00069397187 | BM53: =BM$9*LCI!$L$5 -> 0 | BN53: =BN$9*LCI!$S$5 -> 0 | BO53: =BO$9*LCI!$Z$5 -> 0 | BP53: =BP$9*LCI!$AG$5 -> 0 | BQ53: =BQ$9*LCI!$AN$5 -> 0 | BR53: =BR$9*LCI!$E$5 -> 0.00065314343 | BS53: =BS$9*LCI!$L$5 -> 0 | BT53: =BT$9*LCI!$S$5 -> 0 | BU53: =BU$9*LCI!$Z$5 -> 0 | BV53: =BV$9*LCI!$AG$5 -> 0 | BW53: =BW$9*LCI!$AN$5 -> 0 | BX53: =BX$9*LCI!$E$5 -> 0.00074573747 | BY53: =BY$9*LCI!$L$5 -> 0 | BZ53: =BZ$9*LCI!$S$5 -> 0 | CA53: =CA$9*LCI!$Z$5 -> 0 | CB53: =CB$9*LCI!$AG$5 -> 0 | CC53: =CC$9*LCI!$AN$5 -> 0 | CD53: =CD$9*LCI!$E$5 -> 0.0006886264 | CE53: =CE$9*LCI!$L$5 -> 0 | CF53: =CF$9*LCI!$S$5 -> 0 | CG53: =CG$9*LCI!$Z$5 -> 0 | CH53: =CH$9*LCI!$AG$5 -> 0 | CI53: =CI$9*LCI!$AN$5 -> 0 | CJ53: =CJ$9*LCI!$E$5 -> 0.00069607292 | CK53: =CK$9*LCI!$L$5 -> 0 | CL53: =CL$9*LCI!$S$5 -> 0 | CM53: =CM$9*LCI!$Z$5 -> 0 | CN53: =CN$9*LCI!$AG$5 -> 0 | CO53: =CO$9*LCI!$AN$5 -> 0 | CP53: =CP$9*LCI!$E$5 -> 0.00070541397 | CQ53: =CQ$9*LCI!$L$5 -> 0 | CR53: =CR$9*LCI!$S$5 -> 0 | CS53: =CS$9*LCI!$Z$5 -> 0 | CT53: =CT$9*LCI!$AG$5 -> 0 | CU53: =CU$9*LCI!$AN$5 -> 0
A54: 48 | C54: Laufwasserkraft | D54: =D$10*LCI!$E$6 -> 0.00073272848 | E54: =E$10*LCI!$L$6 -> 0 | F54: =F$10*LCI!$S$6 -> 0 | G54: =G$10*LCI!$Z$6 -> 0 | H54: =H$10*LCI!$AG$6 -> 0 | I54: =I$10*LCI!$AN$6 -> 0 | J54: =J$10*LCI!$E$6 -> 0.00069987845 | K54: =K$10*LCI!$L$6 -> 0 | L54: =L$10*LCI!$S$6 -> 0 | M54: =M$10*LCI!$Z$6 -> 0 | N54: =N$10*LCI!$AG$6 -> 0 | O54: =O$10*LCI!$AN$6 -> 0 | P54: =P$10*LCI!$E$6 -> 0.00075276133 | Q54: =Q$10*LCI!$L$6 -> 0 | R54: =R$10*LCI!$S$6 -> 0 | S54: =S$10*LCI!$Z$6 -> 0 | T54: =T$10*LCI!$AG$6 -> 0 | U54: =U$10*LCI!$AN$6 -> 0 | V54: =V$10*LCI!$E$6 -> 0.00077756826 | W54: =W$10*LCI!$L$6 -> 0 | X54: =X$10*LCI!$S$6 -> 0 | Y54: =Y$10*LCI!$Z$6 -> 0 | Z54: =Z$10*LCI!$AG$6 -> 0 | AA54: =AA$10*LCI!$AN$6 -> 0 | AB54: =AB$10*LCI!$E$6 -> 0.00072823195 | AC54: =AC$10*LCI!$L$6 -> 0 | AD54: =AD$10*LCI!$S$6 -> 0 | AE54: =AE$10*LCI!$Z$6 -> 0 | AF54: =AF$10*LCI!$AG$6 -> 0 | AG54: =AG$10*LCI!$AN$6 -> 0 | AH54: =AH$10*LCI!$E$6 -> 0.00066273517 | AI54: =AI$10*LCI!$L$6 -> 0 | AJ54: =AJ$10*LCI!$S$6 -> 0 | AK54: =AK$10*LCI!$Z$6 -> 0 | AL54: =AL$10*LCI!$AG$6 -> 0 | AM54: =AM$10*LCI!$AN$6 -> 0 | AN54: =AN$10*LCI!$E$6 -> 0.00066142916 | AO54: =AO$10*LCI!$L$6 -> 0 | AP54: =AP$10*LCI!$S$6 -> 0 | AQ54: =AQ$10*LCI!$Z$6 -> 0 | AR54: =AR$10*LCI!$AG$6 -> 0 | AS54: =AS$10*LCI!$AN$6 -> 0 | AT54: =AT$10*LCI!$E$6 -> 0.00062252641 | AU54: =AU$10*LCI!$L$6 -> 0 | AV54: =AV$10*LCI!$S$6 -> 0 | AW54: =AW$10*LCI!$Z$6 -> 0 | AX54: =AX$10*LCI!$AG$6 -> 0 | AY54: =AY$10*LCI!$AN$6 -> 0 | AZ54: =AZ$10*LCI!$E$6 -> 0.00072963883 | BA54: =BA$10*LCI!$L$6 -> 0 | BB54: =BB$10*LCI!$S$6 -> 0 | BC54: =BC$10*LCI!$Z$6 -> 0 | BD54: =BD$10*LCI!$AG$6 -> 0 | BE54: =BE$10*LCI!$AN$6 -> 0 | BF54: =BF$10*LCI!$E$6 -> 0.00066358932 | BG54: =BG$10*LCI!$L$6 -> 0 | BH54: =BH$10*LCI!$S$6 -> 0 | BI54: =BI$10*LCI!$Z$6 -> 0 | BJ54: =BJ$10*LCI!$AG$6 -> 0 | BK54: =BK$10*LCI!$AN$6 -> 0 | BL54: =BL$10*LCI!$E$6 -> 0.00066210589 | BM54: =BM$10*LCI!$L$6 -> 0 | BN54: =BN$10*LCI!$S$6 -> 0 | BO54: =BO$10*LCI!$Z$6 -> 0 | BP54: =BP$10*LCI!$AG$6 -> 0 | BQ54: =BQ$10*LCI!$AN$6 -> 0 | BR54: =BR$10*LCI!$E$6 -> 0.00059511502 | BS54: =BS$10*LCI!$L$6 -> 0 | BT54: =BT$10*LCI!$S$6 -> 0 | BU54: =BU$10*LCI!$Z$6 -> 0 | BV54: =BV$10*LCI!$AG$6 -> 0 | BW54: =BW$10*LCI!$AN$6 -> 0 | BX54: =BX$10*LCI!$E$6 -> 0.00072922946 | BY54: =BY$10*LCI!$L$6 -> 0 | BZ54: =BZ$10*LCI!$S$6 -> 0 | CA54: =CA$10*LCI!$Z$6 -> 0 | CB54: =CB$10*LCI!$AG$6 -> 0 | CC54: =CC$10*LCI!$AN$6 -> 0 | CD54: =CD$10*LCI!$E$6 -> 0.00066266484 | CE54: =CE$10*LCI!$L$6 -> 0 | CF54: =CF$10*LCI!$S$6 -> 0 | CG54: =CG$10*LCI!$Z$6 -> 0 | CH54: =CH$10*LCI!$AG$6 -> 0 | CI54: =CI$10*LCI!$AN$6 -> 0 | CJ54: =CJ$10*LCI!$E$6 -> 0.00066219098 | CK54: =CK$10*LCI!$L$6 -> 0 | CL54: =CL$10*LCI!$S$6 -> 0 | CM54: =CM$10*LCI!$Z$6 -> 0 | CN54: =CN$10*LCI!$AG$6 -> 0 | CO54: =CO$10*LCI!$AN$6 -> 0 | CP54: =CP$10*LCI!$E$6 -> 0.00064430113 | CQ54: =CQ$10*LCI!$L$6 -> 0 | CR54: =CR$10*LCI!$S$6 -> 0 | CS54: =CS$10*LCI!$Z$6 -> 0 | CT54: =CT$10*LCI!$AG$6 -> 0 | CU54: =CU$10*LCI!$AN$6 -> 0
A55: 49 | C55: Pumpspeicher | D55: =D$11*(LCI!$E$7+1.419*SUM(D52:D54,D56:D72)) -> 0.0016208181 | E55: =E$11*(LCI!$L$7+1.447*SUM(E52:E54,E56:E72)) -> 0 | F55: =F$11*(LCI!$S$7+1.523*SUM(F52:F54,F56:F72)) -> 0 | G55: =G$11*(LCI!$Z$7+1.357*SUM(G52:G54,G56:G72)) -> 0 | H55: =H$11*(LCI!$AG$7+1.396*SUM(H52:H54,H56:H72)) -> 0 | I55: =I$11*(LCI!$AN$7+1.25*SUM(I52:I54,I56:I72)) -> 0 | J55: =J$11*(LCI!$E$7+1.419*SUM(J52:J54,J56:J72)) -> 0.0011333796 | K55: =K$11*(LCI!$L$7+1.447*SUM(K52:K54,K56:K72)) -> 0 | L55: =L$11*(LCI!$S$7+1.523*SUM(L52:L54,L56:L72)) -> 0 | M55: =M$11*(LCI!$Z$7+1.357*SUM(M52:M54,M56:M72)) -> 0 | N55: =N$11*(LCI!$AG$7+1.396*SUM(N52:N54,N56:N72)) -> 0 | O55: =O$11*(LCI!$AN$7+1.25*SUM(O52:O54,O56:O72)) -> 0 | P55: =P$11*(LCI!$E$7+1.419*SUM(P52:P54,P56:P72)) -> 0.0011606215 | Q55: =Q$11*(LCI!$L$7+1.447*SUM(Q52:Q54,Q56:Q72)) -> 0 | R55: =R$11*(LCI!$S$7+1.523*SUM(R52:R54,R56:R72)) -> 0 | S55: =S$11*(LCI!$Z$7+1.357*SUM(S52:S54,S56:S72)) -> 0 | T55: =T$11*(LCI!$AG$7+1.396*SUM(T52:T54,T56:T72)) -> 0 | U55: =U$11*(LCI!$AN$7+1.25*SUM(U52:U54,U56:U72)) -> 0 | V55: =V$11*(LCI!$E$7+1.419*SUM(V52:V54,V56:V72)) -> 0.0012213984 | W55: =W$11*(LCI!$L$7+1.447*SUM(W52:W54,W56:W72)) -> 0 | X55: =X$11*(LCI!$S$7+1.523*SUM(X52:X54,X56:X72)) -> 0 | Y55: =Y$11*(LCI!$Z$7+1.357*SUM(Y52:Y54,Y56:Y72)) -> 0 | Z55: =Z$11*(LCI!$AG$7+1.396*SUM(Z52:Z54,Z56:Z72)) -> 0 | AA55: =AA$11*(LCI!$AN$7+1.25*SUM(AA52:AA54,AA56:AA72)) -> 0 | AB55: =AB$11*(LCI!$E$7+1.419*SUM(AB52:AB54,AB56:AB72)) -> 0.0013003287 | AC55: =AC$11*(LCI!$L$7+1.447*SUM(AC52:AC54,AC56:AC72)) -> 0 | AD55: =AD$11*(LCI!$S$7+1.523*SUM(AD52:AD54,AD56:AD72)) -> 0 | AE55: =AE$11*(LCI!$Z$7+1.357*SUM(AE52:AE54,AE56:AE72)) -> 0 | AF55: =AF$11*(LCI!$AG$7+1.396*SUM(AF52:AF54,AF56:AF72)) -> 0 | AG55: =AG$11*(LCI!$AN$7+1.25*SUM(AG52:AG54,AG56:AG72)) -> 0 | AH55: =AH$11*(LCI!$E$7+1.419*SUM(AH52:AH54,AH56:AH72)) -> 0.0015348089 | AI55: =AI$11*(LCI!$L$7+1.447*SUM(AI52:AI54,AI56:AI72)) -> 0 | AJ55: =AJ$11*(LCI!$S$7+1.523*SUM(AJ52:AJ54,AJ56:AJ72)) -> 0 | AK55: =AK$11*(LCI!$Z$7+1.357*SUM(AK52:AK54,AK56:AK72)) -> 0 | AL55: =AL$11*(LCI!$AG$7+1.396*SUM(AL52:AL54,AL56:AL72)) -> 0 | AM55: =AM$11*(LCI!$AN$7+1.25*SUM(AM52:AM54,AM56:AM72)) -> 0 | AN55: =AN$11*(LCI!$E$7+1.419*SUM(AN52:AN54,AN56:AN72)) -> 0.0019769892 | AO55: =AO$11*(LCI!$L$7+1.447*SUM(AO52:AO54,AO56:AO72)) -> 0 | AP55: =AP$11*(LCI!$S$7+1.523*SUM(AP52:AP54,AP56:AP72)) -> 0 | AQ55: =AQ$11*(LCI!$Z$7+1.357*SUM(AQ52:AQ54,AQ56:AQ72)) -> 0 | AR55: =AR$11*(LCI!$AG$7+1.396*SUM(AR52:AR54,AR56:AR72)) -> 0 | AS55: =AS$11*(LCI!$AN$7+1.25*SUM(AS52:AS54,AS56:AS72)) -> 0 | AT55: =AT$11*(LCI!$E$7+1.419*SUM(AT52:AT54,AT56:AT72)) -> 0.0019153042 | AU55: =AU$11*(LCI!$L$7+1.447*SUM(AU52:AU54,AU56:AU72)) -> 0 | AV55: =AV$11*(LCI!$S$7+1.523*SUM(AV52:AV54,AV56:AV72)) -> 0 | AW55: =AW$11*(LCI!$Z$7+1.357*SUM(AW52:AW54,AW56:AW72)) -> 0 | AX55: =AX$11*(LCI!$AG$7+1.396*SUM(AX52:AX54,AX56:AX72)) -> 0 | AY55: =AY$11*(LCI!$AN$7+1.25*SUM(AY52:AY54,AY56:AY72)) -> 0 | AZ55: =AZ$11*(LCI!$E$7+1.419*SUM(AZ52:AZ54,AZ56:AZ72)) -> 0.0012741801 | BA55: =BA$11*(LCI!$L$7+1.447*SUM(BA52:BA54,BA56:BA72)) -> 0 | BB55: =BB$11*(LCI!$S$7+1.523*SUM(BB52:BB54,BB56:BB72)) -> 0 | BC55: =BC$11*(LCI!$Z$7+1.357*SUM(BC52:BC54,BC56:BC72)) -> 0 | BD55: =BD$11*(LCI!$AG$7+1.396*SUM(BD52:BD54,BD56:BD72)) -> 0 | BE55: =BE$11*(LCI!$AN$7+1.25*SUM(BE52:BE54,BE56:BE72)) -> 0 | BF55: =BF$11*(LCI!$E$7+1.419*SUM(BF52:BF54,BF56:BF72)) -> 0.0015066291 | BG55: =BG$11*(LCI!$L$7+1.447*SUM(BG52:BG54,BG56:BG72)) -> 0 | BH55: =BH$11*(LCI!$S$7+1.523*SUM(BH52:BH54,BH56:BH72)) -> 0 | BI55: =BI$11*(LCI!$Z$7+1.357*SUM(BI52:BI54,BI56:BI72)) -> 0 | BJ55: =BJ$11*(LCI!$AG$7+1.396*SUM(BJ52:BJ54,BJ56:BJ72)) -> 0 | BK55: =BK$11*(LCI!$AN$7+1.25*SUM(BK52:BK54,BK56:BK72)) -> 0 | BL55: =BL$11*(LCI!$E$7+1.419*SUM(BL52:BL54,BL56:BL72)) -> 0.0019441097 | BM55: =BM$11*(LCI!$L$7+1.447*SUM(BM52:BM54,BM56:BM72)) -> 0 | BN55: =BN$11*(LCI!$S$7+1.523*SUM(BN52:BN54,BN56:BN72)) -> 0 | BO55: =BO$11*(LCI!$Z$7+1.357*SUM(BO52:BO54,BO56:BO72)) -> 0 | BP55: =BP$11*(LCI!$AG$7+1.396*SUM(BP52:BP54,BP56:BP72)) -> 0 | BQ55: =BQ$11*(LCI!$AN$7+1.25*SUM(BQ52:BQ54,BQ56:BQ72)) -> 0 | BR55: =BR$11*(LCI!$E$7+1.419*SUM(BR52:BR54,BR56:BR72)) -> 0.0018546166 | BS55: =BS$11*(LCI!$L$7+1.447*SUM(BS52:BS54,BS56:BS72)) -> 0 | BT55: =BT$11*(LCI!$S$7+1.523*SUM(BT52:BT54,BT56:BT72)) -> 0 | BU55: =BU$11*(LCI!$Z$7+1.357*SUM(BU52:BU54,BU56:BU72)) -> 0 | BV55: =BV$11*(LCI!$AG$7+1.396*SUM(BV52:BV54,BV56:BV72)) -> 0 | BW55: =BW$11*(LCI!$AN$7+1.25*SUM(BW52:BW54,BW56:BW72)) -> 0 | BX55: =BX$11*(LCI!$E$7+1.419*SUM(BX52:BX54,BX56:BX72)) -> 0.0013300617 | BY55: =BY$11*(LCI!$L$7+1.447*SUM(BY52:BY54,BY56:BY72)) -> 0 | BZ55: =BZ$11*(LCI!$S$7+1.523*SUM(BZ52:BZ54,BZ56:BZ72)) -> 0 | CA55: =CA$11*(LCI!$Z$7+1.357*SUM(CA52:CA54,CA56:CA72)) -> 0 | CB55: =CB$11*(LCI!$AG$7+1.396*SUM(CB52:CB54,CB56:CB72)) -> 0 | CC55: =CC$11*(LCI!$AN$7+1.25*SUM(CC52:CC54,CC56:CC72)) -> 0 | CD55: =CD$11*(LCI!$E$7+1.419*SUM(CD52:CD54,CD56:CD72)) -> 0.0015498467 | CE55: =CE$11*(LCI!$L$7+1.447*SUM(CE52:CE54,CE56:CE72)) -> 0 | CF55: =CF$11*(LCI!$S$7+1.523*SUM(CF52:CF54,CF56:CF72)) -> 0 | CG55: =CG$11*(LCI!$Z$7+1.357*SUM(CG52:CG54,CG56:CG72)) -> 0 | CH55: =CH$11*(LCI!$AG$7+1.396*SUM(CH52:CH54,CH56:CH72)) -> 0 | CI55: =CI$11*(LCI!$AN$7+1.25*SUM(CI52:CI54,CI56:CI72)) -> 0 | CJ55: =CJ$11*(LCI!$E$7+1.419*SUM(CJ52:CJ54,CJ56:CJ72)) -> 0.0019741925 | CK55: =CK$11*(LCI!$L$7+1.447*SUM(CK52:CK54,CK56:CK72)) -> 0 | CL55: =CL$11*(LCI!$S$7+1.523*SUM(CL52:CL54,CL56:CL72)) -> 0 | CM55: =CM$11*(LCI!$Z$7+1.357*SUM(CM52:CM54,CM56:CM72)) -> 0 | CN55: =CN$11*(LCI!$AG$7+1.396*SUM(CN52:CN54,CN56:CN72)) -> 0 | CO55: =CO$11*(LCI!$AN$7+1.25*SUM(CO52:CO54,CO56:CO72)) -> 0 | CP55: =CP$11*(LCI!$E$7+1.419*SUM(CP52:CP54,CP56:CP72)) -> 0.0019900249 | CQ55: =CQ$11*(LCI!$L$7+1.447*SUM(CQ52:CQ54,CQ56:CQ72)) -> 0 | CR55: =CR$11*(LCI!$S$7+1.523*SUM(CR52:CR54,CR56:CR72)) -> 0 | CS55: =CS$11*(LCI!$Z$7+1.357*SUM(CS52:CS54,CS56:CS72)) -> 0 | CT55: =CT$11*(LCI!$AG$7+1.396*SUM(CT52:CT54,CT56:CT72)) -> 0 | CU55: =CU$11*(LCI!$AN$7+1.25*SUM(CU52:CU54,CU56:CU72)) -> 0
A56: 50 | C56: Wasserkraft (unspezifisch) | D56: =D$12*LCI!$E$8 -> 0 | E56: =E$12*LCI!$L$8 -> 0.0021525205 | F56: =F$12*LCI!$S$8 -> 0.00014728872 | G56: =G$12*LCI!$Z$8 -> 0.00039276728 | H56: =H$12*LCI!$AG$8 -> 0.00047611629 | I56: =I$12*LCI!$AN$8 -> 0.00030986863 | J56: =J$12*LCI!$E$8 -> 0 | K56: =K$12*LCI!$L$8 -> 0.0019145285 | L56: =L$12*LCI!$S$8 -> 0.00013590271 | M56: =M$12*LCI!$Z$8 -> 0.00045206763 | N56: =N$12*LCI!$AG$8 -> 0.00044813273 | O56: =O$12*LCI!$AN$8 -> 0.00025348467 | P56: =P$12*LCI!$E$8 -> 0 | Q56: =Q$12*LCI!$L$8 -> 0.0017532273 | R56: =R$12*LCI!$S$8 -> 0.00013124672 | S56: =S$12*LCI!$Z$8 -> 0.00047638293 | T56: =T$12*LCI!$AG$8 -> 0.00045211596 | U56: =U$12*LCI!$AN$8 -> 0.00021444331 | V56: =V$12*LCI!$E$8 -> 0 | W56: =W$12*LCI!$L$8 -> 0.0017483739 | X56: =X$12*LCI!$S$8 -> 0.00013382225 | Y56: =Y$12*LCI!$Z$8 -> 0.00046892226 | Z56: =Z$12*LCI!$AG$8 -> 0.00046940767 | AA56: =AA$12*LCI!$AN$8 -> 0.00016391154 | AB56: =AB$12*LCI!$E$8 -> 0 | AC56: =AC$12*LCI!$L$8 -> 0.002135656 | AD56: =AD$12*LCI!$S$8 -> 0.00017184595 | AE56: =AE$12*LCI!$Z$8 -> 0.00039203249 | AF56: =AF$12*LCI!$AG$8 -> 0.00047587418 | AG56: =AG$12*LCI!$AN$8 -> 0.00030986863 | AH56: =AH$12*LCI!$E$8 -> 0 | AI56: =AI$12*LCI!$L$8 -> 0.0017590126 | AJ56: =AJ$12*LCI!$S$8 -> 0.00013661518 | AK56: =AK$12*LCI!$Z$8 -> 0.00038818472 | AL56: =AL$12*LCI!$AG$8 -> 0.00041875141 | AM56: =AM$12*LCI!$AN$8 -> 0.00024682941 | AN56: =AN$12*LCI!$E$8 -> 0 | AO56: =AO$12*LCI!$L$8 -> 0.001766749 | AP56: =AP$12*LCI!$S$8 -> 0.00011460646 | AQ56: =AQ$12*LCI!$Z$8 -> 0.00038420159 | AR56: =AR$12*LCI!$AG$8 -> 0.00042447997 | AS56: =AS$12*LCI!$AN$8 -> 0.00020506898 | AT56: =AT$12*LCI!$E$8 -> 0 | AU56: =AU$12*LCI!$L$8 -> 0.0016663286 | AV56: =AV$12*LCI!$S$8 -> 8.1584571e-05 | AW56: =AW$12*LCI!$Z$8 -> 0.00032525561 | AX56: =AX$12*LCI!$AG$8 -> 0.00038166076 | AY56: =AY$12*LCI!$AN$8 -> 0.00016294466 | AZ56: =AZ$12*LCI!$E$8 -> 0 | BA56: =BA$12*LCI!$L$8 -> 0.002135656 | BB56: =BB$12*LCI!$S$8 -> 0.00017184595 | BC56: =BC$12*LCI!$Z$8 -> 0.00039203249 | BD56: =BD$12*LCI!$AG$8 -> 0.00047587418 | BE56: =BE$12*LCI!$AN$8 -> 0.00030986863 | BF56: =BF$12*LCI!$E$8 -> 0 | BG56: =BG$12*LCI!$L$8 -> 0.0017590126 | BH56: =BH$12*LCI!$S$8 -> 0.00013661518 | BI56: =BI$12*LCI!$Z$8 -> 0.00038818472 | BJ56: =BJ$12*LCI!$AG$8 -> 0.00041875141 | BK56: =BK$12*LCI!$AN$8 -> 0.00024932111 | BL56: =BL$12*LCI!$E$8 -> 0 | BM56: =BM$12*LCI!$L$8 -> 0.001766749 | BN56: =BN$12*LCI!$S$8 -> 0.00011460646 | BO56: =BO$12*LCI!$Z$8 -> 0.00038420159 | BP56: =BP$12*LCI!$AG$8 -> 0.00042447997 | BQ56: =BQ$12*LCI!$AN$8 -> 0.00020852093 | BR56: =BR$12*LCI!$E$8 -> 0 | BS56: =BS$12*LCI!$L$8 -> 0.0016663286 | BT56: =BT$12*LCI!$S$8 -> 8.1584571e-05 | BU56: =BU$12*LCI!$Z$8 -> 0.00032525561 | BV56: =BV$12*LCI!$AG$8 -> 0.00038166076 | BW56: =BW$12*LCI!$AN$8 -> 0.0001640343 | BX56: =BX$12*LCI!$E$8 -> 0 | BY56: =BY$12*LCI!$L$8 -> 0.002135656 | BZ56: =BZ$12*LCI!$S$8 -> 0.00017184595 | CA56: =CA$12*LCI!$Z$8 -> 0.00039203249 | CB56: =CB$12*LCI!$AG$8 -> 0.00047587418 | CC56: =CC$12*LCI!$AN$8 -> 0.00030986863 | CD56: =CD$12*LCI!$E$8 -> 0 | CE56: =CE$12*LCI!$L$8 -> 0.0017590126 | CF56: =CF$12*LCI!$S$8 -> 0.00013661518 | CG56: =CG$12*LCI!$Z$8 -> 0.00038818472 | CH56: =CH$12*LCI!$AG$8 -> 0.00041875141 | CI56: =CI$12*LCI!$AN$8 -> 0.00024932111 | CJ56: =CJ$12*LCI!$E$8 -> 0 | CK56: =CK$12*LCI!$L$8 -> 0.001766749 | CL56: =CL$12*LCI!$S$8 -> 0.00011460646 | CM56: =CM$12*LCI!$Z$8 -> 0.00038420159 | CN56: =CN$12*LCI!$AG$8 -> 0.00042447997 | CO56: =CO$12*LCI!$AN$8 -> 0.00020852093 | CP56: =CP$12*LCI!$E$8 -> 0 | CQ56: =CQ$12*LCI!$L$8 -> 0.0016663286 | CR56: =CR$12*LCI!$S$8 -> 8.1584571e-05 | CS56: =CS$12*LCI!$Z$8 -> 0.00032525561 | CT56: =CT$12*LCI!$AG$8 -> 0.00038166076 | CU56: =CU$12*LCI!$AN$8 -> 0.0001640343
A57: 51 | C57: Kernkraft | D57: =D$13*LCI!$E$9 -> 0.0031419268 | E57: =E$13*LCI!$L$9 -> 0 | F57: =F$13*LCI!$S$9 -> 0 | G57: =G$13*LCI!$Z$9 -> 0.0037387433 | H57: =H$13*LCI!$AG$9 -> 0 | I57: =I$13*LCI!$AN$9 -> 0.0010696212 | J57: =J$13*LCI!$E$9 -> 0.0025916715 | K57: =K$13*LCI!$L$9 -> 0 | L57: =L$13*LCI!$S$9 -> 0 | M57: =M$13*LCI!$Z$9 -> 0.0024781481 | N57: =N$13*LCI!$AG$9 -> 0 | O57: =O$13*LCI!$AN$9 -> 0.00083978758 | P57: =P$13*LCI!$E$9 -> 0.0014838029 | Q57: =Q$13*LCI!$L$9 -> 0 | R57: =R$13*LCI!$S$9 -> 0 | S57: =S$13*LCI!$Z$9 -> 0.0011512398 | T57: =T$13*LCI!$AG$9 -> 0 | U57: =U$13*LCI!$AN$9 -> 0.0006806463 | V57: =V$13*LCI!$E$9 -> 0 | W57: =W$13*LCI!$L$9 -> 0 | X57: =X$13*LCI!$S$9 -> 0 | Y57: =Y$13*LCI!$Z$9 -> 0.00011878834 | Z57: =Z$13*LCI!$AG$9 -> 0 | AA57: =AA$13*LCI!$AN$9 -> 0.00047466753 | AB57: =AB$13*LCI!$E$9 -> 0.0030096938 | AC57: =AC$13*LCI!$L$9 -> 0 | AD57: =AD$13*LCI!$S$9 -> 0 | AE57: =AE$13*LCI!$Z$9 -> 0.0033831379 | AF57: =AF$13*LCI!$AG$9 -> 0 | AG57: =AG$13*LCI!$AN$9 -> 0.0010696212 | AH57: =AH$13*LCI!$E$9 -> 0.0022965103 | AI57: =AI$13*LCI!$L$9 -> 0 | AJ57: =AJ$13*LCI!$S$9 -> 0 | AK57: =AK$13*LCI!$Z$9 -> 0.0017682559 | AL57: =AL$13*LCI!$AG$9 -> 0 | AM57: =AM$13*LCI!$AN$9 -> 0.00072787783 | AN57: =AN$13*LCI!$E$9 -> 0.0011403355 | AO57: =AO$13*LCI!$L$9 -> 0 | AP57: =AP$13*LCI!$S$9 -> 0 | AQ57: =AQ$13*LCI!$Z$9 -> 0.00065935711 | AR57: =AR$13*LCI!$AG$9 -> 0 | AS57: =AS$13*LCI!$AN$9 -> 0.00050148945 | AT57: =AT$13*LCI!$E$9 -> 0 | AU57: =AU$13*LCI!$L$9 -> 0 | AV57: =AV$13*LCI!$S$9 -> 0 | AW57: =AW$13*LCI!$Z$9 -> 4.9267138e-05 | AX57: =AX$13*LCI!$AG$9 -> 0 | AY57: =AY$13*LCI!$AN$9 -> 0.00024580519 | AZ57: =AZ$13*LCI!$E$9 -> 0.0030124957 | BA57: =BA$13*LCI!$L$9 -> 0 | BB57: =BB$13*LCI!$S$9 -> 0 | BC57: =BC$13*LCI!$Z$9 -> 0.0033831379 | BD57: =BD$13*LCI!$AG$9 -> 0 | BE57: =BE$13*LCI!$AN$9 -> 0.0010696212 | BF57: =BF$13*LCI!$E$9 -> 0.0023105933 | BG57: =BG$13*LCI!$L$9 -> 0 | BH57: =BH$13*LCI!$S$9 -> 0 | BI57: =BI$13*LCI!$Z$9 -> 0.0017682559 | BJ57: =BJ$13*LCI!$AG$9 -> 0 | BK57: =BK$13*LCI!$AN$9 -> 0.00084983661 | BL57: =BL$13*LCI!$E$9 -> 0.0011569059 | BM57: =BM$13*LCI!$L$9 -> 0 | BN57: =BN$13*LCI!$S$9 -> 0 | BO57: =BO$13*LCI!$Z$9 -> 0.00065935711 | BP57: =BP$13*LCI!$AG$9 -> 0 | BQ57: =BQ$13*LCI!$AN$9 -> 0.00070173394 | BR57: =BR$13*LCI!$E$9 -> 0 | BS57: =BS$13*LCI!$L$9 -> 0 | BT57: =BT$13*LCI!$S$9 -> 0 | BU57: =BU$13*LCI!$Z$9 -> 4.9267138e-05 | BV57: =BV$13*LCI!$AG$9 -> 0 | BW57: =BW$13*LCI!$AN$9 -> 0.00050675123 | BX57: =BX$13*LCI!$E$9 -> 0.0029704888 | BY57: =BY$13*LCI!$L$9 -> 0 | BZ57: =BZ$13*LCI!$S$9 -> 0 | CA57: =CA$13*LCI!$Z$9 -> 0.0033831379 | CB57: =CB$13*LCI!$AG$9 -> 0 | CC57: =CC$13*LCI!$AN$9 -> 0.0010696212 | CD57: =CD$13*LCI!$E$9 -> 0.002294271 | CE57: =CE$13*LCI!$L$9 -> 0 | CF57: =CF$13*LCI!$S$9 -> 0 | CG57: =CG$13*LCI!$Z$9 -> 0.0017682559 | CH57: =CH$13*LCI!$AG$9 -> 0 | CI57: =CI$13*LCI!$AN$9 -> 0.00084983661 | CJ57: =CJ$13*LCI!$E$9 -> 0.0011372913 | CK57: =CK$13*LCI!$L$9 -> 0 | CL57: =CL$13*LCI!$S$9 -> 0 | CM57: =CM$13*LCI!$Z$9 -> 0.00065935711 | CN57: =CN$13*LCI!$AG$9 -> 0 | CO57: =CO$13*LCI!$AN$9 -> 0.00070173394 | CP57: =CP$13*LCI!$E$9 -> 0 | CQ57: =CQ$13*LCI!$L$9 -> 0 | CR57: =CR$13*LCI!$S$9 -> 0 | CS57: =CS$13*LCI!$Z$9 -> 4.9267138e-05 | CT57: =CT$13*LCI!$AG$9 -> 0 | CU57: =CU$13*LCI!$AN$9 -> 0.00050675123
A58: 52 | C58: Kohle | D58: =D$14*LCI!$E$10 -> 0 | E58: =E$14*LCI!$L$10 -> 0 | F58: =F$14*LCI!$S$10 -> 0.015348471 | G58: =G$14*LCI!$Z$10 -> 0 | H58: =H$14*LCI!$AG$10 -> 0 | I58: =I$14*LCI!$AN$10 -> 9.4370009e-05 | J58: =J$14*LCI!$E$10 -> 0 | K58: =K$14*LCI!$L$10 -> 0 | L58: =L$14*LCI!$S$10 -> 0.0084541654 | M58: =M$14*LCI!$Z$10 -> 0 | N58: =N$14*LCI!$AG$10 -> 0 | O58: =O$14*LCI!$AN$10 -> 0.00010752015 | P58: =P$14*LCI!$E$10 -> 0 | Q58: =Q$14*LCI!$L$10 -> 0 | R58: =R$14*LCI!$S$10 -> 0 | S58: =S$14*LCI!$Z$10 -> 0 | T58: =T$14*LCI!$AG$10 -> 0 | U58: =U$14*LCI!$AN$10 -> 0.00011662557 | V58: =V$14*LCI!$E$10 -> 0 | W58: =W$14*LCI!$L$10 -> 0 | X58: =X$14*LCI!$S$10 -> 0 | Y58: =Y$14*LCI!$Z$10 -> 0 | Z58: =Z$14*LCI!$AG$10 -> 0 | AA58: =AA$14*LCI!$AN$10 -> 0.00012841084 | AB58: =AB$14*LCI!$E$10 -> 0 | AC58: =AC$14*LCI!$L$10 -> 0 | AD58: =AD$14*LCI!$S$10 -> 0.010824324 | AE58: =AE$14*LCI!$Z$10 -> 0 | AF58: =AF$14*LCI!$AG$10 -> 0 | AG58: =AG$14*LCI!$AN$10 -> 9.4370009e-05 | AH58: =AH$14*LCI!$E$10 -> 0 | AI58: =AI$14*LCI!$L$10 -> 0 | AJ58: =AJ$14*LCI!$S$10 -> 0.0014534122 | AK58: =AK$14*LCI!$Z$10 -> 0 | AL58: =AL$14*LCI!$AG$10 -> 0 | AM58: =AM$14*LCI!$AN$10 -> 4.4248975e-05 | AN58: =AN$14*LCI!$E$10 -> 0 | AO58: =AO$14*LCI!$L$10 -> 0 | AP58: =AP$14*LCI!$S$10 -> 0 | AQ58: =AQ$14*LCI!$Z$10 -> 0 | AR58: =AR$14*LCI!$AG$10 -> 0 | AS58: =AS$14*LCI!$AN$10 -> 1.1046221e-05 | AT58: =AT$14*LCI!$E$10 -> 0 | AU58: =AU$14*LCI!$L$10 -> 0 | AV58: =AV$14*LCI!$S$10 -> 0 | AW58: =AW$14*LCI!$Z$10 -> 0 | AX58: =AX$14*LCI!$AG$10 -> 0 | AY58: =AY$14*LCI!$AN$10 -> 0 | AZ58: =AZ$14*LCI!$E$10 -> 0 | BA58: =BA$14*LCI!$L$10 -> 0 | BB58: =BB$14*LCI!$S$10 -> 0.010824324 | BC58: =BC$14*LCI!$Z$10 -> 0 | BD58: =BD$14*LCI!$AG$10 -> 0 | BE58: =BE$14*LCI!$AN$10 -> 9.4370009e-05 | BF58: =BF$14*LCI!$E$10 -> 0 | BG58: =BG$14*LCI!$L$10 -> 0 | BH58: =BH$14*LCI!$S$10 -> 0.0014534122 | BI58: =BI$14*LCI!$Z$10 -> 0 | BJ58: =BJ$14*LCI!$AG$10 -> 0 | BK58: =BK$14*LCI!$AN$10 -> 3.7991126e-05 | BL58: =BL$14*LCI!$E$10 -> 0 | BM58: =BM$14*LCI!$L$10 -> 0 | BN58: =BN$14*LCI!$S$10 -> 0 | BO58: =BO$14*LCI!$Z$10 -> 0 | BP58: =BP$14*LCI!$AG$10 -> 0 | BQ58: =BQ$14*LCI!$AN$10 -> 0 | BR58: =BR$14*LCI!$E$10 -> 0 | BS58: =BS$14*LCI!$L$10 -> 0 | BT58: =BT$14*LCI!$S$10 -> 0 | BU58: =BU$14*LCI!$Z$10 -> 0 | BV58: =BV$14*LCI!$AG$10 -> 0 | BW58: =BW$14*LCI!$AN$10 -> 0 | BX58: =BX$14*LCI!$E$10 -> 0 | BY58: =BY$14*LCI!$L$10 -> 0 | BZ58: =BZ$14*LCI!$S$10 -> 0.010824324 | CA58: =CA$14*LCI!$Z$10 -> 0 | CB58: =CB$14*LCI!$AG$10 -> 0 | CC58: =CC$14*LCI!$AN$10 -> 9.4370009e-05 | CD58: =CD$14*LCI!$E$10 -> 0 | CE58: =CE$14*LCI!$L$10 -> 0 | CF58: =CF$14*LCI!$S$10 -> 0.0014534122 | CG58: =CG$14*LCI!$Z$10 -> 0 | CH58: =CH$14*LCI!$AG$10 -> 0 | CI58: =CI$14*LCI!$AN$10 -> 3.7991126e-05 | CJ58: =CJ$14*LCI!$E$10 -> 0 | CK58: =CK$14*LCI!$L$10 -> 0 | CL58: =CL$14*LCI!$S$10 -> 0 | CM58: =CM$14*LCI!$Z$10 -> 0 | CN58: =CN$14*LCI!$AG$10 -> 0 | CO58: =CO$14*LCI!$AN$10 -> 0 | CP58: =CP$14*LCI!$E$10 -> 0 | CQ58: =CQ$14*LCI!$L$10 -> 0 | CR58: =CR$14*LCI!$S$10 -> 0 | CS58: =CS$14*LCI!$Z$10 -> 0 | CT58: =CT$14*LCI!$AG$10 -> 0 | CU58: =CU$14*LCI!$AN$10 -> 0
A59: 53 | C59: Gas | D59: =D$15*LCI!$E$11 -> 0 | E59: =E$15*LCI!$L$11 -> 0.012901034 | F59: =F$15*LCI!$S$11 -> 0.021054284 | G59: =G$15*LCI!$Z$11 -> 0.0042252852 | H59: =H$15*LCI!$AG$11 -> 0.04045312 | I59: =I$15*LCI!$AN$11 -> 0.012817218 | J59: =J$15*LCI!$E$11 -> 0 | K59: =K$15*LCI!$L$11 -> 0.018393142 | L59: =L$15*LCI!$S$11 -> 0.025183489 | M59: =M$15*LCI!$Z$11 -> 0.010653728 | N59: =N$15*LCI!$AG$11 -> 0.047799758 | O59: =O$15*LCI!$AN$11 -> 0.0085695293 | P59: =P$15*LCI!$E$11 -> 0 | Q59: =Q$15*LCI!$L$11 -> 0.023679395 | R59: =R$15*LCI!$S$11 -> 0.029833626 | S59: =S$15*LCI!$Z$11 -> 0.019053796 | T59: =T$15*LCI!$AG$11 -> 0.048239541 | U59: =U$15*LCI!$AN$11 -> 0.0056283466 | V59: =V$15*LCI!$E$11 -> 0 | W59: =W$15*LCI!$L$11 -> 0.020737805 | X59: =X$15*LCI!$S$11 -> 0.020140054 | Y59: =Y$15*LCI!$Z$11 -> 0.018443076 | Z59: =Z$15*LCI!$AG$11 -> 0.029390044 | AA59: =AA$15*LCI!$AN$11 -> 0.001821533 | AB59: =AB$15*LCI!$E$11 -> 0 | AC59: =AC$15*LCI!$L$11 -> 0.0073990432 | AD59: =AD$15*LCI!$S$11 -> 0.015166413 | AE59: =AE$15*LCI!$Z$11 -> 0.0025920777 | AF59: =AF$15*LCI!$AG$11 -> 0.030454848 | AG59: =AG$15*LCI!$AN$11 -> 0.012817218 | AH59: =AH$15*LCI!$E$11 -> 0 | AI59: =AI$15*LCI!$L$11 -> 0.010772051 | AJ59: =AJ$15*LCI!$S$11 -> 0.015176121 | AK59: =AK$15*LCI!$Z$11 -> 0.0052233861 | AL59: =AL$15*LCI!$AG$11 -> 0.033565214 | AM59: =AM$15*LCI!$AN$11 -> 0.00584854 | AN59: =AN$15*LCI!$E$11 -> 0 | AO59: =AO$15*LCI!$L$11 -> 0.0089568626 | AP59: =AP$15*LCI!$S$11 -> 0.0096379515 | AQ59: =AQ$15*LCI!$Z$11 -> 0.0053984775 | AR59: =AR$15*LCI!$AG$11 -> 0.028045162 | AS59: =AS$15*LCI!$AN$11 -> 0.0012321289 | AT59: =AT$15*LCI!$E$11 -> 0 | AU59: =AU$15*LCI!$L$11 -> 0.0072368274 | AV59: =AV$15*LCI!$S$11 -> 0.0052464873 | AW59: =AW$15*LCI!$Z$11 -> 0.004142222 | AX59: =AX$15*LCI!$AG$11 -> 0.014358169 | AY59: =AY$15*LCI!$AN$11 -> 0.00047537272 | AZ59: =AZ$15*LCI!$E$11 -> 0 | BA59: =BA$15*LCI!$L$11 -> 0.0073990432 | BB59: =BB$15*LCI!$S$11 -> 0.015166413 | BC59: =BC$15*LCI!$Z$11 -> 0.0025920777 | BD59: =BD$15*LCI!$AG$11 -> 0.030454848 | BE59: =BE$15*LCI!$AN$11 -> 0.012817218 | BF59: =BF$15*LCI!$E$11 -> 0 | BG59: =BG$15*LCI!$L$11 -> 0.010772051 | BH59: =BH$15*LCI!$S$11 -> 0.015176121 | BI59: =BI$15*LCI!$Z$11 -> 0.0052233861 | BJ59: =BJ$15*LCI!$AG$11 -> 0.033565214 | BK59: =BK$15*LCI!$AN$11 -> 0.0054162855 | BL59: =BL$15*LCI!$E$11 -> 0 | BM59: =BM$15*LCI!$L$11 -> 0.0089568626 | BN59: =BN$15*LCI!$S$11 -> 0.0096379515 | BO59: =BO$15*LCI!$Z$11 -> 0.0053984775 | BP59: =BP$15*LCI!$AG$11 -> 0.028045162 | BQ59: =BQ$15*LCI!$AN$11 -> 0.00042913892 | BR59: =BR$15*LCI!$E$11 -> 0 | BS59: =BS$15*LCI!$L$11 -> 0.0072368274 | BT59: =BT$15*LCI!$S$11 -> 0.0052464873 | BU59: =BU$15*LCI!$Z$11 -> 0.004142222 | BV59: =BV$15*LCI!$AG$11 -> 0.014358169 | BW59: =BW$15*LCI!$AN$11 -> 0.00016973159 | BX59: =BX$15*LCI!$E$11 -> 0 | BY59: =BY$15*LCI!$L$11 -> 0.0073990432 | BZ59: =BZ$15*LCI!$S$11 -> 0.015166413 | CA59: =CA$15*LCI!$Z$11 -> 0.0025920777 | CB59: =CB$15*LCI!$AG$11 -> 0.030454848 | CC59: =CC$15*LCI!$AN$11 -> 0.012817218 | CD59: =CD$15*LCI!$E$11 -> 0 | CE59: =CE$15*LCI!$L$11 -> 0.010772051 | CF59: =CF$15*LCI!$S$11 -> 0.015176121 | CG59: =CG$15*LCI!$Z$11 -> 0.0052233861 | CH59: =CH$15*LCI!$AG$11 -> 0.033565214 | CI59: =CI$15*LCI!$AN$11 -> 0.0054162855 | CJ59: =CJ$15*LCI!$E$11 -> 0 | CK59: =CK$15*LCI!$L$11 -> 0.0089568626 | CL59: =CL$15*LCI!$S$11 -> 0.0096379515 | CM59: =CM$15*LCI!$Z$11 -> 0.0053984775 | CN59: =CN$15*LCI!$AG$11 -> 0.028045162 | CO59: =CO$15*LCI!$AN$11 -> 0.00042913892 | CP59: =CP$15*LCI!$E$11 -> 0 | CQ59: =CQ$15*LCI!$L$11 -> 0.0072368274 | CR59: =CR$15*LCI!$S$11 -> 0.0052464873 | CS59: =CS$15*LCI!$Z$11 -> 0.004142222 | CT59: =CT$15*LCI!$AG$11 -> 0.014358169 | CU59: =CU$15*LCI!$AN$11 -> 0.00016973159
A60: 54 | C60: Öl | D60: =D$16*LCI!$E$12 -> 0 | E60: =E$16*LCI!$L$12 -> 0 | F60: =F$16*LCI!$S$12 -> 0 | G60: =G$16*LCI!$Z$12 -> 0 | H60: =H$16*LCI!$AG$12 -> 0 | I60: =I$16*LCI!$AN$12 -> 0.00010143046 | J60: =J$16*LCI!$E$12 -> 0 | K60: =K$16*LCI!$L$12 -> 0 | L60: =L$16*LCI!$S$12 -> 0 | M60: =M$16*LCI!$Z$12 -> 0 | N60: =N$16*LCI!$AG$12 -> 0 | O60: =O$16*LCI!$AN$12 -> 7.9098591e-05 | P60: =P$16*LCI!$E$12 -> 0 | Q60: =Q$16*LCI!$L$12 -> 0 | R60: =R$16*LCI!$S$12 -> 0 | S60: =S$16*LCI!$Z$12 -> 0 | T60: =T$16*LCI!$AG$12 -> 0 | U60: =U$16*LCI!$AN$12 -> 6.3635571e-05 | V60: =V$16*LCI!$E$12 -> 0 | W60: =W$16*LCI!$L$12 -> 0 | X60: =X$16*LCI!$S$12 -> 0 | Y60: =Y$16*LCI!$Z$12 -> 0 | Z60: =Z$16*LCI!$AG$12 -> 0 | AA60: =AA$16*LCI!$AN$12 -> 4.3621569e-05 | AB60: =AB$16*LCI!$E$12 -> 0 | AC60: =AC$16*LCI!$L$12 -> 0 | AD60: =AD$16*LCI!$S$12 -> 0 | AE60: =AE$16*LCI!$Z$12 -> 0 | AF60: =AF$16*LCI!$AG$12 -> 0 | AG60: =AG$16*LCI!$AN$12 -> 0.00010143046 | AH60: =AH$16*LCI!$E$12 -> 0 | AI60: =AI$16*LCI!$L$12 -> 0 | AJ60: =AJ$16*LCI!$S$12 -> 0 | AK60: =AK$16*LCI!$Z$12 -> 0 | AL60: =AL$16*LCI!$AG$12 -> 0 | AM60: =AM$16*LCI!$AN$12 -> 4.0417876e-05 | AN60: =AN$16*LCI!$E$12 -> 0 | AO60: =AO$16*LCI!$L$12 -> 0 | AP60: =AP$16*LCI!$S$12 -> 0 | AQ60: =AQ$16*LCI!$Z$12 -> 0 | AR60: =AR$16*LCI!$AG$12 -> 0 | AS60: =AS$16*LCI!$AN$12 -> 0 | AT60: =AT$16*LCI!$E$12 -> 0 | AU60: =AU$16*LCI!$L$12 -> 0 | AV60: =AV$16*LCI!$S$12 -> 0 | AW60: =AW$16*LCI!$Z$12 -> 0 | AX60: =AX$16*LCI!$AG$12 -> 0 | AY60: =AY$16*LCI!$AN$12 -> 0 | AZ60: =AZ$16*LCI!$E$12 -> 0 | BA60: =BA$16*LCI!$L$12 -> 0 | BB60: =BB$16*LCI!$S$12 -> 0 | BC60: =BC$16*LCI!$Z$12 -> 0 | BD60: =BD$16*LCI!$AG$12 -> 0 | BE60: =BE$16*LCI!$AN$12 -> 0.00010143046 | BF60: =BF$16*LCI!$E$12 -> 0 | BG60: =BG$16*LCI!$L$12 -> 0 | BH60: =BH$16*LCI!$S$12 -> 0 | BI60: =BI$16*LCI!$Z$12 -> 0 | BJ60: =BJ$16*LCI!$AG$12 -> 0 | BK60: =BK$16*LCI!$AN$12 -> 4.0833494e-05 | BL60: =BL$16*LCI!$E$12 -> 0 | BM60: =BM$16*LCI!$L$12 -> 0 | BN60: =BN$16*LCI!$S$12 -> 0 | BO60: =BO$16*LCI!$Z$12 -> 0 | BP60: =BP$16*LCI!$AG$12 -> 0 | BQ60: =BQ$16*LCI!$AN$12 -> 0 | BR60: =BR$16*LCI!$E$12 -> 0 | BS60: =BS$16*LCI!$L$12 -> 0 | BT60: =BT$16*LCI!$S$12 -> 0 | BU60: =BU$16*LCI!$Z$12 -> 0 | BV60: =BV$16*LCI!$AG$12 -> 0 | BW60: =BW$16*LCI!$AN$12 -> 0 | BX60: =BX$16*LCI!$E$12 -> 0 | BY60: =BY$16*LCI!$L$12 -> 0 | BZ60: =BZ$16*LCI!$S$12 -> 0 | CA60: =CA$16*LCI!$Z$12 -> 0 | CB60: =CB$16*LCI!$AG$12 -> 0 | CC60: =CC$16*LCI!$AN$12 -> 0.00010143046 | CD60: =CD$16*LCI!$E$12 -> 0 | CE60: =CE$16*LCI!$L$12 -> 0 | CF60: =CF$16*LCI!$S$12 -> 0 | CG60: =CG$16*LCI!$Z$12 -> 0 | CH60: =CH$16*LCI!$AG$12 -> 0 | CI60: =CI$16*LCI!$AN$12 -> 4.0833494e-05 | CJ60: =CJ$16*LCI!$E$12 -> 0 | CK60: =CK$16*LCI!$L$12 -> 0 | CL60: =CL$16*LCI!$S$12 -> 0 | CM60: =CM$16*LCI!$Z$12 -> 0 | CN60: =CN$16*LCI!$AG$12 -> 0 | CO60: =CO$16*LCI!$AN$12 -> 0 | CP60: =CP$16*LCI!$E$12 -> 0 | CQ60: =CQ$16*LCI!$L$12 -> 0 | CR60: =CR$16*LCI!$S$12 -> 0 | CS60: =CS$16*LCI!$Z$12 -> 0 | CT60: =CT$16*LCI!$AG$12 -> 0 | CU60: =CU$16*LCI!$AN$12 -> 0
A61: 55 | C61: Fossile KW | D61: =D$17*LCI!$E$13 -> 0.0027088823 | E61: =E$17*LCI!$L$13 -> 0.0041913422 | F61: =F$17*LCI!$S$13 -> 0.0039323094 | G61: =G$17*LCI!$Z$13 -> 0.00090402509 | H61: =H$17*LCI!$AG$13 -> 0.0057843254 | I61: =I$17*LCI!$AN$13 -> 2.4061706e-06 | J61: =J$17*LCI!$E$13 -> 0.0028222317 | K61: =K$17*LCI!$L$13 -> 0.0037140085 | L61: =L$17*LCI!$S$13 -> 0.0037544053 | M61: =M$17*LCI!$Z$13 -> 0.002044285 | N61: =N$17*LCI!$AG$13 -> 0.005912101 | O61: =O$17*LCI!$AN$13 -> 2.4158115e-06 | P61: =P$17*LCI!$E$13 -> 0.0033489598 | Q61: =Q$17*LCI!$L$13 -> 0.0032244449 | R61: =R$17*LCI!$S$13 -> 0.0032484697 | S61: =S$17*LCI!$Z$13 -> 0.001941176 | T61: =T$17*LCI!$AG$13 -> 0.0040198448 | U61: =U$17*LCI!$AN$13 -> 2.4224871e-06 | V61: =V$17*LCI!$E$13 -> 0.0044935055 | W61: =W$17*LCI!$L$13 -> 0.0023497634 | X61: =X$17*LCI!$S$13 -> 0.0025779753 | Y61: =Y$17*LCI!$Z$13 -> 0.0026758066 | Z61: =Z$17*LCI!$AG$13 -> 0.005506492 | AA61: =AA$17*LCI!$AN$13 -> 2.4311275e-06 | AB61: =AB$17*LCI!$E$13 -> 0.0025611957 | AC61: =AC$17*LCI!$L$13 -> 0.0041345722 | AD61: =AD$17*LCI!$S$13 -> 0.0038918634 | AE61: =AE$17*LCI!$Z$13 -> 0.00077929101 | AF61: =AF$17*LCI!$AG$13 -> 0.0051788018 | AG61: =AG$17*LCI!$AN$13 -> 2.4061706e-06 | AH61: =AH$17*LCI!$E$13 -> 0.0024093112 | AI61: =AI$17*LCI!$L$13 -> 0.0032402248 | AJ61: =AJ$17*LCI!$S$13 -> 0.0025899441 | AK61: =AK$17*LCI!$Z$13 -> 0.0019229263 | AL61: =AL$17*LCI!$AG$13 -> 0.0042182217 | AM61: =AM$17*LCI!$AN$13 -> 1.968938e-06 | AN61: =AN$17*LCI!$E$13 -> 0.0021362487 | AO61: =AO$17*LCI!$L$13 -> 0.002127005 | AP61: =AP$17*LCI!$S$13 -> 0.00245966 | AQ61: =AQ$17*LCI!$Z$13 -> 0.0022627071 | AR61: =AR$17*LCI!$AG$13 -> 0.0044350143 | AS61: =AS$17*LCI!$AN$13 -> 1.6792926e-06 | AT61: =AT$17*LCI!$E$13 -> 0.0015232468 | AU61: =AU$17*LCI!$L$13 -> 0.0013040019 | AV61: =AV$17*LCI!$S$13 -> 0.0013918776 | AW61: =AW$17*LCI!$Z$13 -> 0.0020256484 | AX61: =AX$17*LCI!$AG$13 -> 0.0052746743 | AY61: =AY$17*LCI!$AN$13 -> 1.4154834e-05 | AZ61: =AZ$17*LCI!$E$13 -> 0.0025366555 | BA61: =BA$17*LCI!$L$13 -> 0.0041345722 | BB61: =BB$17*LCI!$S$13 -> 0.0038918634 | BC61: =BC$17*LCI!$Z$13 -> 0.00077929101 | BD61: =BD$17*LCI!$AG$13 -> 0.0051788018 | BE61: =BE$17*LCI!$AN$13 -> 2.4061706e-06 | BF61: =BF$17*LCI!$E$13 -> 0.0022849041 | BG61: =BG$17*LCI!$L$13 -> 0.0032402248 | BH61: =BH$17*LCI!$S$13 -> 0.0025899441 | BI61: =BI$17*LCI!$Z$13 -> 0.0019229263 | BJ61: =BJ$17*LCI!$AG$13 -> 0.0042182217 | BK61: =BK$17*LCI!$AN$13 -> 1.1061692e-06 | BL61: =BL$17*LCI!$E$13 -> 0.0020419877 | BM61: =BM$17*LCI!$L$13 -> 0.002127005 | BN61: =BN$17*LCI!$S$13 -> 0.00245966 | BO61: =BO$17*LCI!$Z$13 -> 0.0022627071 | BP61: =BP$17*LCI!$AG$13 -> 0.0044350143 | BQ61: =BQ$17*LCI!$AN$13 -> 2.3015824e-07 | BR61: =BR$17*LCI!$E$13 -> 0.0014561745 | BS61: =BS$17*LCI!$L$13 -> 0.0013040019 | BT61: =BT$17*LCI!$S$13 -> 0.0013918776 | BU61: =BU$17*LCI!$Z$13 -> 0.0020256484 | BV61: =BV$17*LCI!$AG$13 -> 0.0052746743 | BW61: =BW$17*LCI!$AN$13 -> 3.8536422e-06 | BX61: =BX$17*LCI!$E$13 -> 0.0026777735 | BY61: =BY$17*LCI!$L$13 -> 0.0041345722 | BZ61: =BZ$17*LCI!$S$13 -> 0.0038918634 | CA61: =CA$17*LCI!$Z$13 -> 0.00077929101 | CB61: =CB$17*LCI!$AG$13 -> 0.0051788018 | CC61: =CC$17*LCI!$AN$13 -> 2.4061706e-06 | CD61: =CD$17*LCI!$E$13 -> 0.0024059042 | CE61: =CE$17*LCI!$L$13 -> 0.0032402248 | CF61: =CF$17*LCI!$S$13 -> 0.0025899441 | CG61: =CG$17*LCI!$Z$13 -> 0.0019229263 | CH61: =CH$17*LCI!$AG$13 -> 0.0042182217 | CI61: =CI$17*LCI!$AN$13 -> 1.1061692e-06 | CJ61: =CJ$17*LCI!$E$13 -> 0.0021131673 | CK61: =CK$17*LCI!$L$13 -> 0.002127005 | CL61: =CL$17*LCI!$S$13 -> 0.00245966 | CM61: =CM$17*LCI!$Z$13 -> 0.0022627071 | CN61: =CN$17*LCI!$AG$13 -> 0.0044350143 | CO61: =CO$17*LCI!$AN$13 -> 2.3015824e-07 | CP61: =CP$17*LCI!$E$13 -> 0.0015765269 | CQ61: =CQ$17*LCI!$L$13 -> 0.0013040019 | CR61: =CR$17*LCI!$S$13 -> 0.0013918776 | CS61: =CS$17*LCI!$Z$13 -> 0.0020256484 | CT61: =CT$17*LCI!$AG$13 -> 0.0052746743 | CU61: =CU$17*LCI!$AN$13 -> 3.8536422e-06
A62: 56 | C62: Photovoltaik | D62: =D$18*LCI!$E$14 -> 0.0022358265 | E62: =E$18*LCI!$L$14 -> 0.0015718064 | F62: =F$18*LCI!$S$14 -> 0.0035390299 | G62: =G$18*LCI!$Z$14 -> 0.0023349831 | H62: =H$18*LCI!$AG$14 -> 0.002922938 | I62: =I$18*LCI!$AN$14 -> 0.006438814 | J62: =J$18*LCI!$E$14 -> 0.002370135 | K62: =K$18*LCI!$L$14 -> 0.0021831075 | L62: =L$18*LCI!$S$14 -> 0.0036376189 | M62: =M$18*LCI!$Z$14 -> 0.0030159041 | N62: =N$18*LCI!$AG$14 -> 0.0042265777 | O62: =O$18*LCI!$AN$14 -> 0.0072221773 | P62: =P$18*LCI!$E$14 -> 0.002820247 | Q62: =Q$18*LCI!$L$14 -> 0.0024421542 | R62: =R$18*LCI!$S$14 -> 0.0039591647 | S62: =S$18*LCI!$Z$14 -> 0.0045537003 | T62: =T$18*LCI!$AG$14 -> 0.0051410824 | U62: =U$18*LCI!$AN$14 -> 0.0077645933 | V62: =V$18*LCI!$E$14 -> 0.0040589037 | W62: =W$18*LCI!$L$14 -> 0.003156887 | X62: =X$18*LCI!$S$14 -> 0.0055868507 | Y62: =Y$18*LCI!$Z$14 -> 0.0047562438 | Z62: =Z$18*LCI!$AG$14 -> 0.0072833504 | AA62: =AA$18*LCI!$AN$14 -> 0.00846665 | AB62: =AB$18*LCI!$E$14 -> 0.0028206596 | AC62: =AC$18*LCI!$L$14 -> 0.0038421935 | AD62: =AD$18*LCI!$S$14 -> 0.0072163677 | AE62: =AE$18*LCI!$Z$14 -> 0.0032712323 | AF62: =AF$18*LCI!$AG$14 -> 0.0043419427 | AG62: =AG$18*LCI!$AN$14 -> 0.006438814 | AH62: =AH$18*LCI!$E$14 -> 0.0042768949 | AI62: =AI$18*LCI!$L$14 -> 0.0041908585 | AJ62: =AJ$18*LCI!$S$14 -> 0.0077957857 | AK62: =AK$18*LCI!$Z$14 -> 0.0046571091 | AL62: =AL$18*LCI!$AG$14 -> 0.0062490119 | AM62: =AM$18*LCI!$AN$14 -> 0.0078269556 | AN62: =AN$18*LCI!$E$14 -> 0.0063620579 | AO62: =AO$18*LCI!$L$14 -> 0.0050085447 | AP62: =AP$18*LCI!$S$14 -> 0.0088429315 | AQ62: =AQ$18*LCI!$Z$14 -> 0.0061801522 | AR62: =AR$18*LCI!$AG$14 -> 0.00799887 | AS62: =AS$18*LCI!$AN$14 -> 0.0087465321 | AT62: =AT$18*LCI!$E$14 -> 0.0095370187 | AU62: =AU$18*LCI!$L$14 -> 0.0067356997 | AV62: =AV$18*LCI!$S$14 -> 0.0104626 | AW62: =AW$18*LCI!$Z$14 -> 0.0077780836 | AX62: =AX$18*LCI!$AG$14 -> 0.010766089 | AY62: =AY$18*LCI!$AN$14 -> 0.0099001645 | AZ62: =AZ$18*LCI!$E$14 -> 0.0028261089 | BA62: =BA$18*LCI!$L$14 -> 0.0038421935 | BB62: =BB$18*LCI!$S$14 -> 0.0072163677 | BC62: =BC$18*LCI!$Z$14 -> 0.0032712323 | BD62: =BD$18*LCI!$AG$14 -> 0.0043419427 | BE62: =BE$18*LCI!$AN$14 -> 0.006438814 | BF62: =BF$18*LCI!$E$14 -> 0.0042824071 | BG62: =BG$18*LCI!$L$14 -> 0.0041908585 | BH62: =BH$18*LCI!$S$14 -> 0.0077957857 | BI62: =BI$18*LCI!$Z$14 -> 0.0046571091 | BJ62: =BJ$18*LCI!$AG$14 -> 0.0062490119 | BK62: =BK$18*LCI!$AN$14 -> 0.0074397462 | BL62: =BL$18*LCI!$E$14 -> 0.0063822643 | BM62: =BM$18*LCI!$L$14 -> 0.0050085447 | BN62: =BN$18*LCI!$S$14 -> 0.0088429315 | BO62: =BO$18*LCI!$Z$14 -> 0.0061801522 | BP62: =BP$18*LCI!$AG$14 -> 0.00799887 | BQ62: =BQ$18*LCI!$AN$14 -> 0.0081142283 | BR62: =BR$18*LCI!$E$14 -> 0.010536332 | BS62: =BS$18*LCI!$L$14 -> 0.0067356997 | BT62: =BT$18*LCI!$S$14 -> 0.0104626 | BU62: =BU$18*LCI!$Z$14 -> 0.0077780836 | BV62: =BV$18*LCI!$AG$14 -> 0.010766089 | BW62: =BW$18*LCI!$AN$14 -> 0.0084278261 | BX62: =BX$18*LCI!$E$14 -> 0.0028245233 | BY62: =BY$18*LCI!$L$14 -> 0.0038421935 | BZ62: =BZ$18*LCI!$S$14 -> 0.0072163677 | CA62: =CA$18*LCI!$Z$14 -> 0.0032712323 | CB62: =CB$18*LCI!$AG$14 -> 0.0043419427 | CC62: =CC$18*LCI!$AN$14 -> 0.006438814 | CD62: =CD$18*LCI!$E$14 -> 0.0042764411 | CE62: =CE$18*LCI!$L$14 -> 0.0041908585 | CF62: =CF$18*LCI!$S$14 -> 0.0077957857 | CG62: =CG$18*LCI!$Z$14 -> 0.0046571091 | CH62: =CH$18*LCI!$AG$14 -> 0.0062490119 | CI62: =CI$18*LCI!$AN$14 -> 0.0074397462 | CJ62: =CJ$18*LCI!$E$14 -> 0.0063693855 | CK62: =CK$18*LCI!$L$14 -> 0.0050085447 | CL62: =CL$18*LCI!$S$14 -> 0.0088429315 | CM62: =CM$18*LCI!$Z$14 -> 0.0061801522 | CN62: =CN$18*LCI!$AG$14 -> 0.00799887 | CO62: =CO$18*LCI!$AN$14 -> 0.0081142283 | CP62: =CP$18*LCI!$E$14 -> 0.0087700804 | CQ62: =CQ$18*LCI!$L$14 -> 0.0067356997 | CR62: =CR$18*LCI!$S$14 -> 0.0104626 | CS62: =CS$18*LCI!$Z$14 -> 0.0077780836 | CT62: =CT$18*LCI!$AG$14 -> 0.010766089 | CU62: =CU$18*LCI!$AN$14 -> 0.0084278261
A63: 57 | C63: Wind (onshore) | D63: =D$19*LCI!$E$15 -> 6.2992997e-05 | E63: =E$19*LCI!$L$15 -> 0.0018947038 | F63: =F$19*LCI!$S$15 -> 0.0027518983 | G63: =G$19*LCI!$Z$15 -> 0.0021170881 | H63: =H$19*LCI!$AG$15 -> 0.0014626828 | I63: =I$19*LCI!$AN$15 -> 0.0034408674 | J63: =J$19*LCI!$E$15 -> 6.188432e-05 | K63: =K$19*LCI!$L$15 -> 0.0017967504 | L63: =L$19*LCI!$S$15 -> 0.0029106602 | M63: =M$19*LCI!$Z$15 -> 0.0025980761 | N63: =N$19*LCI!$AG$15 -> 0.0014908562 | O63: =O$19*LCI!$AN$15 -> 0.0035765591 | P63: =P$19*LCI!$E$15 -> 6.8208117e-05 | Q63: =Q$19*LCI!$L$15 -> 0.0017578065 | R63: =R$19*LCI!$S$15 -> 0.0030346607 | S63: =S$19*LCI!$Z$15 -> 0.0031775612 | T63: =T$19*LCI!$AG$15 -> 0.0015162091 | U63: =U$19*LCI!$AN$15 -> 0.0036705146 | V63: =V$19*LCI!$E$15 -> 7.5674844e-05 | W63: =W$19*LCI!$L$15 -> 0.0019053543 | X63: =X$19*LCI!$S$15 -> 0.0043210807 | Y63: =Y$19*LCI!$Z$15 -> 0.0034970949 | Z63: =Z$19*LCI!$AG$15 -> 0.0022121049 | AA63: =AA$19*LCI!$AN$15 -> 0.0037921226 | AB63: =AB$19*LCI!$E$15 -> 0.0001099916 | AC63: =AC$19*LCI!$L$15 -> 0.0028420558 | AD63: =AD$19*LCI!$S$15 -> 0.0038366876 | AE63: =AE$19*LCI!$Z$15 -> 0.002327221 | AF63: =AF$19*LCI!$AG$15 -> 0.0014695323 | AG63: =AG$19*LCI!$AN$15 -> 0.0034408674 | AH63: =AH$19*LCI!$E$15 -> 0.00021085154 | AI63: =AI$19*LCI!$L$15 -> 0.0023875018 | AJ63: =AJ$19*LCI!$S$15 -> 0.0037912266 | AK63: =AK$19*LCI!$Z$15 -> 0.0029814978 | AL63: =AL$19*LCI!$AG$15 -> 0.0018307828 | AM63: =AM$19*LCI!$AN$15 -> 0.0039648069 | AN63: =AN$19*LCI!$E$15 -> 0.00038646391 | AO63: =AO$19*LCI!$L$15 -> 0.0024723528 | AP63: =AP$19*LCI!$S$15 -> 0.0040536637 | AQ63: =AQ$19*LCI!$Z$15 -> 0.0037458902 | AR63: =AR$19*LCI!$AG$15 -> 0.0020924676 | AS63: =AS$19*LCI!$AN$15 -> 0.0043118915 | AT63: =AT$19*LCI!$E$15 -> 0.00071835324 | AU63: =AU$19*LCI!$L$15 -> 0.00244273 | AV63: =AV$19*LCI!$S$15 -> 0.0038902727 | AW63: =AW$19*LCI!$Z$15 -> 0.0041277617 | AX63: =AX$19*LCI!$AG$15 -> 0.0023243704 | AY63: =AY$19*LCI!$AN$15 -> 0.0044705001 | AZ63: =AZ$19*LCI!$E$15 -> 0.00011020409 | BA63: =BA$19*LCI!$L$15 -> 0.0028420558 | BB63: =BB$19*LCI!$S$15 -> 0.0038366876 | BC63: =BC$19*LCI!$Z$15 -> 0.002327221 | BD63: =BD$19*LCI!$AG$15 -> 0.0014695323 | BE63: =BE$19*LCI!$AN$15 -> 0.0034408674 | BF63: =BF$19*LCI!$E$15 -> 0.00021112329 | BG63: =BG$19*LCI!$L$15 -> 0.0023875018 | BH63: =BH$19*LCI!$S$15 -> 0.0037912266 | BI63: =BI$19*LCI!$Z$15 -> 0.0029814978 | BJ63: =BJ$19*LCI!$AG$15 -> 0.0018307828 | BK63: =BK$19*LCI!$AN$15 -> 0.0039628069 | BL63: =BL$19*LCI!$E$15 -> 0.00038685932 | BM63: =BM$19*LCI!$L$15 -> 0.0024723528 | BN63: =BN$19*LCI!$S$15 -> 0.0040536637 | BO63: =BO$19*LCI!$Z$15 -> 0.0037458902 | BP63: =BP$19*LCI!$AG$15 -> 0.0020924676 | BQ63: =BQ$19*LCI!$AN$15 -> 0.0043145178 | BR63: =BR$19*LCI!$E$15 -> 0.00068672236 | BS63: =BS$19*LCI!$L$15 -> 0.00244273 | BT63: =BT$19*LCI!$S$15 -> 0.0038902727 | BU63: =BU$19*LCI!$Z$15 -> 0.0041277617 | BV63: =BV$19*LCI!$AG$15 -> 0.0023243704 | BW63: =BW$19*LCI!$AN$15 -> 0.0044793782 | BX63: =BX$19*LCI!$E$15 -> 0.00011014226 | BY63: =BY$19*LCI!$L$15 -> 0.0028420558 | BZ63: =BZ$19*LCI!$S$15 -> 0.0038366876 | CA63: =CA$19*LCI!$Z$15 -> 0.002327221 | CB63: =CB$19*LCI!$AG$15 -> 0.0014695323 | CC63: =CC$19*LCI!$AN$15 -> 0.0034408674 | CD63: =CD$19*LCI!$E$15 -> 0.00021082916 | CE63: =CE$19*LCI!$L$15 -> 0.0023875018 | CF63: =CF$19*LCI!$S$15 -> 0.0037912266 | CG63: =CG$19*LCI!$Z$15 -> 0.0029814978 | CH63: =CH$19*LCI!$AG$15 -> 0.0018307828 | CI63: =CI$19*LCI!$AN$15 -> 0.0039628069 | CJ63: =CJ$19*LCI!$E$15 -> 0.00038690903 | CK63: =CK$19*LCI!$L$15 -> 0.0024723528 | CL63: =CL$19*LCI!$S$15 -> 0.0040536637 | CM63: =CM$19*LCI!$Z$15 -> 0.0037458902 | CN63: =CN$19*LCI!$AG$15 -> 0.0020924676 | CO63: =CO$19*LCI!$AN$15 -> 0.0043145178 | CP63: =CP$19*LCI!$E$15 -> 0.00074347979 | CQ63: =CQ$19*LCI!$L$15 -> 0.00244273 | CR63: =CR$19*LCI!$S$15 -> 0.0038902727 | CS63: =CS$19*LCI!$Z$15 -> 0.0041277617 | CT63: =CT$19*LCI!$AG$15 -> 0.0023243704 | CU63: =CU$19*LCI!$AN$15 -> 0.0044793782
A64: 58 | C64: Wind (offshore) | D64: =D$20*LCI!$E$16 -> 0 | E64: =E$20*LCI!$L$16 -> 0 | F64: =F$20*LCI!$S$16 -> 0.001730078 | G64: =G$20*LCI!$Z$16 -> 0.00067434441 | H64: =H$20*LCI!$AG$16 -> 0.00012797444 | I64: =I$20*LCI!$AN$16 -> 0.0020035803 | J64: =J$20*LCI!$E$16 -> 0 | K64: =K$20*LCI!$L$16 -> 0 | L64: =L$20*LCI!$S$16 -> 0.001967159 | M64: =M$20*LCI!$Z$16 -> 0.0012409701 | N64: =N$20*LCI!$AG$16 -> 0.00021575038 | O64: =O$20*LCI!$AN$16 -> 0.0030376628 | P64: =P$20*LCI!$E$16 -> 0 | Q64: =Q$20*LCI!$L$16 -> 0 | R64: =R$20*LCI!$S$16 -> 0.0017021667 | S64: =S$20*LCI!$Z$16 -> 0.0015770688 | T64: =T$20*LCI!$AG$16 -> 0.00028111782 | U64: =U$20*LCI!$AN$16 -> 0.0037536818 | V64: =V$20*LCI!$E$16 -> 0 | W64: =W$20*LCI!$L$16 -> 0 | X64: =X$20*LCI!$S$16 -> 0.0019012299 | Y64: =Y$20*LCI!$Z$16 -> 0.0038731162 | Z64: =Z$20*LCI!$AG$16 -> 0.00037894994 | AA64: =AA$20*LCI!$AN$16 -> 0.0046804351 | AB64: =AB$20*LCI!$E$16 -> 0 | AC64: =AC$20*LCI!$L$16 -> 0 | AD64: =AD$20*LCI!$S$16 -> 0.0030892699 | AE64: =AE$20*LCI!$Z$16 -> 0.0019617292 | AF64: =AF$20*LCI!$AG$16 -> 0.00016708046 | AG64: =AG$20*LCI!$AN$16 -> 0.0020035803 | AH64: =AH$20*LCI!$E$16 -> 0 | AI64: =AI$20*LCI!$L$16 -> 0 | AJ64: =AJ$20*LCI!$S$16 -> 0.0036700559 | AK64: =AK$20*LCI!$Z$16 -> 0.0029383855 | AL64: =AL$20*LCI!$AG$16 -> 0.00020181841 | AM64: =AM$20*LCI!$AN$16 -> 0.0032265158 | AN64: =AN$20*LCI!$E$16 -> 0 | AO64: =AO$20*LCI!$L$16 -> 0 | AP64: =AP$20*LCI!$S$16 -> 0.004411135 | AQ64: =AQ$20*LCI!$Z$16 -> 0.0039375777 | AR64: =AR$20*LCI!$AG$16 -> 0.00047295833 | AS64: =AS$20*LCI!$AN$16 -> 0.0040366512 | AT64: =AT$20*LCI!$E$16 -> 0 | AU64: =AU$20*LCI!$L$16 -> 0 | AV64: =AV$20*LCI!$S$16 -> 0.0050801444 | AW64: =AW$20*LCI!$Z$16 -> 0.004821912 | AX64: =AX$20*LCI!$AG$16 -> 0.00051180941 | AY64: =AY$20*LCI!$AN$16 -> 0.0042831465 | AZ64: =AZ$20*LCI!$E$16 -> 0 | BA64: =BA$20*LCI!$L$16 -> 0 | BB64: =BB$20*LCI!$S$16 -> 0.0030892699 | BC64: =BC$20*LCI!$Z$16 -> 0.0019617292 | BD64: =BD$20*LCI!$AG$16 -> 0.00016708046 | BE64: =BE$20*LCI!$AN$16 -> 0.0020035803 | BF64: =BF$20*LCI!$E$16 -> 0 | BG64: =BG$20*LCI!$L$16 -> 0 | BH64: =BH$20*LCI!$S$16 -> 0.0036700559 | BI64: =BI$20*LCI!$Z$16 -> 0.0029383855 | BJ64: =BJ$20*LCI!$AG$16 -> 0.00020181841 | BK64: =BK$20*LCI!$AN$16 -> 0.0031948294 | BL64: =BL$20*LCI!$E$16 -> 0 | BM64: =BM$20*LCI!$L$16 -> 0 | BN64: =BN$20*LCI!$S$16 -> 0.004411135 | BO64: =BO$20*LCI!$Z$16 -> 0.0039375777 | BP64: =BP$20*LCI!$AG$16 -> 0.00047295833 | BQ64: =BQ$20*LCI!$AN$16 -> 0.0039975571 | BR64: =BR$20*LCI!$E$16 -> 0 | BS64: =BS$20*LCI!$L$16 -> 0 | BT64: =BT$20*LCI!$S$16 -> 0.0050801444 | BU64: =BU$20*LCI!$Z$16 -> 0.004821912 | BV64: =BV$20*LCI!$AG$16 -> 0.00051180941 | BW64: =BW$20*LCI!$AN$16 -> 0.0045056654 | BX64: =BX$20*LCI!$E$16 -> 0 | BY64: =BY$20*LCI!$L$16 -> 0 | BZ64: =BZ$20*LCI!$S$16 -> 0.0030892699 | CA64: =CA$20*LCI!$Z$16 -> 0.0019617292 | CB64: =CB$20*LCI!$AG$16 -> 0.00016708046 | CC64: =CC$20*LCI!$AN$16 -> 0.0020035803 | CD64: =CD$20*LCI!$E$16 -> 0 | CE64: =CE$20*LCI!$L$16 -> 0 | CF64: =CF$20*LCI!$S$16 -> 0.0036700559 | CG64: =CG$20*LCI!$Z$16 -> 0.0029383855 | CH64: =CH$20*LCI!$AG$16 -> 0.00020181841 | CI64: =CI$20*LCI!$AN$16 -> 0.0031948294 | CJ64: =CJ$20*LCI!$E$16 -> 0 | CK64: =CK$20*LCI!$L$16 -> 0 | CL64: =CL$20*LCI!$S$16 -> 0.004411135 | CM64: =CM$20*LCI!$Z$16 -> 0.0039375777 | CN64: =CN$20*LCI!$AG$16 -> 0.00047295833 | CO64: =CO$20*LCI!$AN$16 -> 0.0039975571 | CP64: =CP$20*LCI!$E$16 -> 0 | CQ64: =CQ$20*LCI!$L$16 -> 0 | CR64: =CR$20*LCI!$S$16 -> 0.0050801444 | CS64: =CS$20*LCI!$Z$16 -> 0.004821912 | CT64: =CT$20*LCI!$AG$16 -> 0.00051180941 | CU64: =CU$20*LCI!$AN$16 -> 0.0045056654
A65: 59 | C65: Biomasse (Holz) | D65: =D$21*LCI!$E$17 -> 0.00017212775 | E65: =E$21*LCI!$L$17 -> 0.0018768122 | F65: =F$21*LCI!$S$17 -> 0.0043595543 | G65: =G$21*LCI!$Z$17 -> 0.0010801148 | H65: =H$21*LCI!$AG$17 -> 0.0013468695 | I65: =I$21*LCI!$AN$17 -> 0 | J65: =J$21*LCI!$E$17 -> 0.00016471228 | K65: =K$21*LCI!$L$17 -> 0.0023065706 | L65: =L$21*LCI!$S$17 -> 0.0032454843 | M65: =M$21*LCI!$Z$17 -> 0.00153574 | N65: =N$21*LCI!$AG$17 -> 0.0015875418 | O65: =O$21*LCI!$AN$17 -> 0 | P65: =P$21*LCI!$E$17 -> 0.0001664289 | Q65: =Q$21*LCI!$L$17 -> 0.0020995341 | R65: =R$21*LCI!$S$17 -> 0.0025767924 | S65: =S$21*LCI!$Z$17 -> 0.0016165783 | T65: =T$21*LCI!$AG$17 -> 0.0014313792 | U65: =U$21*LCI!$AN$17 -> 0 | V65: =V$21*LCI!$E$17 -> 0.00014747127 | W65: =W$21*LCI!$L$17 -> 0.0022434114 | X65: =X$21*LCI!$S$17 -> 0.0017180105 | Y65: =Y$21*LCI!$Z$17 -> 0.0011163255 | Z65: =Z$21*LCI!$AG$17 -> 0.0013544678 | AA65: =AA$21*LCI!$AN$17 -> 0 | AB65: =AB$21*LCI!$E$17 -> 0.00016351576 | AC65: =AC$21*LCI!$L$17 -> 0.0024091469 | AD65: =AD$21*LCI!$S$17 -> 0.0044225484 | AE65: =AE$21*LCI!$Z$17 -> 0.0010558709 | AF65: =AF$21*LCI!$AG$17 -> 0.0012635117 | AG65: =AG$21*LCI!$AN$17 -> 0 | AH65: =AH$21*LCI!$E$17 -> 0.00013992854 | AI65: =AI$21*LCI!$L$17 -> 0.0026449555 | AJ65: =AJ$21*LCI!$S$17 -> 0.0026601496 | AK65: =AK$21*LCI!$Z$17 -> 0.0012413439 | AL65: =AL$21*LCI!$AG$17 -> 0.0014063232 | AM65: =AM$21*LCI!$AN$17 -> 0 | AN65: =AN$21*LCI!$E$17 -> 0.00011808481 | AO65: =AO$21*LCI!$L$17 -> 0.0022035605 | AP65: =AP$21*LCI!$S$17 -> 0.0016230051 | AQ65: =AQ$21*LCI!$Z$17 -> 0.0010734618 | AR65: =AR$21*LCI!$AG$17 -> 0.0011560731 | AS65: =AS$21*LCI!$AN$17 -> 0 | AT65: =AT$21*LCI!$E$17 -> 8.8333391e-05 | AU65: =AU$21*LCI!$L$17 -> 0.0018771864 | AV65: =AV$21*LCI!$S$17 -> 0.00069783135 | AW65: =AW$21*LCI!$Z$17 -> 0.00049455416 | AX65: =AX$21*LCI!$AG$17 -> 0.00088066897 | AY65: =AY$21*LCI!$AN$17 -> 0 | AZ65: =AZ$21*LCI!$E$17 -> 0.00016476641 | BA65: =BA$21*LCI!$L$17 -> 0.0024091469 | BB65: =BB$21*LCI!$S$17 -> 0.0044225484 | BC65: =BC$21*LCI!$Z$17 -> 0.0010558709 | BD65: =BD$21*LCI!$AG$17 -> 0.0012635117 | BE65: =BE$21*LCI!$AN$17 -> 0 | BF65: =BF$21*LCI!$E$17 -> 0.00014340556 | BG65: =BG$21*LCI!$L$17 -> 0.0026449555 | BH65: =BH$21*LCI!$S$17 -> 0.0026601496 | BI65: =BI$21*LCI!$Z$17 -> 0.0012413439 | BJ65: =BJ$21*LCI!$AG$17 -> 0.0014063232 | BK65: =BK$21*LCI!$AN$17 -> 0 | BL65: =BL$21*LCI!$E$17 -> 0.00012365342 | BM65: =BM$21*LCI!$L$17 -> 0.0022035605 | BN65: =BN$21*LCI!$S$17 -> 0.0016230051 | BO65: =BO$21*LCI!$Z$17 -> 0.0010734618 | BP65: =BP$21*LCI!$AG$17 -> 0.0011560731 | BQ65: =BQ$21*LCI!$AN$17 -> 0 | BR65: =BR$21*LCI!$E$17 -> 8.4028639e-05 | BS65: =BS$21*LCI!$L$17 -> 0.0018771864 | BT65: =BT$21*LCI!$S$17 -> 0.00069783135 | BU65: =BU$21*LCI!$Z$17 -> 0.00049455416 | BV65: =BV$21*LCI!$AG$17 -> 0.00088066897 | BW65: =BW$21*LCI!$AN$17 -> 0 | BX65: =BX$21*LCI!$E$17 -> 0.00016280551 | BY65: =BY$21*LCI!$L$17 -> 0.0024091469 | BZ65: =BZ$21*LCI!$S$17 -> 0.0044225484 | CA65: =CA$21*LCI!$Z$17 -> 0.0010558709 | CB65: =CB$21*LCI!$AG$17 -> 0.0012635117 | CC65: =CC$21*LCI!$AN$17 -> 0 | CD65: =CD$21*LCI!$E$17 -> 0.00013980017 | CE65: =CE$21*LCI!$L$17 -> 0.0026449555 | CF65: =CF$21*LCI!$S$17 -> 0.0026601496 | CG65: =CG$21*LCI!$Z$17 -> 0.0012413439 | CH65: =CH$21*LCI!$AG$17 -> 0.0014063232 | CI65: =CI$21*LCI!$AN$17 -> 0 | CJ65: =CJ$21*LCI!$E$17 -> 0.00011890188 | CK65: =CK$21*LCI!$L$17 -> 0.0022035605 | CL65: =CL$21*LCI!$S$17 -> 0.0016230051 | CM65: =CM$21*LCI!$Z$17 -> 0.0010734618 | CN65: =CN$21*LCI!$AG$17 -> 0.0011560731 | CO65: =CO$21*LCI!$AN$17 -> 0 | CP65: =CP$21*LCI!$E$17 -> 9.5525074e-05 | CQ65: =CQ$21*LCI!$L$17 -> 0.0018771864 | CR65: =CR$21*LCI!$S$17 -> 0.00069783135 | CS65: =CS$21*LCI!$Z$17 -> 0.00049455416 | CT65: =CT$21*LCI!$AG$17 -> 0.00088066897 | CU65: =CU$21*LCI!$AN$17 -> 0
A66: 60 | C66: Biogas | D66: =D$22*LCI!$E$18 -> 0.00093213907 | E66: =E$22*LCI!$L$18 -> 0 | F66: =F$22*LCI!$S$18 -> 0 | G66: =G$22*LCI!$Z$18 -> 0 | H66: =H$22*LCI!$AG$18 -> 0 | I66: =I$22*LCI!$AN$18 -> 0.0024340698 | J66: =J$22*LCI!$E$18 -> 0.0011643856 | K66: =K$22*LCI!$L$18 -> 0 | L66: =L$22*LCI!$S$18 -> 0 | M66: =M$22*LCI!$Z$18 -> 0 | N66: =N$22*LCI!$AG$18 -> 0 | O66: =O$22*LCI!$AN$18 -> 0.0015109462 | P66: =P$22*LCI!$E$18 -> 0.0013897572 | Q66: =Q$22*LCI!$L$18 -> 0 | R66: =R$22*LCI!$S$18 -> 0 | S66: =S$22*LCI!$Z$18 -> 0 | T66: =T$22*LCI!$AG$18 -> 0 | U66: =U$22*LCI!$AN$18 -> 0.00087175733 | V66: =V$22*LCI!$E$18 -> 0.0019365887 | W66: =W$22*LCI!$L$18 -> 0 | X66: =X$22*LCI!$S$18 -> 0 | Y66: =Y$22*LCI!$Z$18 -> 0 | Z66: =Z$22*LCI!$AG$18 -> 0 | AA66: =AA$22*LCI!$AN$18 -> 4.4446333e-05 | AB66: =AB$22*LCI!$E$18 -> 0.0010895104 | AC66: =AC$22*LCI!$L$18 -> 0 | AD66: =AD$22*LCI!$S$18 -> 0 | AE66: =AE$22*LCI!$Z$18 -> 0 | AF66: =AF$22*LCI!$AG$18 -> 0 | AG66: =AG$22*LCI!$AN$18 -> 0.0024340698 | AH66: =AH$22*LCI!$E$18 -> 0.001401906 | AI66: =AI$22*LCI!$L$18 -> 0 | AJ66: =AJ$22*LCI!$S$18 -> 0 | AK66: =AK$22*LCI!$Z$18 -> 0 | AL66: =AL$22*LCI!$AG$18 -> 0 | AM66: =AM$22*LCI!$AN$18 -> 0.0011371534 | AN66: =AN$22*LCI!$E$18 -> 0.0021618425 | AO66: =AO$22*LCI!$L$18 -> 0 | AP66: =AP$22*LCI!$S$18 -> 0 | AQ66: =AQ$22*LCI!$Z$18 -> 0 | AR66: =AR$22*LCI!$AG$18 -> 0 | AS66: =AS$22*LCI!$AN$18 -> 0.00027800917 | AT66: =AT$22*LCI!$E$18 -> 0.0033376066 | AU66: =AU$22*LCI!$L$18 -> 0 | AV66: =AV$22*LCI!$S$18 -> 0 | AW66: =AW$22*LCI!$Z$18 -> 0 | AX66: =AX$22*LCI!$AG$18 -> 0 | AY66: =AY$22*LCI!$AN$18 -> 0.0001330665 | AZ66: =AZ$22*LCI!$E$18 -> 0.0010818363 | BA66: =BA$22*LCI!$L$18 -> 0 | BB66: =BB$22*LCI!$S$18 -> 0 | BC66: =BC$22*LCI!$Z$18 -> 0 | BD66: =BD$22*LCI!$AG$18 -> 0 | BE66: =BE$22*LCI!$AN$18 -> 0.0024340698 | BF66: =BF$22*LCI!$E$18 -> 0.0012677743 | BG66: =BG$22*LCI!$L$18 -> 0 | BH66: =BH$22*LCI!$S$18 -> 0 | BI66: =BI$22*LCI!$Z$18 -> 0 | BJ66: =BJ$22*LCI!$AG$18 -> 0 | BK66: =BK$22*LCI!$AN$18 -> 0.0011150572 | BL66: =BL$22*LCI!$E$18 -> 0.0019254546 | BM66: =BM$22*LCI!$L$18 -> 0 | BN66: =BN$22*LCI!$S$18 -> 0 | BO66: =BO$22*LCI!$Z$18 -> 0 | BP66: =BP$22*LCI!$AG$18 -> 0 | BQ66: =BQ$22*LCI!$AN$18 -> 0.00022623548 | BR66: =BR$22*LCI!$E$18 -> 0.0024960242 | BS66: =BS$22*LCI!$L$18 -> 0 | BT66: =BT$22*LCI!$S$18 -> 0 | BU66: =BU$22*LCI!$Z$18 -> 0 | BV66: =BV$22*LCI!$AG$18 -> 0 | BW66: =BW$22*LCI!$AN$18 -> 0.00013338461 | BX66: =BX$22*LCI!$E$18 -> 0.0011565971 | BY66: =BY$22*LCI!$L$18 -> 0 | BZ66: =BZ$22*LCI!$S$18 -> 0 | CA66: =CA$22*LCI!$Z$18 -> 0 | CB66: =CB$22*LCI!$AG$18 -> 0 | CC66: =CC$22*LCI!$AN$18 -> 0.0024340698 | CD66: =CD$22*LCI!$E$18 -> 0.0013932137 | CE66: =CE$22*LCI!$L$18 -> 0 | CF66: =CF$22*LCI!$S$18 -> 0 | CG66: =CG$22*LCI!$Z$18 -> 0 | CH66: =CH$22*LCI!$AG$18 -> 0 | CI66: =CI$22*LCI!$AN$18 -> 0.0011150572 | CJ66: =CJ$22*LCI!$E$18 -> 0.0020967028 | CK66: =CK$22*LCI!$L$18 -> 0 | CL66: =CL$22*LCI!$S$18 -> 0 | CM66: =CM$22*LCI!$Z$18 -> 0 | CN66: =CN$22*LCI!$AG$18 -> 0 | CO66: =CO$22*LCI!$AN$18 -> 0.00022623548 | CP66: =CP$22*LCI!$E$18 -> 0.003512323 | CQ66: =CQ$22*LCI!$L$18 -> 0 | CR66: =CR$22*LCI!$S$18 -> 0 | CS66: =CS$22*LCI!$Z$18 -> 0 | CT66: =CT$22*LCI!$AG$18 -> 0 | CU66: =CU$22*LCI!$AN$18 -> 0.00013338461
A67: 61 | C67: ARA | D67: =D$23*LCI!$E$19 -> 2.4926227e-05 | E67: =E$23*LCI!$L$19 -> 0 | F67: =F$23*LCI!$S$19 -> 0 | G67: =G$23*LCI!$Z$19 -> 0 | H67: =H$23*LCI!$AG$19 -> 0 | I67: =I$23*LCI!$AN$19 -> 0 | J67: =J$23*LCI!$E$19 -> 2.396551e-05 | K67: =K$23*LCI!$L$19 -> 0 | L67: =L$23*LCI!$S$19 -> 0 | M67: =M$23*LCI!$Z$19 -> 0 | N67: =N$23*LCI!$AG$19 -> 0 | O67: =O$23*LCI!$AN$19 -> 0 | P67: =P$23*LCI!$E$19 -> 2.5561815e-05 | Q67: =Q$23*LCI!$L$19 -> 0 | R67: =R$23*LCI!$S$19 -> 0 | S67: =S$23*LCI!$Z$19 -> 0 | T67: =T$23*LCI!$AG$19 -> 0 | U67: =U$23*LCI!$AN$19 -> 0 | V67: =V$23*LCI!$E$19 -> 2.6556599e-05 | W67: =W$23*LCI!$L$19 -> 0 | X67: =X$23*LCI!$S$19 -> 0 | Y67: =Y$23*LCI!$Z$19 -> 0 | Z67: =Z$23*LCI!$AG$19 -> 0 | AA67: =AA$23*LCI!$AN$19 -> 0 | AB67: =AB$23*LCI!$E$19 -> 2.4606813e-05 | AC67: =AC$23*LCI!$L$19 -> 0 | AD67: =AD$23*LCI!$S$19 -> 0 | AE67: =AE$23*LCI!$Z$19 -> 0 | AF67: =AF$23*LCI!$AG$19 -> 0 | AG67: =AG$23*LCI!$AN$19 -> 0 | AH67: =AH$23*LCI!$E$19 -> 2.2128227e-05 | AI67: =AI$23*LCI!$L$19 -> 0 | AJ67: =AJ$23*LCI!$S$19 -> 0 | AK67: =AK$23*LCI!$Z$19 -> 0 | AL67: =AL$23*LCI!$AG$19 -> 0 | AM67: =AM$23*LCI!$AN$19 -> 0 | AN67: =AN$23*LCI!$E$19 -> 1.9531292e-05 | AO67: =AO$23*LCI!$L$19 -> 0 | AP67: =AP$23*LCI!$S$19 -> 0 | AQ67: =AQ$23*LCI!$Z$19 -> 0 | AR67: =AR$23*LCI!$AG$19 -> 0 | AS67: =AS$23*LCI!$AN$19 -> 0 | AT67: =AT$23*LCI!$E$19 -> 1.7791585e-05 | AU67: =AU$23*LCI!$L$19 -> 0 | AV67: =AV$23*LCI!$S$19 -> 0 | AW67: =AW$23*LCI!$Z$19 -> 0 | AX67: =AX$23*LCI!$AG$19 -> 0 | AY67: =AY$23*LCI!$AN$19 -> 0 | AZ67: =AZ$23*LCI!$E$19 -> 2.4635283e-05 | BA67: =BA$23*LCI!$L$19 -> 0 | BB67: =BB$23*LCI!$S$19 -> 0 | BC67: =BC$23*LCI!$Z$19 -> 0 | BD67: =BD$23*LCI!$AG$19 -> 0 | BE67: =BE$23*LCI!$AN$19 -> 0 | BF67: =BF$23*LCI!$E$19 -> 2.2174138e-05 | BG67: =BG$23*LCI!$L$19 -> 0 | BH67: =BH$23*LCI!$S$19 -> 0 | BI67: =BI$23*LCI!$Z$19 -> 0 | BJ67: =BJ$23*LCI!$AG$19 -> 0 | BK67: =BK$23*LCI!$AN$19 -> 0 | BL67: =BL$23*LCI!$E$19 -> 1.9967999e-05 | BM67: =BM$23*LCI!$L$19 -> 0 | BN67: =BN$23*LCI!$S$19 -> 0 | BO67: =BO$23*LCI!$Z$19 -> 0 | BP67: =BP$23*LCI!$AG$19 -> 0 | BQ67: =BQ$23*LCI!$AN$19 -> 0 | BR67: =BR$23*LCI!$E$19 -> 1.6817609e-05 | BS67: =BS$23*LCI!$L$19 -> 0 | BT67: =BT$23*LCI!$S$19 -> 0 | BU67: =BU$23*LCI!$Z$19 -> 0 | BV67: =BV$23*LCI!$AG$19 -> 0 | BW67: =BW$23*LCI!$AN$19 -> 0 | BX67: =BX$23*LCI!$E$19 -> 2.4640519e-05 | BY67: =BY$23*LCI!$L$19 -> 0 | BZ67: =BZ$23*LCI!$S$19 -> 0 | CA67: =CA$23*LCI!$Z$19 -> 0 | CB67: =CB$23*LCI!$AG$19 -> 0 | CC67: =CC$23*LCI!$AN$19 -> 0 | CD67: =CD$23*LCI!$E$19 -> 2.2091144e-05 | CE67: =CE$23*LCI!$L$19 -> 0 | CF67: =CF$23*LCI!$S$19 -> 0 | CG67: =CG$23*LCI!$Z$19 -> 0 | CH67: =CH$23*LCI!$AG$19 -> 0 | CI67: =CI$23*LCI!$AN$19 -> 0 | CJ67: =CJ$23*LCI!$E$19 -> 1.9466959e-05 | CK67: =CK$23*LCI!$L$19 -> 0 | CL67: =CL$23*LCI!$S$19 -> 0 | CM67: =CM$23*LCI!$Z$19 -> 0 | CN67: =CN$23*LCI!$AG$19 -> 0 | CO67: =CO$23*LCI!$AN$19 -> 0 | CP67: =CP$23*LCI!$E$19 -> 1.8826535e-05 | CQ67: =CQ$23*LCI!$L$19 -> 0 | CR67: =CR$23*LCI!$S$19 -> 0 | CS67: =CS$23*LCI!$Z$19 -> 0 | CT67: =CT$23*LCI!$AG$19 -> 0 | CU67: =CU$23*LCI!$AN$19 -> 0
A68: 62 | C68: KVA (EE-Anteil) | D68: =D$24*LCI!$E$20 -> 0 | E68: =E$24*LCI!$L$20 -> 0 | F68: =F$24*LCI!$S$20 -> 0 | G68: =G$24*LCI!$Z$20 -> 0 | H68: =H$24*LCI!$AG$20 -> 0 | I68: =I$24*LCI!$AN$20 -> 0 | J68: =J$24*LCI!$E$20 -> 0 | K68: =K$24*LCI!$L$20 -> 0 | L68: =L$24*LCI!$S$20 -> 0 | M68: =M$24*LCI!$Z$20 -> 0 | N68: =N$24*LCI!$AG$20 -> 0 | O68: =O$24*LCI!$AN$20 -> 0 | P68: =P$24*LCI!$E$20 -> 0 | Q68: =Q$24*LCI!$L$20 -> 0 | R68: =R$24*LCI!$S$20 -> 0 | S68: =S$24*LCI!$Z$20 -> 0 | T68: =T$24*LCI!$AG$20 -> 0 | U68: =U$24*LCI!$AN$20 -> 0 | V68: =V$24*LCI!$E$20 -> 0 | W68: =W$24*LCI!$L$20 -> 0 | X68: =X$24*LCI!$S$20 -> 0 | Y68: =Y$24*LCI!$Z$20 -> 0 | Z68: =Z$24*LCI!$AG$20 -> 0 | AA68: =AA$24*LCI!$AN$20 -> 0 | AB68: =AB$24*LCI!$E$20 -> 0 | AC68: =AC$24*LCI!$L$20 -> 0 | AD68: =AD$24*LCI!$S$20 -> 0 | AE68: =AE$24*LCI!$Z$20 -> 0 | AF68: =AF$24*LCI!$AG$20 -> 0 | AG68: =AG$24*LCI!$AN$20 -> 0 | AH68: =AH$24*LCI!$E$20 -> 0 | AI68: =AI$24*LCI!$L$20 -> 0 | AJ68: =AJ$24*LCI!$S$20 -> 0 | AK68: =AK$24*LCI!$Z$20 -> 0 | AL68: =AL$24*LCI!$AG$20 -> 0 | AM68: =AM$24*LCI!$AN$20 -> 0 | AN68: =AN$24*LCI!$E$20 -> 0 | AO68: =AO$24*LCI!$L$20 -> 0 | AP68: =AP$24*LCI!$S$20 -> 0 | AQ68: =AQ$24*LCI!$Z$20 -> 0 | AR68: =AR$24*LCI!$AG$20 -> 0 | AS68: =AS$24*LCI!$AN$20 -> 0 | AT68: =AT$24*LCI!$E$20 -> 0 | AU68: =AU$24*LCI!$L$20 -> 0 | AV68: =AV$24*LCI!$S$20 -> 0 | AW68: =AW$24*LCI!$Z$20 -> 0 | AX68: =AX$24*LCI!$AG$20 -> 0 | AY68: =AY$24*LCI!$AN$20 -> 0 | AZ68: =AZ$24*LCI!$E$20 -> 0 | BA68: =BA$24*LCI!$L$20 -> 0 | BB68: =BB$24*LCI!$S$20 -> 0 | BC68: =BC$24*LCI!$Z$20 -> 0 | BD68: =BD$24*LCI!$AG$20 -> 0 | BE68: =BE$24*LCI!$AN$20 -> 0 | BF68: =BF$24*LCI!$E$20 -> 0 | BG68: =BG$24*LCI!$L$20 -> 0 | BH68: =BH$24*LCI!$S$20 -> 0 | BI68: =BI$24*LCI!$Z$20 -> 0 | BJ68: =BJ$24*LCI!$AG$20 -> 0 | BK68: =BK$24*LCI!$AN$20 -> 0 | BL68: =BL$24*LCI!$E$20 -> 0 | BM68: =BM$24*LCI!$L$20 -> 0 | BN68: =BN$24*LCI!$S$20 -> 0 | BO68: =BO$24*LCI!$Z$20 -> 0 | BP68: =BP$24*LCI!$AG$20 -> 0 | BQ68: =BQ$24*LCI!$AN$20 -> 0 | BR68: =BR$24*LCI!$E$20 -> 0 | BS68: =BS$24*LCI!$L$20 -> 0 | BT68: =BT$24*LCI!$S$20 -> 0 | BU68: =BU$24*LCI!$Z$20 -> 0 | BV68: =BV$24*LCI!$AG$20 -> 0 | BW68: =BW$24*LCI!$AN$20 -> 0 | BX68: =BX$24*LCI!$E$20 -> 0 | BY68: =BY$24*LCI!$L$20 -> 0 | BZ68: =BZ$24*LCI!$S$20 -> 0 | CA68: =CA$24*LCI!$Z$20 -> 0 | CB68: =CB$24*LCI!$AG$20 -> 0 | CC68: =CC$24*LCI!$AN$20 -> 0 | CD68: =CD$24*LCI!$E$20 -> 0 | CE68: =CE$24*LCI!$L$20 -> 0 | CF68: =CF$24*LCI!$S$20 -> 0 | CG68: =CG$24*LCI!$Z$20 -> 0 | CH68: =CH$24*LCI!$AG$20 -> 0 | CI68: =CI$24*LCI!$AN$20 -> 0 | CJ68: =CJ$24*LCI!$E$20 -> 0 | CK68: =CK$24*LCI!$L$20 -> 0 | CL68: =CL$24*LCI!$S$20 -> 0 | CM68: =CM$24*LCI!$Z$20 -> 0 | CN68: =CN$24*LCI!$AG$20 -> 0 | CO68: =CO$24*LCI!$AN$20 -> 0 | CP68: =CP$24*LCI!$E$20 -> 0 | CQ68: =CQ$24*LCI!$L$20 -> 0 | CR68: =CR$24*LCI!$S$20 -> 0 | CS68: =CS$24*LCI!$Z$20 -> 0 | CT68: =CT$24*LCI!$AG$20 -> 0 | CU68: =CU$24*LCI!$AN$20 -> 0
A69: 63 | C69: Geothermie | D69: =D$25*LCI!$E$21 -> 9.0220217e-06 | E69: =E$25*LCI!$L$21 -> 0 | F69: =F$25*LCI!$S$21 -> 0 | G69: =G$25*LCI!$Z$21 -> 0 | H69: =H$25*LCI!$AG$21 -> 0 | I69: =I$25*LCI!$AN$21 -> 0 | J69: =J$25*LCI!$E$21 -> 1.3355393e-05 | K69: =K$25*LCI!$L$21 -> 0 | L69: =L$25*LCI!$S$21 -> 0 | M69: =M$25*LCI!$Z$21 -> 0 | N69: =N$25*LCI!$AG$21 -> 0 | O69: =O$25*LCI!$AN$21 -> 0 | P69: =P$25*LCI!$E$21 -> 2.1635392e-05 | Q69: =Q$25*LCI!$L$21 -> 0 | R69: =R$25*LCI!$S$21 -> 0 | S69: =S$25*LCI!$Z$21 -> 0 | T69: =T$25*LCI!$AG$21 -> 0 | U69: =U$25*LCI!$AN$21 -> 0 | V69: =V$25*LCI!$E$21 -> 3.589307e-05 | W69: =W$25*LCI!$L$21 -> 0 | X69: =X$25*LCI!$S$21 -> 0 | Y69: =Y$25*LCI!$Z$21 -> 0 | Z69: =Z$25*LCI!$AG$21 -> 0 | AA69: =AA$25*LCI!$AN$21 -> 0 | AB69: =AB$25*LCI!$E$21 -> 8.9064102e-06 | AC69: =AC$25*LCI!$L$21 -> 0 | AD69: =AD$25*LCI!$S$21 -> 0 | AE69: =AE$25*LCI!$Z$21 -> 0 | AF69: =AF$25*LCI!$AG$21 -> 0 | AG69: =AG$25*LCI!$AN$21 -> 0 | AH69: =AH$25*LCI!$E$21 -> 1.2505748e-05 | AI69: =AI$25*LCI!$L$21 -> 0 | AJ69: =AJ$25*LCI!$S$21 -> 0 | AK69: =AK$25*LCI!$Z$21 -> 0 | AL69: =AL$25*LCI!$AG$21 -> 0 | AM69: =AM$25*LCI!$AN$21 -> 0 | AN69: =AN$25*LCI!$E$21 -> 0.00010803912 | AO69: =AO$25*LCI!$L$21 -> 0 | AP69: =AP$25*LCI!$S$21 -> 0 | AQ69: =AQ$25*LCI!$Z$21 -> 0 | AR69: =AR$25*LCI!$AG$21 -> 0 | AS69: =AS$25*LCI!$AN$21 -> 0 | AT69: =AT$25*LCI!$E$21 -> 0.00033224248 | AU69: =AU$25*LCI!$L$21 -> 0 | AV69: =AV$25*LCI!$S$21 -> 0 | AW69: =AW$25*LCI!$Z$21 -> 0 | AX69: =AX$25*LCI!$AG$21 -> 0 | AY69: =AY$25*LCI!$AN$21 -> 0 | AZ69: =AZ$25*LCI!$E$21 -> 8.9236166e-06 | BA69: =BA$25*LCI!$L$21 -> 0 | BB69: =BB$25*LCI!$S$21 -> 0 | BC69: =BC$25*LCI!$Z$21 -> 0 | BD69: =BD$25*LCI!$AG$21 -> 0 | BE69: =BE$25*LCI!$AN$21 -> 0 | BF69: =BF$25*LCI!$E$21 -> 1.2521866e-05 | BG69: =BG$25*LCI!$L$21 -> 0 | BH69: =BH$25*LCI!$S$21 -> 0 | BI69: =BI$25*LCI!$Z$21 -> 0 | BJ69: =BJ$25*LCI!$AG$21 -> 0 | BK69: =BK$25*LCI!$AN$21 -> 0 | BL69: =BL$25*LCI!$E$21 -> 0.00010814966 | BM69: =BM$25*LCI!$L$21 -> 0 | BN69: =BN$25*LCI!$S$21 -> 0 | BO69: =BO$25*LCI!$Z$21 -> 0 | BP69: =BP$25*LCI!$AG$21 -> 0 | BQ69: =BQ$25*LCI!$AN$21 -> 0 | BR69: =BR$25*LCI!$E$21 -> 0.00031761301 | BS69: =BS$25*LCI!$L$21 -> 0 | BT69: =BT$25*LCI!$S$21 -> 0 | BU69: =BU$25*LCI!$Z$21 -> 0 | BV69: =BV$25*LCI!$AG$21 -> 0 | BW69: =BW$25*LCI!$AN$21 -> 0 | BX69: =BX$25*LCI!$E$21 -> 8.91861e-06 | BY69: =BY$25*LCI!$L$21 -> 0 | BZ69: =BZ$25*LCI!$S$21 -> 0 | CA69: =CA$25*LCI!$Z$21 -> 0 | CB69: =CB$25*LCI!$AG$21 -> 0 | CC69: =CC$25*LCI!$AN$21 -> 0 | CD69: =CD$25*LCI!$E$21 -> 1.2504421e-05 | CE69: =CE$25*LCI!$L$21 -> 0 | CF69: =CF$25*LCI!$S$21 -> 0 | CG69: =CG$25*LCI!$Z$21 -> 0 | CH69: =CH$25*LCI!$AG$21 -> 0 | CI69: =CI$25*LCI!$AN$21 -> 0 | CJ69: =CJ$25*LCI!$E$21 -> 0.00010816356 | CK69: =CK$25*LCI!$L$21 -> 0 | CL69: =CL$25*LCI!$S$21 -> 0 | CM69: =CM$25*LCI!$Z$21 -> 0 | CN69: =CN$25*LCI!$AG$21 -> 0 | CO69: =CO$25*LCI!$AN$21 -> 0 | CP69: =CP$25*LCI!$E$21 -> 0.00034386365 | CQ69: =CQ$25*LCI!$L$21 -> 0 | CR69: =CR$25*LCI!$S$21 -> 0 | CS69: =CS$25*LCI!$Z$21 -> 0 | CT69: =CT$25*LCI!$AG$21 -> 0 | CU69: =CU$25*LCI!$AN$21 -> 0
A70: 64 | C70: Wasserstoff | D70: =D$26*LCI!$E$22 -> 0 | E70: =E$26*LCI!$L$22 -> 0 | F70: =F$26*LCI!$S$22 -> 0 | G70: =G$26*LCI!$Z$22 -> 0 | H70: =H$26*LCI!$AG$22 -> 0 | I70: =I$26*LCI!$AN$22 -> 0.00019392611 | J70: =J$26*LCI!$E$22 -> 0 | K70: =K$26*LCI!$L$22 -> 0 | L70: =L$26*LCI!$S$22 -> 0 | M70: =M$26*LCI!$Z$22 -> 0 | N70: =N$26*LCI!$AG$22 -> 0 | O70: =O$26*LCI!$AN$22 -> 0.0014413612 | P70: =P$26*LCI!$E$22 -> 0 | Q70: =Q$26*LCI!$L$22 -> 0 | R70: =R$26*LCI!$S$22 -> 0 | S70: =S$26*LCI!$Z$22 -> 0 | T70: =T$26*LCI!$AG$22 -> 0 | U70: =U$26*LCI!$AN$22 -> 0.0023051096 | V70: =V$26*LCI!$E$22 -> 0 | W70: =W$26*LCI!$L$22 -> 0 | X70: =X$26*LCI!$S$22 -> 0 | Y70: =Y$26*LCI!$Z$22 -> 0 | Z70: =Z$26*LCI!$AG$22 -> 0 | AA70: =AA$26*LCI!$AN$22 -> 0.0034230713 | AB70: =AB$26*LCI!$E$22 -> 0 | AC70: =AC$26*LCI!$L$22 -> 0 | AD70: =AD$26*LCI!$S$22 -> 0 | AE70: =AE$26*LCI!$Z$22 -> 0 | AF70: =AF$26*LCI!$AG$22 -> 0 | AG70: =AG$26*LCI!$AN$22 -> 0.00019392611 | AH70: =AH$26*LCI!$E$22 -> 0 | AI70: =AI$26*LCI!$L$22 -> 0 | AJ70: =AJ$26*LCI!$S$22 -> 0 | AK70: =AK$26*LCI!$Z$22 -> 0 | AL70: =AL$26*LCI!$AG$22 -> 0 | AM70: =AM$26*LCI!$AN$22 -> 9.7779167e-05 | AN70: =AN$26*LCI!$E$22 -> 0 | AO70: =AO$26*LCI!$L$22 -> 0 | AP70: =AP$26*LCI!$S$22 -> 0 | AQ70: =AQ$26*LCI!$Z$22 -> 0 | AR70: =AR$26*LCI!$AG$22 -> 0 | AS70: =AS$26*LCI!$AN$22 -> 3.4086482e-05 | AT70: =AT$26*LCI!$E$22 -> 0 | AU70: =AU$26*LCI!$L$22 -> 0 | AV70: =AV$26*LCI!$S$22 -> 0 | AW70: =AW$26*LCI!$Z$22 -> 0 | AX70: =AX$26*LCI!$AG$22 -> 0 | AY70: =AY$26*LCI!$AN$22 -> 6.2684987e-05 | AZ70: =AZ$26*LCI!$E$22 -> 0 | BA70: =BA$26*LCI!$L$22 -> 0 | BB70: =BB$26*LCI!$S$22 -> 0 | BC70: =BC$26*LCI!$Z$22 -> 0 | BD70: =BD$26*LCI!$AG$22 -> 0 | BE70: =BE$26*LCI!$AN$22 -> 0.00019392611 | BF70: =BF$26*LCI!$E$22 -> 0 | BG70: =BG$26*LCI!$L$22 -> 0 | BH70: =BH$26*LCI!$S$22 -> 0 | BI70: =BI$26*LCI!$Z$22 -> 0 | BJ70: =BJ$26*LCI!$AG$22 -> 0 | BK70: =BK$26*LCI!$AN$22 -> 8.5512726e-05 | BL70: =BL$26*LCI!$E$22 -> 0 | BM70: =BM$26*LCI!$L$22 -> 0 | BN70: =BN$26*LCI!$S$22 -> 0 | BO70: =BO$26*LCI!$Z$22 -> 0 | BP70: =BP$26*LCI!$AG$22 -> 0 | BQ70: =BQ$26*LCI!$AN$22 -> 1.2457955e-05 | BR70: =BR$26*LCI!$E$22 -> 0 | BS70: =BS$26*LCI!$L$22 -> 0 | BT70: =BT$26*LCI!$S$22 -> 0 | BU70: =BU$26*LCI!$Z$22 -> 0 | BV70: =BV$26*LCI!$AG$22 -> 0 | BW70: =BW$26*LCI!$AN$22 -> 1.6076817e-05 | BX70: =BX$26*LCI!$E$22 -> 0 | BY70: =BY$26*LCI!$L$22 -> 0 | BZ70: =BZ$26*LCI!$S$22 -> 0 | CA70: =CA$26*LCI!$Z$22 -> 0 | CB70: =CB$26*LCI!$AG$22 -> 0 | CC70: =CC$26*LCI!$AN$22 -> 0.00019392611 | CD70: =CD$26*LCI!$E$22 -> 0 | CE70: =CE$26*LCI!$L$22 -> 0 | CF70: =CF$26*LCI!$S$22 -> 0 | CG70: =CG$26*LCI!$Z$22 -> 0 | CH70: =CH$26*LCI!$AG$22 -> 0 | CI70: =CI$26*LCI!$AN$22 -> 8.5512726e-05 | CJ70: =CJ$26*LCI!$E$22 -> 0 | CK70: =CK$26*LCI!$L$22 -> 0 | CL70: =CL$26*LCI!$S$22 -> 0 | CM70: =CM$26*LCI!$Z$22 -> 0 | CN70: =CN$26*LCI!$AG$22 -> 0 | CO70: =CO$26*LCI!$AN$22 -> 1.2457955e-05 | CP70: =CP$26*LCI!$E$22 -> 0 | CQ70: =CQ$26*LCI!$L$22 -> 0 | CR70: =CR$26*LCI!$S$22 -> 0 | CS70: =CS$26*LCI!$Z$22 -> 0 | CT70: =CT$26*LCI!$AG$22 -> 0 | CU70: =CU$26*LCI!$AN$22 -> 1.6076817e-05
A71: 65 | C71: Übrige Erneuerbare | D71: =D$27*LCI!$E$23 -> 0 | E71: =E$27*LCI!$L$23 -> 0 | F71: =F$27*LCI!$S$23 -> 0 | G71: =G$27*LCI!$Z$23 -> 0 | H71: =H$27*LCI!$AG$23 -> 0 | I71: =I$27*LCI!$AN$23 -> 0.00072856033 | J71: =J$27*LCI!$E$23 -> 0 | K71: =K$27*LCI!$L$23 -> 0 | L71: =L$27*LCI!$S$23 -> 0 | M71: =M$27*LCI!$Z$23 -> 0 | N71: =N$27*LCI!$AG$23 -> 0 | O71: =O$27*LCI!$AN$23 -> 0.00053474216 | P71: =P$27*LCI!$E$23 -> 0 | Q71: =Q$27*LCI!$L$23 -> 0 | R71: =R$27*LCI!$S$23 -> 0 | S71: =S$27*LCI!$Z$23 -> 0 | T71: =T$27*LCI!$AG$23 -> 0 | U71: =U$27*LCI!$AN$23 -> 0.00040053867 | V71: =V$27*LCI!$E$23 -> 0 | W71: =W$27*LCI!$L$23 -> 0 | X71: =X$27*LCI!$S$23 -> 0 | Y71: =Y$27*LCI!$Z$23 -> 0 | Z71: =Z$27*LCI!$AG$23 -> 0 | AA71: =AA$27*LCI!$AN$23 -> 0.00022683723 | AB71: =AB$27*LCI!$E$23 -> 0 | AC71: =AC$27*LCI!$L$23 -> 0 | AD71: =AD$27*LCI!$S$23 -> 0 | AE71: =AE$27*LCI!$Z$23 -> 0 | AF71: =AF$27*LCI!$AG$23 -> 0 | AG71: =AG$27*LCI!$AN$23 -> 0.00072856033 | AH71: =AH$27*LCI!$E$23 -> 0 | AI71: =AI$27*LCI!$L$23 -> 0 | AJ71: =AJ$27*LCI!$S$23 -> 0 | AK71: =AK$27*LCI!$Z$23 -> 0 | AL71: =AL$27*LCI!$AG$23 -> 0 | AM71: =AM$27*LCI!$AN$23 -> 0.00051590569 | AN71: =AN$27*LCI!$E$23 -> 0 | AO71: =AO$27*LCI!$L$23 -> 0 | AP71: =AP$27*LCI!$S$23 -> 0 | AQ71: =AQ$27*LCI!$Z$23 -> 0 | AR71: =AR$27*LCI!$AG$23 -> 0 | AS71: =AS$27*LCI!$AN$23 -> 0.0003750323 | AT71: =AT$27*LCI!$E$23 -> 0 | AU71: =AU$27*LCI!$L$23 -> 0 | AV71: =AV$27*LCI!$S$23 -> 0 | AW71: =AW$27*LCI!$Z$23 -> 0 | AX71: =AX$27*LCI!$AG$23 -> 0 | AY71: =AY$27*LCI!$AN$23 -> 0.00027685136 | AZ71: =AZ$27*LCI!$E$23 -> 0 | BA71: =BA$27*LCI!$L$23 -> 0 | BB71: =BB$27*LCI!$S$23 -> 0 | BC71: =BC$27*LCI!$Z$23 -> 0 | BD71: =BD$27*LCI!$AG$23 -> 0 | BE71: =BE$27*LCI!$AN$23 -> 0.00072856033 | BF71: =BF$27*LCI!$E$23 -> 0 | BG71: =BG$27*LCI!$L$23 -> 0 | BH71: =BH$27*LCI!$S$23 -> 0 | BI71: =BI$27*LCI!$Z$23 -> 0 | BJ71: =BJ$27*LCI!$AG$23 -> 0 | BK71: =BK$27*LCI!$AN$23 -> 0.00052109397 | BL71: =BL$27*LCI!$E$23 -> 0 | BM71: =BM$27*LCI!$L$23 -> 0 | BN71: =BN$27*LCI!$S$23 -> 0 | BO71: =BO$27*LCI!$Z$23 -> 0 | BP71: =BP$27*LCI!$AG$23 -> 0 | BQ71: =BQ$27*LCI!$AN$23 -> 0.00038129198 | BR71: =BR$27*LCI!$E$23 -> 0 | BS71: =BS$27*LCI!$L$23 -> 0 | BT71: =BT$27*LCI!$S$23 -> 0 | BU71: =BU$27*LCI!$Z$23 -> 0 | BV71: =BV$27*LCI!$AG$23 -> 0 | BW71: =BW$27*LCI!$AN$23 -> 0.00028012309 | BX71: =BX$27*LCI!$E$23 -> 0 | BY71: =BY$27*LCI!$L$23 -> 0 | BZ71: =BZ$27*LCI!$S$23 -> 0 | CA71: =CA$27*LCI!$Z$23 -> 0 | CB71: =CB$27*LCI!$AG$23 -> 0 | CC71: =CC$27*LCI!$AN$23 -> 0.00072856033 | CD71: =CD$27*LCI!$E$23 -> 0 | CE71: =CE$27*LCI!$L$23 -> 0 | CF71: =CF$27*LCI!$S$23 -> 0 | CG71: =CG$27*LCI!$Z$23 -> 0 | CH71: =CH$27*LCI!$AG$23 -> 0 | CI71: =CI$27*LCI!$AN$23 -> 0.00052109397 | CJ71: =CJ$27*LCI!$E$23 -> 0 | CK71: =CK$27*LCI!$L$23 -> 0 | CL71: =CL$27*LCI!$S$23 -> 0 | CM71: =CM$27*LCI!$Z$23 -> 0 | CN71: =CN$27*LCI!$AG$23 -> 0 | CO71: =CO$27*LCI!$AN$23 -> 0.00038129198 | CP71: =CP$27*LCI!$E$23 -> 0 | CQ71: =CQ$27*LCI!$L$23 -> 0 | CR71: =CR$27*LCI!$S$23 -> 0 | CS71: =CS$27*LCI!$Z$23 -> 0 | CT71: =CT$27*LCI!$AG$23 -> 0 | CU71: =CU$27*LCI!$AN$23 -> 0.00028012309
A72: 66 | C72: Import | D72: =IF(D$28>0,D$28*(SUMPRODUCT(E$29:H$29,E73:H73)),0) -> 0.0060982267 | E72: =IF(E28>0,E$28*I73,0) -> 0 | F72: =IF(F28>0,F$28*I73,0) -> 0.0017067554 | G72: =IF(G28>0,G$28*I73,0) -> 0 | H72: =IF(H28>0,H$28*I73,0) -> 0.0047168477 | I72: 0 | J72: =IF(J50>0,J50*(SUMPRODUCT(K$29:N$29,K73:N73)),0) -> 0.0011309442 | K72: =IF(K28>0,K$28*O73,0) -> 0 | L72: =IF(L28>0,L$28*O73,0) -> 0.0026252507 | M72: =IF(M28>0,M$28*O73,0) -> 0 | N72: =IF(N28>0,N$28*O73,0) -> 0.00075016768 | O72: 0 | P72: =IF(P50>0,P50*(SUMPRODUCT(Q$29:T$29,Q73:T73)),0) -> 0.0013462618 | Q72: =IF(Q28>0,Q$28*U73,0) -> 0 | R72: =IF(R28>0,R$28*U73,0) -> 0.0042530031 | S72: =IF(S28>0,S$28*U73,0) -> 0 | T72: =IF(T28>0,T$28*U73,0) -> 0 | U72: 0 | V72: =IF(V50>0,V50*(SUMPRODUCT(W$29:Z$29,W73:Z73)),0) -> 0.0012367468 | W72: =IF(W28>0,W$28*AA73,0) -> 0 | X72: =IF(X28>0,X$28*AA73,0) -> 0.0028797148 | Y72: =IF(Y28>0,Y$28*AA73,0) -> 0 | Z72: =IF(Z28>0,Z$28*AA73,0) -> 0 | AA72: 0 | AB72: =IF(AB50>0,AB50*(SUMPRODUCT(AC$29:AF$29,AC73:AF73)),0) -> 0.00044606954 | AC72: =IF(AC28>0,AC$28*AG73,0) -> 0 | AD72: =IF(AD28>0,AD$28*AG73,0) -> 0 | AE72: =IF(AE28>0,AE$28*AG73,0) -> 0 | AF72: =IF(AF28>0,AF$28*AG73,0) -> 0.0061996036 | AG72: 0 | AH72: =IF(AH50>0,AH50*(SUMPRODUCT(AI$29:AL$29,AI73:AL73)),0) -> 0.00033735802 | AI72: =IF(AI28>0,AI$28*AM73,0) -> 0 | AJ72: =IF(AJ28>0,AJ$28*AM73,0) -> 1.4841428e-05 | AK72: =IF(AK28>0,AK$28*AM73,0) -> 0 | AL72: =IF(AL28>0,AL$28*AM73,0) -> 0.0017566371 | AM72: 0 | AN72: =IF(AN50>0,AN50*(SUMPRODUCT(AO$29:AR$29,AO73:AR73)),0) -> 0.00025074551 | AO72: =IF(AO28>0,AO$28*AS73,0) -> 0 | AP72: =IF(AP28>0,AP$28*AS73,0) -> 0 | AQ72: =IF(AQ28>0,AQ$28*AS73,0) -> 0 | AR72: =IF(AR28>0,AR$28*AS73,0) -> 0.00022787505 | AS72: 0 | AT72: =IF(AT50>0,AT50*(SUMPRODUCT(AU$29:AX$29,AU73:AX73)),0) -> 0.00014469724 | AU72: =IF(AU28>0,AU$28*AY73,0) -> 0 | AV72: =IF(AV28>0,AV$28*AY73,0) -> 0 | AW72: =IF(AW28>0,AW$28*AY73,0) -> 0 | AX72: =IF(AX28>0,AX$28*AY73,0) -> 0 | AY72: 0 | AZ72: =IF(AZ50>0,AZ50*(SUMPRODUCT(BA$29:BD$29,BA73:BD73)),0) -> 0.00044706711 | BA72: =IF(BA28>0,BA$28*BE73,0) -> 0 | BB72: =IF(BB28>0,BB$28*BE73,0) -> 0 | BC72: =IF(BC28>0,BC$28*BE73,0) -> 0 | BD72: =IF(BD28>0,BD$28*BE73,0) -> 0.0061996036 | BE72: 0 | BF72: =IF(BF50>0,BF50*(SUMPRODUCT(BG$29:BJ$29,BG73:BJ73)),0) -> 0.00037910621 | BG72: =IF(BG28>0,BG$28*BK73,0) -> 0 | BH72: =IF(BH28>0,BH$28*BK73,0) -> 1.4362208e-05 | BI72: =IF(BI28>0,BI$28*BK73,0) -> 0 | BJ72: =IF(BJ28>0,BJ$28*BK73,0) -> 0.0016999165 | BK72: 0 | BL72: =IF(BL50>0,BL50*(SUMPRODUCT(BM$29:BP$29,BM73:BP73)),0) -> 0.00026918987 | BM72: =IF(BM28>0,BM$28*BQ73,0) -> 0 | BN72: =IF(BN28>0,BN$28*BQ73,0) -> 0 | BO72: =IF(BO28>0,BO$28*BQ73,0) -> 0 | BP72: =IF(BP28>0,BP$28*BQ73,0) -> 0.00021231237 | BQ72: 0 | BR72: =IF(BR50>0,BR50*(SUMPRODUCT(BS$29:BV$29,BS73:BV73)),0) -> 0.00013661829 | BS72: =IF(BS28>0,BS$28*BW73,0) -> 0 | BT72: =IF(BT28>0,BT$28*BW73,0) -> 0 | BU72: =IF(BU28>0,BU$28*BW73,0) -> 0 | BV72: =IF(BV28>0,BV$28*BW73,0) -> 0 | BW72: 0 | BX72: =IF(BX50>0,BX50*(SUMPRODUCT(BY$29:CB$29,BY73:CB73)),0) -> 0.00044677677 | BY72: =IF(BY28>0,BY$28*CC73,0) -> 0 | BZ72: =IF(BZ28>0,BZ$28*CC73,0) -> 0 | CA72: =IF(CA28>0,CA$28*CC73,0) -> 0 | CB72: =IF(CB28>0,CB$28*CC73,0) -> 0.0061996036 | CC72: 0 | CD72: =IF(CD50>0,CD50*(SUMPRODUCT(CE$29:CH$29,CE73:CH73)),0) -> 0.00037851561 | CE72: =IF(CE28>0,CE$28*CI73,0) -> 0 | CF72: =IF(CF28>0,CF$28*CI73,0) -> 1.4362208e-05 | CG72: =IF(CG28>0,CG$28*CI73,0) -> 0 | CH72: =IF(CH28>0,CH$28*CI73,0) -> 0.0016999165 | CI72: 0 | CJ72: =IF(CJ50>0,CJ50*(SUMPRODUCT(CK$29:CN$29,CK73:CN73)),0) -> 0.00026922985 | CK72: =IF(CK28>0,CK$28*CO73,0) -> 0 | CL72: =IF(CL28>0,CL$28*CO73,0) -> 0 | CM72: =IF(CM28>0,CM$28*CO73,0) -> 0 | CN72: =IF(CN28>0,CN$28*CO73,0) -> 0.00021231237 | CO72: 0 | CP72: =IF(CP50>0,CP50*(SUMPRODUCT(CQ$29:CT$29,CQ73:CT73)),0) -> 0.00015125824 | CQ72: =IF(CQ28>0,CQ$28*CU73,0) -> 0 | CR72: =IF(CR28>0,CR$28*CU73,0) -> 0 | CS72: =IF(CS28>0,CS$28*CU73,0) -> 0 | CT72: =IF(CT28>0,CT$28*CU73,0) -> 0 | CU72: 0
A73: 67 | C73: Total Indirekt | D73: =SUM(D52:D72) -> 0.018497 | E73: =SUM(E52:E72) -> 0.02458822 | F73: =SUM(F52:F72) -> 0.054569669 | G73: =SUM(G52:G72) -> 0.015467351 | H73: =SUM(H52:H72) -> 0.057290874 | I73: =SUM(I52:I72) -> 0.029634732 | J73: =SUM(J52:J72) -> 0.012910033 | K73: =SUM(K52:K72) -> 0.030308108 | ... CU73: =SUM(CU52:CU72) -> 0.018686825
A74: 68 | C74: Verlust Mittelspannung | D74: =(D$51-D$40+D$73-D$62)*(1.028*1.0098-1)+0.0025*1.0098+0.0019 -> 0.0064313743 | E74: =(E$51-E$40+E$73-E$62)*(1.028*1.0098-1)+0.0025*1.0098+0.0019 -> 0.0090037873 | F74: =(F$51-F$40+F$73-F$62)*(1.028*1.0098-1)+0.0025*1.0098+0.0019 -> 0.017794613 | G74: =(G$51-G$40+G$73-G$62)*(1.028*1.0098-1)+0.0025*1.0098+0.0019 -> 0.0059387206 | H74: =(H$51-H$40+H$73-H$62)*(1.028*1.0098-1)+0.0025*1.0098+0.0019 -> 0.015229343 | I74: =(I$51-I$40+I$73-I$62)*(1.028*1.0098-1)+0.0025*1.0098+0.0019 -> 0.0072587511 | J74: =(J$51-J$40+J$73-J$62)*(1.028*1.0098-1)+0.0025*1.0098+0.0019 -> 0.0065549994 | K74: =(K$51-K$40+K$73-K$62)*(1.028*1.0098-1)+0.0025*1.0098+0.0019 -> 0.0098044275 | ... CU74: =(CU$51-CU$40+CU$73-CU$62)*(1.028*1.0098-1)+0.0025*1.0098+0.0019 -> 0.0048431739
A75: 69 | C75: Verlust Niederspannung | D75: =(D$51-D$40+D$73-D$62)*(1.028*1.0098*1.0564-1)+0.0025*1.0098*1.0564+0.0019*1.0564+0.0024 -> 0.012166907 | E75: =(E$51-E$40+E$73-E$62)*(1.028*1.0098*1.0564-1)+0.0025*1.0098*1.0564+0.0019*1.0564+0.0024 -> 0.018694946 | F75: =(F$51-F$40+F$73-F$62)*(1.028*1.0098*1.0564-1)+0.0025*1.0098*1.0564+0.0019*1.0564+0.0024 -> 0.041003515 | G75: =(G$51-G$40+G$73-G$62)*(1.028*1.0098*1.0564-1)+0.0025*1.0098*1.0564+0.0019*1.0564+0.0024 -> 0.010916695 | H75: =(H$51-H$40+H$73-H$62)*(1.028*1.0098*1.0564-1)+0.0025*1.0098*1.0564+0.0019*1.0564+0.0024 -> 0.034493604 | I75: =(I$51-I$40+I$73-I$62)*(1.028*1.0098*1.0564-1)+0.0025*1.0098*1.0564+0.0019*1.0564+0.0024 -> 0.01426655 | J75: =(J$51-J$40+J$73-J$62)*(1.028*1.0098*1.0564-1)+0.0025*1.0098*1.0564+0.0019*1.0564+0.0024 -> 0.012480632 | K75: =(K$51-K$40+K$73-K$62)*(1.028*1.0098*1.0564-1)+0.0025*1.0098*1.0564+0.0019*1.0564+0.0024 -> 0.020726739 | ... CU75: =(CU$51-CU$40+CU$73-CU$62)*(1.028*1.0098*1.0564-1)+0.0025*1.0098*1.0564+0.0019*1.0564+0.0024 -> 0.0081365148
A76: 70 | B76: EF MöK 2021 Direkt (UBP) | C76: Kleinwasserkraft | D76: =D$8*LCI!$G$4 -> 0.042784434 | E76: =E$8*LCI!$N$4 -> 0 | F76: =F$8*LCI!$U$4 -> 0 | G76: =G$8*LCI!$AB$4 -> 0 | H76: =H$8*LCI!$AI$4 -> 0 | I76: =I$8*LCI!$AP$4 -> 0 | J76: =J$8*LCI!$G$4 -> 0.046812791 | K76: =K$8*LCI!$N$4 -> 0 | L76: =L$8*LCI!$U$4 -> 0 | M76: =M$8*LCI!$AB$4 -> 0 | N76: =N$8*LCI!$AI$4 -> 0 | O76: =O$8*LCI!$AP$4 -> 0 | P76: =P$8*LCI!$G$4 -> 0.026672871 | Q76: =Q$8*LCI!$N$4 -> 0 | R76: =R$8*LCI!$U$4 -> 0 | S76: =S$8*LCI!$AB$4 -> 0 | T76: =T$8*LCI!$AI$4 -> 0 | U76: =U$8*LCI!$AP$4 -> 0 | V76: =V$8*LCI!$G$4 -> 0.041968967 | W76: =W$8*LCI!$N$4 -> 0 | X76: =X$8*LCI!$U$4 -> 0 | Y76: =Y$8*LCI!$AB$4 -> 0 | Z76: =Z$8*LCI!$AI$4 -> 0 | AA76: =AA$8*LCI!$AP$4 -> 0 | AB76: =AB$8*LCI!$G$4 -> 0.078870946 | AC76: =AC$8*LCI!$N$4 -> 0 | AD76: =AD$8*LCI!$U$4 -> 0 | AE76: =AE$8*LCI!$AB$4 -> 0 | AF76: =AF$8*LCI!$AI$4 -> 0 | AG76: =AG$8*LCI!$AP$4 -> 0 | AH76: =AH$8*LCI!$G$4 -> 0.090364645 | AI76: =AI$8*LCI!$N$4 -> 0 | AJ76: =AJ$8*LCI!$U$4 -> 0 | AK76: =AK$8*LCI!$AB$4 -> 0 | AL76: =AL$8*LCI!$AI$4 -> 0 | AM76: =AM$8*LCI!$AP$4 -> 0 | AN76: =AN$8*LCI!$G$4 -> 0.092546855 | AO76: =AO$8*LCI!$N$4 -> 0 | AP76: =AP$8*LCI!$U$4 -> 0 | AQ76: =AQ$8*LCI!$AB$4 -> 0 | AR76: =AR$8*LCI!$AI$4 -> 0 | AS76: =AS$8*LCI!$AP$4 -> 0 | AT76: =AT$8*LCI!$G$4 -> 0.12404021 | AU76: =AU$8*LCI!$N$4 -> 0 | AV76: =AV$8*LCI!$U$4 -> 0 | AW76: =AW$8*LCI!$AB$4 -> 0 | AX76: =AX$8*LCI!$AI$4 -> 0 | AY76: =AY$8*LCI!$AP$4 -> 0 | AZ76: =AZ$8*LCI!$G$4 -> 0.079023317 | BA76: =BA$8*LCI!$N$4 -> 0 | BB76: =BB$8*LCI!$U$4 -> 0 | BC76: =BC$8*LCI!$AB$4 -> 0 | BD76: =BD$8*LCI!$AI$4 -> 0 | BE76: =BE$8*LCI!$AP$4 -> 0 | BF76: =BF$8*LCI!$G$4 -> 0.09048111 | BG76: =BG$8*LCI!$N$4 -> 0 | BH76: =BH$8*LCI!$U$4 -> 0 | BI76: =BI$8*LCI!$AB$4 -> 0 | BJ76: =BJ$8*LCI!$AI$4 -> 0 | BK76: =BK$8*LCI!$AP$4 -> 0 | BL76: =BL$8*LCI!$G$4 -> 0.092641544 | BM76: =BM$8*LCI!$N$4 -> 0 | BN76: =BN$8*LCI!$U$4 -> 0 | BO76: =BO$8*LCI!$AB$4 -> 0 | BP76: =BP$8*LCI!$AI$4 -> 0 | BQ76: =BQ$8*LCI!$AP$4 -> 0 | BR76: =BR$8*LCI!$G$4 -> 0.11857841 | BS76: =BS$8*LCI!$N$4 -> 0 | BT76: =BT$8*LCI!$U$4 -> 0 | BU76: =BU$8*LCI!$AB$4 -> 0 | BV76: =BV$8*LCI!$AI$4 -> 0 | BW76: =BW$8*LCI!$AP$4 -> 0 | BX76: =BX$8*LCI!$G$4 -> 0.078978981 | BY76: =BY$8*LCI!$N$4 -> 0 | BZ76: =BZ$8*LCI!$U$4 -> 0 | CA76: =CA$8*LCI!$AB$4 -> 0 | CB76: =CB$8*LCI!$AI$4 -> 0 | CC76: =CC$8*LCI!$AP$4 -> 0 | CD76: =CD$8*LCI!$G$4 -> 0.090355057 | CE76: =CE$8*LCI!$N$4 -> 0 | CF76: =CF$8*LCI!$U$4 -> 0 | CG76: =CG$8*LCI!$AB$4 -> 0 | CH76: =CH$8*LCI!$AI$4 -> 0 | CI76: =CI$8*LCI!$AP$4 -> 0 | CJ76: =CJ$8*LCI!$G$4 -> 0.092653448 | CK76: =CK$8*LCI!$N$4 -> 0 | CL76: =CL$8*LCI!$U$4 -> 0 | CM76: =CM$8*LCI!$AB$4 -> 0 | CN76: =CN$8*LCI!$AI$4 -> 0 | CO76: =CO$8*LCI!$AP$4 -> 0 | CP76: =CP$8*LCI!$G$4 -> 0.12837889 | CQ76: =CQ$8*LCI!$N$4 -> 0 | CR76: =CR$8*LCI!$U$4 -> 0 | CS76: =CS$8*LCI!$AB$4 -> 0 | CT76: =CT$8*LCI!$AI$4 -> 0 | CU76: =CU$8*LCI!$AP$4 -> 0
A77: 71 | C77: Speicherkraftwerke | D77: =D$9*LCI!$G$5 -> 2.2183576 | E77: =E$9*LCI!$N$5 -> 0 | F77: =F$9*LCI!$U$5 -> 0 | G77: =G$9*LCI!$AB$5 -> 0 | H77: =H$9*LCI!$AI$5 -> 0 | I77: =I$9*LCI!$AP$5 -> 0 | J77: =J$9*LCI!$G$5 -> 2.1404374 | K77: =K$9*LCI!$N$5 -> 0 | L77: =L$9*LCI!$U$5 -> 0 | M77: =M$9*LCI!$AB$5 -> 0 | N77: =N$9*LCI!$AI$5 -> 0 | O77: =O$9*LCI!$AP$5 -> 0 | P77: =P$9*LCI!$G$5 -> 2.3492377 | Q77: =Q$9*LCI!$N$5 -> 0 | R77: =R$9*LCI!$U$5 -> 0 | S77: =S$9*LCI!$AB$5 -> 0 | T77: =T$9*LCI!$AI$5 -> 0 | U77: =U$9*LCI!$AP$5 -> 0 | V77: =V$9*LCI!$G$5 -> 2.4595355 | W77: =W$9*LCI!$N$5 -> 0 | X77: =X$9*LCI!$U$5 -> 0 | Y77: =Y$9*LCI!$AB$5 -> 0 | Z77: =Z$9*LCI!$AI$5 -> 0 | AA77: =AA$9*LCI!$AP$5 -> 0 | AB77: =AB$9*LCI!$G$5 -> 2.2443107 | AC77: =AC$9*LCI!$N$5 -> 0 | AD77: =AD$9*LCI!$U$5 -> 0 | AE77: =AE$9*LCI!$AB$5 -> 0 | AF77: =AF$9*LCI!$AI$5 -> 0 | AG77: =AG$9*LCI!$AP$5 -> 0 | AH77: =AH$9*LCI!$G$5 -> 2.0778694 | AI77: =AI$9*LCI!$N$5 -> 0 | AJ77: =AJ$9*LCI!$U$5 -> 0 | AK77: =AK$9*LCI!$AB$5 -> 0 | AL77: =AL$9*LCI!$AI$5 -> 0 | AM77: =AM$9*LCI!$AP$5 -> 0 | AN77: =AN$9*LCI!$G$5 -> 2.1012756 | AO77: =AO$9*LCI!$N$5 -> 0 | AP77: =AP$9*LCI!$U$5 -> 0 | AQ77: =AQ$9*LCI!$AB$5 -> 0 | AR77: =AR$9*LCI!$AI$5 -> 0 | AS77: =AS$9*LCI!$AP$5 -> 0 | AT77: =AT$9*LCI!$G$5 -> 2.06926 | AU77: =AU$9*LCI!$N$5 -> 0 | AV77: =AV$9*LCI!$U$5 -> 0 | AW77: =AW$9*LCI!$AB$5 -> 0 | AX77: =AX$9*LCI!$AI$5 -> 0 | AY77: =AY$9*LCI!$AP$5 -> 0 | AZ77: =AZ$9*LCI!$G$5 -> 2.2458 | BA77: =BA$9*LCI!$N$5 -> 0 | BB77: =BB$9*LCI!$U$5 -> 0 | BC77: =BC$9*LCI!$AB$5 -> 0 | BD77: =BD$9*LCI!$AI$5 -> 0 | BE77: =BE$9*LCI!$AP$5 -> 0 | BF77: =BF$9*LCI!$G$5 -> 2.0766188 | BG77: =BG$9*LCI!$N$5 -> 0 | BH77: =BH$9*LCI!$U$5 -> 0 | BI77: =BI$9*LCI!$AB$5 -> 0 | BJ77: =BJ$9*LCI!$AI$5 -> 0 | BK77: =BK$9*LCI!$AP$5 -> 0 | BL77: =BL$9*LCI!$G$5 -> 2.0904763 | BM77: =BM$9*LCI!$N$5 -> 0 | BN77: =BN$9*LCI!$U$5 -> 0 | BO77: =BO$9*LCI!$AB$5 -> 0 | BP77: =BP$9*LCI!$AI$5 -> 0 | BQ77: =BQ$9*LCI!$AP$5 -> 0 | BR77: =BR$9*LCI!$G$5 -> 1.9674873 | BS77: =BS$9*LCI!$N$5 -> 0 | BT77: =BT$9*LCI!$U$5 -> 0 | BU77: =BU$9*LCI!$AB$5 -> 0 | BV77: =BV$9*LCI!$AI$5 -> 0 | BW77: =BW$9*LCI!$AP$5 -> 0 | BX77: =BX$9*LCI!$G$5 -> 2.2464116 | BY77: =BY$9*LCI!$N$5 -> 0 | BZ77: =BZ$9*LCI!$U$5 -> 0 | CA77: =CA$9*LCI!$AB$5 -> 0 | CB77: =CB$9*LCI!$AI$5 -> 0 | CC77: =CC$9*LCI!$AP$5 -> 0 | CD77: =CD$9*LCI!$G$5 -> 2.0743739 | CE77: =CE$9*LCI!$N$5 -> 0 | CF77: =CF$9*LCI!$U$5 -> 0 | CG77: =CG$9*LCI!$AB$5 -> 0 | CH77: =CH$9*LCI!$AI$5 -> 0 | CI77: =CI$9*LCI!$AP$5 -> 0 | CJ77: =CJ$9*LCI!$G$5 -> 2.0968053 | CK77: =CK$9*LCI!$N$5 -> 0 | CL77: =CL$9*LCI!$U$5 -> 0 | CM77: =CM$9*LCI!$AB$5 -> 0 | CN77: =CN$9*LCI!$AI$5 -> 0 | CO77: =CO$9*LCI!$AP$5 -> 0 | CP77: =CP$9*LCI!$G$5 -> 2.1249437 | CQ77: =CQ$9*LCI!$N$5 -> 0 | CR77: =CR$9*LCI!$U$5 -> 0 | CS77: =CS$9*LCI!$AB$5 -> 0 | CT77: =CT$9*LCI!$AI$5 -> 0 | CU77: =CU$9*LCI!$AP$5 -> 0
A78: 72 | C78: Laufwasserkraft | D78: =D$10*LCI!$G$6 -> 2.2072242 | E78: =E$10*LCI!$N$6 -> 0 | F78: =F$10*LCI!$U$6 -> 0 | G78: =G$10*LCI!$AB$6 -> 0 | H78: =H$10*LCI!$AI$6 -> 0 | I78: =I$10*LCI!$AP$6 -> 0 | J78: =J$10*LCI!$G$6 -> 2.1082689 | K78: =K$10*LCI!$N$6 -> 0 | L78: =L$10*LCI!$U$6 -> 0 | M78: =M$10*LCI!$AB$6 -> 0 | N78: =N$10*LCI!$AI$6 -> 0 | O78: =O$10*LCI!$AP$6 -> 0 | P78: =P$10*LCI!$G$6 -> 2.2675699 | Q78: =Q$10*LCI!$N$6 -> 0 | R78: =R$10*LCI!$U$6 -> 0 | S78: =S$10*LCI!$AB$6 -> 0 | T78: =T$10*LCI!$AI$6 -> 0 | U78: =U$10*LCI!$AP$6 -> 0 | V78: =V$10*LCI!$G$6 -> 2.3422967 | W78: =W$10*LCI!$N$6 -> 0 | X78: =X$10*LCI!$U$6 -> 0 | Y78: =Y$10*LCI!$AB$6 -> 0 | Z78: =Z$10*LCI!$AI$6 -> 0 | AA78: =AA$10*LCI!$AP$6 -> 0 | AB78: =AB$10*LCI!$G$6 -> 2.1936791 | AC78: =AC$10*LCI!$N$6 -> 0 | AD78: =AD$10*LCI!$U$6 -> 0 | AE78: =AE$10*LCI!$AB$6 -> 0 | AF78: =AF$10*LCI!$AI$6 -> 0 | AG78: =AG$10*LCI!$AP$6 -> 0 | AH78: =AH$10*LCI!$G$6 -> 1.9963808 | AI78: =AI$10*LCI!$N$6 -> 0 | AJ78: =AJ$10*LCI!$U$6 -> 0 | AK78: =AK$10*LCI!$AB$6 -> 0 | AL78: =AL$10*LCI!$AI$6 -> 0 | AM78: =AM$10*LCI!$AP$6 -> 0 | AN78: =AN$10*LCI!$G$6 -> 1.9924467 | AO78: =AO$10*LCI!$N$6 -> 0 | AP78: =AP$10*LCI!$U$6 -> 0 | AQ78: =AQ$10*LCI!$AB$6 -> 0 | AR78: =AR$10*LCI!$AI$6 -> 0 | AS78: =AS$10*LCI!$AP$6 -> 0 | AT78: =AT$10*LCI!$G$6 -> 1.8752585 | AU78: =AU$10*LCI!$N$6 -> 0 | AV78: =AV$10*LCI!$U$6 -> 0 | AW78: =AW$10*LCI!$AB$6 -> 0 | AX78: =AX$10*LCI!$AI$6 -> 0 | AY78: =AY$10*LCI!$AP$6 -> 0 | AZ78: =AZ$10*LCI!$G$6 -> 2.1979171 | BA78: =BA$10*LCI!$N$6 -> 0 | BB78: =BB$10*LCI!$U$6 -> 0 | BC78: =BC$10*LCI!$AB$6 -> 0 | BD78: =BD$10*LCI!$AI$6 -> 0 | BE78: =BE$10*LCI!$AP$6 -> 0 | BF78: =BF$10*LCI!$G$6 -> 1.9989538 | BG78: =BG$10*LCI!$N$6 -> 0 | BH78: =BH$10*LCI!$U$6 -> 0 | BI78: =BI$10*LCI!$AB$6 -> 0 | BJ78: =BJ$10*LCI!$AI$6 -> 0 | BK78: =BK$10*LCI!$AP$6 -> 0 | BL78: =BL$10*LCI!$G$6 -> 1.9944852 | BM78: =BM$10*LCI!$N$6 -> 0 | BN78: =BN$10*LCI!$U$6 -> 0 | BO78: =BO$10*LCI!$AB$6 -> 0 | BP78: =BP$10*LCI!$AI$6 -> 0 | BQ78: =BQ$10*LCI!$AP$6 -> 0 | BR78: =BR$10*LCI!$G$6 -> 1.7926862 | BS78: =BS$10*LCI!$N$6 -> 0 | BT78: =BT$10*LCI!$U$6 -> 0 | BU78: =BU$10*LCI!$AB$6 -> 0 | BV78: =BV$10*LCI!$AI$6 -> 0 | BW78: =BW$10*LCI!$AP$6 -> 0 | BX78: =BX$10*LCI!$G$6 -> 2.196684 | BY78: =BY$10*LCI!$N$6 -> 0 | BZ78: =BZ$10*LCI!$U$6 -> 0 | CA78: =CA$10*LCI!$AB$6 -> 0 | CB78: =CB$10*LCI!$AI$6 -> 0 | CC78: =CC$10*LCI!$AP$6 -> 0 | CD78: =CD$10*LCI!$G$6 -> 1.996169 | CE78: =CE$10*LCI!$N$6 -> 0 | CF78: =CF$10*LCI!$U$6 -> 0 | CG78: =CG$10*LCI!$AB$6 -> 0 | CH78: =CH$10*LCI!$AI$6 -> 0 | CI78: =CI$10*LCI!$AP$6 -> 0 | CJ78: =CJ$10*LCI!$G$6 -> 1.9947415 | CK78: =CK$10*LCI!$N$6 -> 0 | CL78: =CL$10*LCI!$U$6 -> 0 | CM78: =CM$10*LCI!$AB$6 -> 0 | CN78: =CN$10*LCI!$AI$6 -> 0 | CO78: =CO$10*LCI!$AP$6 -> 0 | CP78: =CP$10*LCI!$G$6 -> 1.9408513 | CQ78: =CQ$10*LCI!$N$6 -> 0 | CR78: =CR$10*LCI!$U$6 -> 0 | CS78: =CS$10*LCI!$AB$6 -> 0 | CT78: =CT$10*LCI!$AI$6 -> 0 | CU78: =CU$10*LCI!$AP$6 -> 0
A79: 73 | C79: Pumpspeicher | D79: =D$11*(LCI!$G$7+1.419*SUM(D76:D78,D80:D96)) -> 3.4059854 | E79: =E$11*(LCI!$N$7+1.447*SUM(E76:E78,E80:E96)) -> 0 | F79: =F$11*(LCI!$U$7+1.523*SUM(F76:F78,F80:F96)) -> 0 | G79: =G$11*(LCI!$AB$7+1.357*SUM(G76:G78,G80:G96)) -> 0 | H79: =H$11*(LCI!$AI$7+1.396*SUM(H76:H78,H80:H96)) -> 0 | I79: =I$11*(LCI!$AP$7+1.25*SUM(I76:I78,I80:I96)) -> 0 | J79: =J$11*(LCI!$G$7+1.419*SUM(J76:J78,J80:J96)) -> 3.9106019 | K79: =K$11*(LCI!$N$7+1.447*SUM(K76:K78,K80:K96)) -> 0 | L79: =L$11*(LCI!$U$7+1.523*SUM(L76:L78,L80:L96)) -> 0 | M79: =M$11*(LCI!$AB$7+1.357*SUM(M76:M78,M80:M96)) -> 0 | N79: =N$11*(LCI!$AI$7+1.396*SUM(N76:N78,N80:N96)) -> 0 | O79: =O$11*(LCI!$AP$7+1.25*SUM(O76:O78,O80:O96)) -> 0 | P79: =P$11*(LCI!$G$7+1.419*SUM(P76:P78,P80:P96)) -> 4.1038265 | Q79: =Q$11*(LCI!$N$7+1.447*SUM(Q76:Q78,Q80:Q96)) -> 0 | R79: =R$11*(LCI!$U$7+1.523*SUM(R76:R78,R80:R96)) -> 0 | S79: =S$11*(LCI!$AB$7+1.357*SUM(S76:S78,S80:S96)) -> 0 | T79: =T$11*(LCI!$AI$7+1.396*SUM(T76:T78,T80:T96)) -> 0 | U79: =U$11*(LCI!$AP$7+1.25*SUM(U76:U78,U80:U96)) -> 0 | V79: =V$11*(LCI!$G$7+1.419*SUM(V76:V78,V80:V96)) -> 4.1922092 | W79: =W$11*(LCI!$N$7+1.447*SUM(W76:W78,W80:W96)) -> 0 | X79: =X$11*(LCI!$U$7+1.523*SUM(X76:X78,X80:X96)) -> 0 | Y79: =Y$11*(LCI!$AB$7+1.357*SUM(Y76:Y78,Y80:Y96)) -> 0 | Z79: =Z$11*(LCI!$AI$7+1.396*SUM(Z76:Z78,Z80:Z96)) -> 0 | AA79: =AA$11*(LCI!$AP$7+1.25*SUM(AA76:AA78,AA80:AA96)) -> 0 | AB79: =AB$11*(LCI!$G$7+1.419*SUM(AB76:AB78,AB80:AB96)) -> 2.8943653 | AC79: =AC$11*(LCI!$N$7+1.447*SUM(AC76:AC78,AC80:AC96)) -> 0 | AD79: =AD$11*(LCI!$U$7+1.523*SUM(AD76:AD78,AD80:AD96)) -> 0 | AE79: =AE$11*(LCI!$AB$7+1.357*SUM(AE76:AE78,AE80:AE96)) -> 0 | AF79: =AF$11*(LCI!$AI$7+1.396*SUM(AF76:AF78,AF80:AF96)) -> 0 | AG79: =AG$11*(LCI!$AP$7+1.25*SUM(AG76:AG78,AG80:AG96)) -> 0 | AH79: =AH$11*(LCI!$G$7+1.419*SUM(AH76:AH78,AH80:AH96)) -> 2.8122319 | AI79: =AI$11*(LCI!$N$7+1.447*SUM(AI76:AI78,AI80:AI96)) -> 0 | AJ79: =AJ$11*(LCI!$U$7+1.523*SUM(AJ76:AJ78,AJ80:AJ96)) -> 0 | AK79: =AK$11*(LCI!$AB$7+1.357*SUM(AK76:AK78,AK80:AK96)) -> 0 | AL79: =AL$11*(LCI!$AI$7+1.396*SUM(AL76:AL78,AL80:AL96)) -> 0 | AM79: =AM$11*(LCI!$AP$7+1.25*SUM(AM76:AM78,AM80:AM96)) -> 0 | AN79: =AN$11*(LCI!$G$7+1.419*SUM(AN76:AN78,AN80:AN96)) -> 2.87626 | AO79: =AO$11*(LCI!$N$7+1.447*SUM(AO76:AO78,AO80:AO96)) -> 0 | AP79: =AP$11*(LCI!$U$7+1.523*SUM(AP76:AP78,AP80:AP96)) -> 0 | AQ79: =AQ$11*(LCI!$AB$7+1.357*SUM(AQ76:AQ78,AQ80:AQ96)) -> 0 | AR79: =AR$11*(LCI!$AI$7+1.396*SUM(AR76:AR78,AR80:AR96)) -> 0 | AS79: =AS$11*(LCI!$AP$7+1.25*SUM(AS76:AS78,AS80:AS96)) -> 0 | AT79: =AT$11*(LCI!$G$7+1.419*SUM(AT76:AT78,AT80:AT96)) -> 1.9023346 | AU79: =AU$11*(LCI!$N$7+1.447*SUM(AU76:AU78,AU80:AU96)) -> 0 | AV79: =AV$11*(LCI!$U$7+1.523*SUM(AV76:AV78,AV80:AV96)) -> 0 | AW79: =AW$11*(LCI!$AB$7+1.357*SUM(AW76:AW78,AW80:AW96)) -> 0 | AX79: =AX$11*(LCI!$AI$7+1.396*SUM(AX76:AX78,AX80:AX96)) -> 0 | AY79: =AY$11*(LCI!$AP$7+1.25*SUM(AY76:AY78,AY80:AY96)) -> 0 | AZ79: =AZ$11*(LCI!$G$7+1.419*SUM(AZ76:AZ78,AZ80:AZ96)) -> 2.8380911 | BA79: =BA$11*(LCI!$N$7+1.447*SUM(BA76:BA78,BA80:BA96)) -> 0 | BB79: =BB$11*(LCI!$U$7+1.523*SUM(BB76:BB78,BB80:BB96)) -> 0 | BC79: =BC$11*(LCI!$AB$7+1.357*SUM(BC76:BC78,BC80:BC96)) -> 0 | BD79: =BD$11*(LCI!$AI$7+1.396*SUM(BD76:BD78,BD80:BD96)) -> 0 | BE79: =BE$11*(LCI!$AP$7+1.25*SUM(BE76:BE78,BE80:BE96)) -> 0 | BF79: =BF$11*(LCI!$G$7+1.419*SUM(BF76:BF78,BF80:BF96)) -> 2.8718224 | BG79: =BG$11*(LCI!$N$7+1.447*SUM(BG76:BG78,BG80:BG96)) -> 0 | BH79: =BH$11*(LCI!$U$7+1.523*SUM(BH76:BH78,BH80:BH96)) -> 0 | BI79: =BI$11*(LCI!$AB$7+1.357*SUM(BI76:BI78,BI80:BI96)) -> 0 | BJ79: =BJ$11*(LCI!$AI$7+1.396*SUM(BJ76:BJ78,BJ80:BJ96)) -> 0 | BK79: =BK$11*(LCI!$AP$7+1.25*SUM(BK76:BK78,BK80:BK96)) -> 0 | BL79: =BL$11*(LCI!$G$7+1.419*SUM(BL76:BL78,BL80:BL96)) -> 2.9041742 | BM79: =BM$11*(LCI!$N$7+1.447*SUM(BM76:BM78,BM80:BM96)) -> 0 | BN79: =BN$11*(LCI!$U$7+1.523*SUM(BN76:BN78,BN80:BN96)) -> 0 | BO79: =BO$11*(LCI!$AB$7+1.357*SUM(BO76:BO78,BO80:BO96)) -> 0 | BP79: =BP$11*(LCI!$AI$7+1.396*SUM(BP76:BP78,BP80:BP96)) -> 0 | BQ79: =BQ$11*(LCI!$AP$7+1.25*SUM(BQ76:BQ78,BQ80:BQ96)) -> 0 | BR79: =BR$11*(LCI!$G$7+1.419*SUM(BR76:BR78,BR80:BR96)) -> 1.7956556 | BS79: =BS$11*(LCI!$N$7+1.447*SUM(BS76:BS78,BS80:BS96)) -> 0 | BT79: =BT$11*(LCI!$U$7+1.523*SUM(BT76:BT78,BT80:BT96)) -> 0 | BU79: =BU$11*(LCI!$AB$7+1.357*SUM(BU76:BU78,BU80:BU96)) -> 0 | BV79: =BV$11*(LCI!$AI$7+1.396*SUM(BV76:BV78,BV80:BV96)) -> 0 | BW79: =BW$11*(LCI!$AP$7+1.25*SUM(BW76:BW78,BW80:BW96)) -> 0 | BX79: =BX$11*(LCI!$G$7+1.419*SUM(BX76:BX78,BX80:BX96)) -> 2.9649435 | BY79: =BY$11*(LCI!$N$7+1.447*SUM(BY76:BY78,BY80:BY96)) -> 0 | BZ79: =BZ$11*(LCI!$U$7+1.523*SUM(BZ76:BZ78,BZ80:BZ96)) -> 0 | CA79: =CA$11*(LCI!$AB$7+1.357*SUM(CA76:CA78,CA80:CA96)) -> 0 | CB79: =CB$11*(LCI!$AI$7+1.396*SUM(CB76:CB78,CB80:CB96)) -> 0 | CC79: =CC$11*(LCI!$AP$7+1.25*SUM(CC76:CC78,CC80:CC96)) -> 0 | CD79: =CD$11*(LCI!$G$7+1.419*SUM(CD76:CD78,CD80:CD96)) -> 2.9455144 | CE79: =CE$11*(LCI!$N$7+1.447*SUM(CE76:CE78,CE80:CE96)) -> 0 | CF79: =CF$11*(LCI!$U$7+1.523*SUM(CF76:CF78,CF80:CF96)) -> 0 | CG79: =CG$11*(LCI!$AB$7+1.357*SUM(CG76:CG78,CG80:CG96)) -> 0 | CH79: =CH$11*(LCI!$AI$7+1.396*SUM(CH76:CH78,CH80:CH96)) -> 0 | CI79: =CI$11*(LCI!$AP$7+1.25*SUM(CI76:CI78,CI80:CI96)) -> 0 | CJ79: =CJ$11*(LCI!$G$7+1.419*SUM(CJ76:CJ78,CJ80:CJ96)) -> 2.9387928 | CK79: =CK$11*(LCI!$N$7+1.447*SUM(CK76:CK78,CK80:CK96)) -> 0 | CL79: =CL$11*(LCI!$U$7+1.523*SUM(CL76:CL78,CL80:CL96)) -> 0 | CM79: =CM$11*(LCI!$AB$7+1.357*SUM(CM76:CM78,CM80:CM96)) -> 0 | CN79: =CN$11*(LCI!$AI$7+1.396*SUM(CN76:CN78,CN80:CN96)) -> 0 | CO79: =CO$11*(LCI!$AP$7+1.25*SUM(CO76:CO78,CO80:CO96)) -> 0 | CP79: =CP$11*(LCI!$G$7+1.419*SUM(CP76:CP78,CP80:CP96)) -> 2.0668214 | CQ79: =CQ$11*(LCI!$N$7+1.447*SUM(CQ76:CQ78,CQ80:CQ96)) -> 0 | CR79: =CR$11*(LCI!$U$7+1.523*SUM(CR76:CR78,CR80:CR96)) -> 0 | CS79: =CS$11*(LCI!$AB$7+1.357*SUM(CS76:CS78,CS80:CS96)) -> 0 | CT79: =CT$11*(LCI!$AI$7+1.396*SUM(CT76:CT78,CT80:CT96)) -> 0 | CU79: =CU$11*(LCI!$AP$7+1.25*SUM(CU76:CU78,CU80:CU96)) -> 0
